BEGIN:VCALENDAR
VERSION:2.0
PRODID:-//Le Melville - ECPv6.15.17//NONSGML v1.0//EN
CALSCALE:GREGORIAN
METHOD:PUBLISH
X-WR-CALNAME:Le Melville
X-ORIGINAL-URL:https://lemelville.fr/accueil
X-WR-CALDESC:Évènements pour Le Melville
REFRESH-INTERVAL;VALUE=DURATION:PT1H
X-Robots-Tag:noindex
X-PUBLISHED-TTL:PT1H
BEGIN:VTIMEZONE
TZID:Europe/Paris
BEGIN:DAYLIGHT
TZOFFSETFROM:+0100
TZOFFSETTO:+0200
TZNAME:CEST
DTSTART:20230326T010000
END:DAYLIGHT
BEGIN:STANDARD
TZOFFSETFROM:+0200
TZOFFSETTO:+0100
TZNAME:CET
DTSTART:20231029T010000
END:STANDARD
BEGIN:DAYLIGHT
TZOFFSETFROM:+0100
TZOFFSETTO:+0200
TZNAME:CEST
DTSTART:20240331T010000
END:DAYLIGHT
BEGIN:STANDARD
TZOFFSETFROM:+0200
TZOFFSETTO:+0100
TZNAME:CET
DTSTART:20241027T010000
END:STANDARD
BEGIN:DAYLIGHT
TZOFFSETFROM:+0100
TZOFFSETTO:+0200
TZNAME:CEST
DTSTART:20250330T010000
END:DAYLIGHT
BEGIN:STANDARD
TZOFFSETFROM:+0200
TZOFFSETTO:+0100
TZNAME:CET
DTSTART:20251026T010000
END:STANDARD
END:VTIMEZONE
BEGIN:VEVENT
DTSTART;TZID=Europe/Paris:20241105T203000
DTEND;TZID=Europe/Paris:20241105T230000
DTSTAMP:20260422T165608
CREATED:20241020T032958Z
LAST-MODIFIED:20241020T034310Z
UID:10000655-1730838600-1730847600@lemelville.fr
SUMMARY:Manu Le Prince
DESCRIPTION:Manu Le Prince est la voix aux racines anglo-argentines la plus brésilienne de France. Partageant sa vie depuis plus de vingt ans entre Rio et Paris\, la chanteuse et compositrice puise son inspiration dans le Jazz qui a bercé son enfance et les rythmes de la Samba de sa terre de cœur. Ce soir\, avec elle sur scène Daniel Gassin au piano\, Gerson Saeki à la contrebasse et Julie Saury à la batterie ! \nManu Le Prince: voix \nDaniel Gassin : piano \nGerson Saeki : contrebasse \nJulie Saury : batterie
URL:https://lemelville.fr/accueil/evenements/manu-le-prince/
LOCATION:Le Melville\, 28 Rue Jean Mermoz\, Paris\, 75008\, France
CATEGORIES:Latin Bossa Nova,World
ATTACH;FMTTYPE=image/png:https://lemelville.fr/wp-content/uploads/2024/10/Manu-Le-Prince-Affiche-NF.png
END:VEVENT
BEGIN:VEVENT
DTSTART;TZID=Europe/Paris:20241121T203000
DTEND;TZID=Europe/Paris:20241121T233000
DTSTAMP:20260422T165608
CREATED:20240724T084911Z
LAST-MODIFIED:20241024T090525Z
UID:10000626-1732221000-1732231800@lemelville.fr
SUMMARY:Jorge Castañeda
DESCRIPTION:Jorge Castaneda présente un concert de flamenco traditionnel avec les trois piliers du flamenco ; le chant\, la danse et la guitare. Ce concert est un voyage au cœur de l’Andalousie et une occasion rare de rencontrer ce genre musical à Paris. \n  \nJuan Manuel Junquera : chant \nJorge Castañeda : guitare \nAglaé Ganjei : danse
URL:https://lemelville.fr/accueil/evenements/jorge-castaneda-2/
LOCATION:Le Melville\, 28 Rue Jean Mermoz\, Paris\, 75008\, France
CATEGORIES:Flamenco,World
ATTACH;FMTTYPE=image/png:https://lemelville.fr/wp-content/uploads/2024/07/Jorge-Castaneda-Affiche-Carceller-Aglae-NF-1-1.png
END:VEVENT
BEGIN:VEVENT
DTSTART;TZID=Europe/Paris:20241128T203000
DTEND;TZID=Europe/Paris:20241128T233000
DTSTAMP:20260422T165608
CREATED:20241020T040741Z
LAST-MODIFIED:20241021T070953Z
UID:10000656-1732825800-1732836600@lemelville.fr
SUMMARY:Lazhar ZENNOU
DESCRIPTION:Lazhar ZENNOU à la guitare chante ses déchirantes mélodies arabo-andalouses\, accompagné de Rachid Belharbi au piano\, Khaled Sifi au Cajun\, et Zakaria Bendaoud à la basse. Le premier autodidacte de génie et le second de formation pianistique classique forment avec Khaled et Zak un quatuor bouleversant.  \n  \nLazhar Zennou : chant \nZakaria Bendaoud : basse \nRachid Belharbi : piano \nKhaled Sifi : Cajun
URL:https://lemelville.fr/accueil/evenements/lazhar-zennou-5/
LOCATION:Le Melville\, 28 Rue Jean Mermoz\, Paris\, 75008\, France
CATEGORIES:Arabo-andalou,World
ATTACH;FMTTYPE=image/png:https://lemelville.fr/wp-content/uploads/2023/09/Lazhar-Zennou.png
END:VEVENT
END:VCALENDAR