BEGIN:VCALENDAR
VERSION:2.0
PRODID:-//Le Melville - ECPv6.15.17//NONSGML v1.0//EN
CALSCALE:GREGORIAN
METHOD:PUBLISH
X-WR-CALNAME:Le Melville
X-ORIGINAL-URL:https://lemelville.fr/accueil
X-WR-CALDESC:Évènements pour Le Melville
REFRESH-INTERVAL;VALUE=DURATION:PT1H
X-Robots-Tag:noindex
X-PUBLISHED-TTL:PT1H
BEGIN:VTIMEZONE
TZID:Europe/Paris
BEGIN:DAYLIGHT
TZOFFSETFROM:+0100
TZOFFSETTO:+0200
TZNAME:CEST
DTSTART:20230326T010000
END:DAYLIGHT
BEGIN:STANDARD
TZOFFSETFROM:+0200
TZOFFSETTO:+0100
TZNAME:CET
DTSTART:20231029T010000
END:STANDARD
BEGIN:DAYLIGHT
TZOFFSETFROM:+0100
TZOFFSETTO:+0200
TZNAME:CEST
DTSTART:20240331T010000
END:DAYLIGHT
BEGIN:STANDARD
TZOFFSETFROM:+0200
TZOFFSETTO:+0100
TZNAME:CET
DTSTART:20241027T010000
END:STANDARD
BEGIN:DAYLIGHT
TZOFFSETFROM:+0100
TZOFFSETTO:+0200
TZNAME:CEST
DTSTART:20250330T010000
END:DAYLIGHT
BEGIN:STANDARD
TZOFFSETFROM:+0200
TZOFFSETTO:+0100
TZNAME:CET
DTSTART:20251026T010000
END:STANDARD
END:VTIMEZONE
BEGIN:VEVENT
DTSTART;TZID=Europe/Paris:20241130T210000
DTEND;TZID=Europe/Paris:20241130T233000
DTSTAMP:20260425T153226
CREATED:20240724T005111Z
LAST-MODIFIED:20240724T005111Z
UID:10000632-1733000400-1733009400@lemelville.fr
SUMMARY:4 Caminos
DESCRIPTION:4 Caminos est un groupe de salsa formé en 2017 par de jeunes musiciens parisiens\, issus principalement du jazz\, réunis autour d’une passion commune pour les musiques latines. Au fil du temps\, le groupe s’est spécialisé dans les musiques cubaines plus anciennes qui sont à l’origine du style : le Son Montuno\, le Boléro et la Guajira.  \n   \nChaque membre interprète le style avec sa personnalité et ses influences musicales\, tout en respectant les codes du style. Ils jouent les standards des groupes iconiques tels que le Buena Vista Social Club\, le Septeto Santiaguero\, Willie Colón et bien d’autres.  \n  \nAdrien “dridri” Duterte  : Chant lead\, flûte   \nEloan Haber  : Chant lead\, maracas\, guiro  \nVictor Gasq Guitare tres\, choeurs  \nLouis Prado : Contrebasse\, choeurs  \nSamy Babiker : Percussions\, choeurs 
URL:https://lemelville.fr/accueil/evenements/4-caminos-3/
LOCATION:Le Melville\, 28 Rue Jean Mermoz\, Paris\, 75008\, France
ATTACH;FMTTYPE=image/png:https://lemelville.fr/wp-content/uploads/2024/07/4-Caminos-Affiche-NF-2.png
END:VEVENT
BEGIN:VEVENT
DTSTART;TZID=Europe/Paris:20240907T210000
DTEND;TZID=Europe/Paris:20240907T233000
DTSTAMP:20260425T153226
CREATED:20240705T170442Z
LAST-MODIFIED:20240705T170442Z
UID:10000567-1725742800-1725751800@lemelville.fr
SUMMARY:4 Caminos
DESCRIPTION:4 Caminos est un groupe de salsa formé en 2017 par de jeunes musiciens parisiens\, issus principalement du jazz\, réunis autour d’une passion commune pour les musiques latines. Au fil du temps\, le groupe s’est spécialisé dans les musiques cubaines plus anciennes qui sont à l’origine du style : le Son Montuno\, le Boléro et la Guajira.  \n   \nChaque membre interprète le style avec sa personnalité et ses influences musicales\, tout en respectant les codes du style. Ils jouent les standards des groupes iconiques tels que le Buena Vista Social Club\, le Septeto Santiaguero\, Willie Colón et bien d’autres.  \n  \nAdrien “dridri” Duterte  : Chant lead\, flûte   \nEloan Haber  : Chant lead\, maracas\, guiro  \nVictor Gasq Guitare tres\, choeurs  \nLouis Prado : Contrebasse\, choeurs  \nSamy Babiker : Percussions\, choeurs 
URL:https://lemelville.fr/accueil/evenements/4-caminos-2/
LOCATION:Le Melville\, 28 Rue Jean Mermoz\, Paris\, 75008\, France
ATTACH;FMTTYPE=image/png:https://lemelville.fr/wp-content/uploads/2024/07/4-Caminos-Affiche-NF-2.png
END:VEVENT
BEGIN:VEVENT
DTSTART;TZID=Europe/Paris:20240330T210000
DTEND;TZID=Europe/Paris:20240330T233000
DTSTAMP:20260425T153226
CREATED:20240121T185834Z
LAST-MODIFIED:20240611T094932Z
UID:10000478-1711832400-1711841400@lemelville.fr
SUMMARY:4 Caminos
DESCRIPTION:4 Caminos est un groupe de salsa formé en 2017 par de jeunes musiciens parisiens\, issus principalement du jazz\, réunis autour d’une passion commune pour les musiques latines. Au fil du temps\, le groupe s’est spécialisé dans les musiques cubaines plus anciennes qui sont à l’origine du style : le Son Montuno\, le Boléro et la Guajira.  \n   \nChaque membre interprète le style avec sa personnalité et ses influences musicales\, tout en respectant les codes du style. Ils jouent les standards des groupes iconiques tels que le Buena Vista Social Club\, le Septeto Santiaguero\, Willie Colón et bien d’autres.  \n  \nAdrien “dridri” Duterte  : Chant lead\, flûte   \nEloan Haber  : Chant lead\, maracas\, guiro  \nVictor Gasq Guitare tres\, choeurs  \nLouis Prado : Contrebasse\, choeurs  \nSamy Babiker : Percussions\, choeurs 
URL:https://lemelville.fr/accueil/evenements/4-caminos/
LOCATION:Le Melville\, 28 Rue Jean Mermoz\, Paris\, 75008\, France
ATTACH;FMTTYPE=image/png:https://lemelville.fr/wp-content/uploads/2024/01/4-Caminos-Affiche.png
END:VEVENT
END:VCALENDAR