BEGIN:VCALENDAR
VERSION:2.0
PRODID:-//Le Melville - ECPv6.15.17//NONSGML v1.0//EN
CALSCALE:GREGORIAN
METHOD:PUBLISH
X-ORIGINAL-URL:https://lemelville.fr/accueil
X-WR-CALDESC:Évènements pour Le Melville
REFRESH-INTERVAL;VALUE=DURATION:PT1H
X-Robots-Tag:noindex
X-PUBLISHED-TTL:PT1H
BEGIN:VTIMEZONE
TZID:Europe/Paris
BEGIN:DAYLIGHT
TZOFFSETFROM:+0100
TZOFFSETTO:+0200
TZNAME:CEST
DTSTART:20230326T010000
END:DAYLIGHT
BEGIN:STANDARD
TZOFFSETFROM:+0200
TZOFFSETTO:+0100
TZNAME:CET
DTSTART:20231029T010000
END:STANDARD
BEGIN:DAYLIGHT
TZOFFSETFROM:+0100
TZOFFSETTO:+0200
TZNAME:CEST
DTSTART:20240331T010000
END:DAYLIGHT
BEGIN:STANDARD
TZOFFSETFROM:+0200
TZOFFSETTO:+0100
TZNAME:CET
DTSTART:20241027T010000
END:STANDARD
BEGIN:DAYLIGHT
TZOFFSETFROM:+0100
TZOFFSETTO:+0200
TZNAME:CEST
DTSTART:20250330T010000
END:DAYLIGHT
BEGIN:STANDARD
TZOFFSETFROM:+0200
TZOFFSETTO:+0100
TZNAME:CET
DTSTART:20251026T010000
END:STANDARD
END:VTIMEZONE
BEGIN:VEVENT
DTSTART;TZID=Europe/Paris:20240203T210000
DTEND;TZID=Europe/Paris:20240203T233000
DTSTAMP:20260422T015124
CREATED:20240121T143453Z
LAST-MODIFIED:20240611T094932Z
UID:10000474-1706994000-1707003000@lemelville.fr
SUMMARY:Arlet Feuillard Latin Jazz Ensemble
DESCRIPTION:Pianiste de formation classique\, Arlet Feuillard commence également les percussions très jeune en pratiquant le Gwo Ka (musique traditionnelle Guadeloupéenne). Après avoir notamment étudié la musique classique à l’école de musique du Lamentin (Guadeloupe)\, au CRR de Paris et au Conservatoire Royal de Bruxelles \, il décide finalement de se consacrer au jazz et aux musiques traditionnelles caribéennes\, tant au piano qu’au percussions.  \nIl accompagne des artistes comme Franck Nicolas\, Max Cilla\, Jüde\, ainsi que quelques ensembles de salsa.  \nTrès attiré par les musiques latines\, c’est tout naturellement qu’Arlet nous présente cette formation et ce répertoire issu de rythmiques afro-brésiliennes et afro-latines.\nEntre latin jazz et musiques traditionnelles\, laissez-vous embarquer dans cet univers haut en couleurs \nArlet Feuillard : piano  Miguel Munar : trompette  Elvin Bironien: basse  Samy Babiker : batterie
URL:https://lemelville.fr/accueil/evenements/arlet-feuillard-latin-jazz-ensemble-2/
LOCATION:Le Melville\, 28 Rue Jean Mermoz\, Paris\, 75008\, France
ATTACH;FMTTYPE=image/png:https://lemelville.fr/wp-content/uploads/2024/01/AFLJE-v4.png
END:VEVENT
END:VCALENDAR