BEGIN:VCALENDAR
VERSION:2.0
PRODID:-//Le Melville - ECPv6.15.17//NONSGML v1.0//EN
CALSCALE:GREGORIAN
METHOD:PUBLISH
X-ORIGINAL-URL:https://lemelville.fr/accueil
X-WR-CALDESC:Évènements pour Le Melville
REFRESH-INTERVAL;VALUE=DURATION:PT1H
X-Robots-Tag:noindex
X-PUBLISHED-TTL:PT1H
BEGIN:VTIMEZONE
TZID:Europe/Paris
BEGIN:DAYLIGHT
TZOFFSETFROM:+0100
TZOFFSETTO:+0200
TZNAME:CEST
DTSTART:20240331T010000
END:DAYLIGHT
BEGIN:STANDARD
TZOFFSETFROM:+0200
TZOFFSETTO:+0100
TZNAME:CET
DTSTART:20241027T010000
END:STANDARD
BEGIN:DAYLIGHT
TZOFFSETFROM:+0100
TZOFFSETTO:+0200
TZNAME:CEST
DTSTART:20250330T010000
END:DAYLIGHT
BEGIN:STANDARD
TZOFFSETFROM:+0200
TZOFFSETTO:+0100
TZNAME:CET
DTSTART:20251026T010000
END:STANDARD
BEGIN:DAYLIGHT
TZOFFSETFROM:+0100
TZOFFSETTO:+0200
TZNAME:CEST
DTSTART:20260329T010000
END:DAYLIGHT
BEGIN:STANDARD
TZOFFSETFROM:+0200
TZOFFSETTO:+0100
TZNAME:CET
DTSTART:20261025T010000
END:STANDARD
END:VTIMEZONE
BEGIN:VEVENT
DTSTART;TZID=Europe/Paris:20250717T210000
DTEND;TZID=Europe/Paris:20250717T230000
DTSTAMP:20260422T001458
CREATED:20250715T190014Z
LAST-MODIFIED:20250716T144533Z
UID:10000885-1752786000-1752793200@lemelville.fr
SUMMARY:Blue Moon featuring Marc Berthoumieux
DESCRIPTION:Plongez dans le monde envoûtant du jazz avec le quintet de Henry Kiesel\, Bernard Faulon\, Jean Bardy et Jonathan Orland. Ces légendes du jazz sont des experts dans l’art de rendre la musique vibrante et captivante. Un cocktail musical explosif vous attend ! \nIl seront rejoints ce soir exceptionnel par Marc Berthoumieux. Musicien reconnu de la scène jazz\, et auprès d’artistes tels que Charles Aznavour\, Harry Belafonte\, Maurane\, Gilbert Bécaud\,  Andréa Bocelli\, Placido Domingo\, Dee Dee Bridgewater \, Zaz\, Julien Clerc et beaucoup d’autres\, Marc Berthoumieux a forgé son art\, toujours avec une identité forte et instantanément reconnaissable. \n  \nLes personnalités du quintet sont des légendes du jazz…\nAu côté de Henry Kiesel (contrebasse)\,\nBernard Faulon piano (qui est aussi le patron du Studio de Meudon où ont enregistré et enregistrent les plus grands du Jazz)\,\nJean Bardy\, Trump et Bass\, sideman des plus grands depuis toujours (a joué avec des musiciens comme Chet Baker\, Sonny Stitt\, Johnny Griffin\, Jimmy Cobb\, Nat Adderley\, Roy Haynes\, Georges Arvanitas\, Robin Monsanti\, André Ceccarelli\, Alain Jean-Marie\, Jean-Loup Longnon\, Richard Galliano\, Élisabeth Kontomanou\, Dee Dee Bridgewater\, Pepper Adams\, Kenny Clarke\, Glenn Ferris\, Sara Lazarus\, Flavio Boltro\, François Chassagnite\, Paolo Fresu…)\,\nJonathan Orland Sax (vient de faire un 5eme abum avec Jean-Michel Pilck). \nHenry Kisiel : contrebasse\nBernard Faulon : piano\nJonhatan Orland : sax\nJean Bardy : trompette
URL:https://lemelville.fr/accueil/evenements/blue-moon-7/
LOCATION:Melville-hors-les-murs Bagatelle\, 42 route de Sèvre à Neully\, Paris\, 75116
CATEGORIES:Jazz Standard
ATTACH;FMTTYPE=image/png:https://lemelville.fr/wp-content/uploads/2025/05/Blue-Moon-Bagatelle-Affiche.png
END:VEVENT
BEGIN:VEVENT
DTSTART;TZID=Europe/Paris:20250709T203000
DTEND;TZID=Europe/Paris:20250709T230000
DTSTAMP:20260422T001458
CREATED:20250330T150940Z
LAST-MODIFIED:20250403T061710Z
UID:10000840-1752093000-1752102000@lemelville.fr
SUMMARY:Square Noon
DESCRIPTION:Trois complices\, Alexandre\, Axel et Arlo\, font vibrer le Melville avec leur jazz enflammé. Leur complicité est électrique ! \nTrois amis\, Alexandre\, Axel et Arlo\, enflamment le Melville avec leur musique jazz. La complicité de ces musiciens\, amis de l’Imep\, est palpable. Ensemble ils transportent dans un univers vibrant et plein d’enthousisame. Alexandre au piano\, Axel à la batterie et Arlo à la basse : un trio explosif à découvrir ! \nAlexandre Lombard-Buffet : piano\nAxel Allwright : batterie\nArlo Larde : contrebasse
URL:https://lemelville.fr/accueil/evenements/square-noon-27/
LOCATION:Melville-hors-les-murs Bagatelle\, 42 route de Sèvre à Neully\, Paris\, 75116
CATEGORIES:Jazz Standard
ATTACH;FMTTYPE=image/png:https://lemelville.fr/wp-content/uploads/2025/03/Square-Noon-250625-Affiche-NF.png
END:VEVENT
BEGIN:VEVENT
DTSTART;TZID=Europe/Paris:20250708T203000
DTEND;TZID=Europe/Paris:20250708T230000
DTSTAMP:20260422T001458
CREATED:20250626T084945Z
LAST-MODIFIED:20250626T093637Z
UID:10000923-1752006600-1752015600@lemelville.fr
SUMMARY:COCO CANELA
DESCRIPTION:Rencontre explosive à Paris : Coco Canela\, un cocktail musical caliente où fusionnent le charme de Cuba et l’énergie de la Ville Lumière. Décollage immédiat vers une aventure culturelle enivrante ! 🎶🇨🇺🎵🥂 #CocoCanela \nCoco Canela est la rencontre de trois musiciennes cubaines installées à Paris\, animées par une envie folle de partager leur culture dans notre capitale…. mais c’est à cinq que va s’enflammer la scène de Bagatelle ! \nTeresa Labrada : flûte\, chant\nJuan Manuel Nieto : piano\nAude Publes Garcia : chant\nClara Noll : percussions\, chant\nMonica Lopez : basse\, chant
URL:https://lemelville.fr/accueil/evenements/coco-canela-2/
LOCATION:Melville-hors-les-murs Bagatelle\, 42 route de Sèvre à Neully\, Paris\, 75116
CATEGORIES:Latin Jazz,Latin Salsa
ATTACH;FMTTYPE=image/png:https://lemelville.fr/wp-content/uploads/2025/06/Coco-Canella-Bagatelle-Affiche-2-NF-1.png
END:VEVENT
BEGIN:VEVENT
DTSTART;TZID=Europe/Paris:20250702T203000
DTEND;TZID=Europe/Paris:20250702T230000
DTSTAMP:20260422T001458
CREATED:20250330T145241Z
LAST-MODIFIED:20250401T081237Z
UID:10000838-1751488200-1751497200@lemelville.fr
SUMMARY:Viktor Nyberg Trio
DESCRIPTION:Une rencontre magique entre Etienne Déconfin\, Viktor Nyberg et Rasmus Blixt à Goteborg en 2023 marque le début d’un trio musical exceptionnel. Ensemble\, ils parcourent la France\, l’Espagne et la Suède avant d’enregistrer des standards en 2024.  \nIl y a des rencontres qui marquent une vie\, celle de ces trois musiciens en est un exemple frappant ! Elle a lieu à Goteborg au printemps 2023\, Etienne Déconfin (France) et Viktor Nyberg (France/Suède) qui jouent ensemble depuis 2012 font la connaissance du batteur Rasmus Blixt (Suède).\nS’en suis alors des tournées en France\, Espagne\, Suède\, et un enregistrement de standards au printemps 2024.\nIls ont individuellement joué avec des musiciens comme Ari Hoenig\, Jeremy Pelt\, Jacky Terrasson\, etc…\nLe trio aborde un répertoire de standards et de compositions avec un sens de l’interplay quasi-télépathique où la liberté et la mélodie sont omniprésentes. \nRasmus Blixt : batterie\nViktor Nyberg : contrebasse\nEtienne  Déconfin  : piano
URL:https://lemelville.fr/accueil/evenements/viktor-nyberg-trio-3/
LOCATION:Melville-hors-les-murs Bagatelle\, 42 route de Sèvre à Neully\, Paris\, 75116
CATEGORIES:Jazz Standard
ATTACH;FMTTYPE=image/png:https://lemelville.fr/wp-content/uploads/2025/03/Viktor-Nyberg-Trio-Affiche-NF.png
END:VEVENT
BEGIN:VEVENT
DTSTART;TZID=Europe/Paris:20250618T203000
DTEND;TZID=Europe/Paris:20250618T230000
DTSTAMP:20260422T001458
CREATED:20250330T140119Z
LAST-MODIFIED:20250401T081347Z
UID:10000835-1750278600-1750287600@lemelville.fr
SUMMARY:Gautier Montegu Trio
DESCRIPTION:Le trio de Gautier Montegu\, formé au CMDL\, fusionne brillamment les influences du jazz classique et contemporain\, célébrant des légendes telles que Nat King Cole\, Oscar Peterson et Bill Evans. Une immersion vibrante dans un univers jazz en perpétuelle évolution. 🎶 #Musique #Jazz \nGautier Montegu Trio \nTout droit sorti du CMDL (Centre de Musique Didier Lockwood)\, le trio mené par Gautier Montegu puise ses racines aussi bien chez les fondateurs du jazz que chez ceux qui l’ont fait évoluer au fil des décennies. De Nat King Cole à Gerald Clayton\, en passant par Oscar Peterson et Bill Evans\, il rend hommage à un jazz en mouvement perpétuel qui ne se fige jamais. \nGautier Montegu  : piano\nGuillaume Leguerinel : batterie\nRayan Besançon  : contrebasse
URL:https://lemelville.fr/accueil/evenements/gautier-montegu-trio-5/
LOCATION:Melville-hors-les-murs Bagatelle\, 42 route de Sèvre à Neully\, Paris\, 75116
CATEGORIES:Jazz Standard
ATTACH;FMTTYPE=image/png:https://lemelville.fr/wp-content/uploads/2025/03/Gautier-Montegu-Trio-NF.png
END:VEVENT
BEGIN:VEVENT
DTSTART;TZID=Europe/Paris:20250611T203000
DTEND;TZID=Europe/Paris:20250611T230000
DTSTAMP:20260422T001458
CREATED:20250331T213722Z
LAST-MODIFIED:20250403T061818Z
UID:10000852-1749673800-1749682800@lemelville.fr
SUMMARY:Vik & The Vibe Tribe
DESCRIPTION:Viktorija Gečytė\, originaire de Lituanie\, charme Paris et New York avec son élégance naturelle et son swing captivant. Encensée par la critique\, sa voix envoûtante et son sens du tempo séduisent avec des standards de jazz et compositions personnelles\, s’inspirant de grandes divas du genre. \nOriginaire de Lituanie\, Viktorija Gečytė incarne l’élégance naturelle et le swing\, enthousiasmant le public de Paris à New York avec sa voix envoûtante et son style sophistiqué. Son phrasé de velours\, son swing et son sens parfait du tempo font l’unanimité auprès de la critique et du public. \nLe magazine Seine-Saint-Denis appelle Viktorija « a lady of jazz avec une voix d’ange »\, tandis que le Festival de Jazz et de Blues d’Édimbourg la décrit comme « a class act ». S’inspirant de Carmen McRae\, Anita O’Day et Abbey Lincoln\, elle crée un sentiment de vulnérabilité dans sa narration\, captivant le public avec des standards de jazz classiques et ses propres compositions. \nDepuis plus de 15 ans\, Viktorija a fait des tournées\, enregistré et co-écrit des chansons avec l’éminent bassiste américain Gene Perla\, se produisant à travers l’Europe et les États-Unis. Sa collaboration avec Perla comprend trois albums acclamés\, notamment « In The Moment »\, salué par Couleurs Jazz comme « un disque majeur »\, et douze tournées à succès. \nNicholas Thomas : vibraphone\nViktorija Gecyte : chant\nPeter Giron : contrebasse\, chant\nMourad Benhammou : batterie
URL:https://lemelville.fr/accueil/evenements/vik-the-vibe-tribe/
LOCATION:Melville-hors-les-murs Bagatelle\, 42 route de Sèvre à Neully\, Paris\, 75116
CATEGORIES:Jazz Standard,Vocal Jazz
ATTACH;FMTTYPE=image/png:https://lemelville.fr/wp-content/uploads/2025/03/Vik-the-Vibes-tribe-250611-Affiche-NF.png
END:VEVENT
BEGIN:VEVENT
DTSTART;TZID=Europe/Paris:20250604T203000
DTEND;TZID=Europe/Paris:20250604T230000
DTSTAMP:20260422T001458
CREATED:20250318T135333Z
LAST-MODIFIED:20250401T031017Z
UID:10000826-1749069000-1749078000@lemelville.fr
SUMMARY:The Spicy L'il Devils
DESCRIPTION:La chanteuse écossaise Ali Affleck réveille les années 1920 à Édimbourg avec talent et passion. Accompagnée par des musiciens d’exception\, elle revisite le blues et le jazz avec humour et érudition. Un voyage vibrante et joyeux à ne pas manquer ! \nAli Affleck est une chanteuse écossaise et américaine basée à Édimbourg. Une des quelques spécialistes mondiales du répertoire des années 1920\, elle connaît intimement la vie et le style des grandes chanteuses de blues et de jazz des premières années. Ses représentations sont toujours hautement divertissantes\, notamment car elle sait bien présenter et contextualiser les chansons qu’elle interprète\, en alliant humour et érudition. \nElle apporte une touche très personnelle à un répertoire peu interprété qu’elle défend avec passion. \nCe soir\, elle sera accompagnée de Lorenzo Cortes (guitare et MD)\, Matthieu Meyer (piano)\, rejoints par l’un des meilleurs saxophoniste français\, Michel Pastre. \nCette musique audacieuse est aussi vibrante et pertinente aujourd’hui qu’elle l’était dans les salles de danse des années 1930 et les Spicy l’il Devils ont pour objectif d’embrasser nos oreilles du 21e siècle avec le même ravissement et le même esprit joyeux que les compositeurs originaux ont voulu. \nMathieu Meyer : piano\nMichel Pastre : sax\nAli Afleck : chant\nLorenzo Cortes : guitare
URL:https://lemelville.fr/accueil/evenements/the-spicy-lil-devils/
LOCATION:Melville-hors-les-murs Bagatelle\, 42 route de Sèvre à Neully\, Paris\, 75116
CATEGORIES:Jazz Standard,Swing
ATTACH;FMTTYPE=image/png:https://lemelville.fr/wp-content/uploads/2025/03/Spicy-Lle-Devils-Affiche-NF.png
END:VEVENT
BEGIN:VEVENT
DTSTART;TZID=Europe/Paris:20250521T203000
DTEND;TZID=Europe/Paris:20250521T230000
DTSTAMP:20260422T001458
CREATED:20250318T074152Z
LAST-MODIFIED:20250401T081721Z
UID:10000820-1747859400-1747868400@lemelville.fr
SUMMARY:Ellen Birath et Matthieu Boré
DESCRIPTION:Un duo exceptionnel\, Matthieu Boré et Ellen Birath revisitent les classiques du jazz avec sensibilité et modernité. Boré\, le ‘French Crooner’\, rend le jazz populaire et abordable. Birath\, chanteuse suédoise envoûtante\, mêle swing\, blues et émotions avec une touche nordique unique.  \nMatthieu Boré et Ellen Birath nous entraînent dans une délicieuse soirée de standards\, voix contrebasse. Les crooner classique revisités par ce duo exceptionnel.  \nMatthieu Boré\, on l’appelle aussi le ‘French Crooner’ est chanteur\, pianiste et compositeur. Il démocratise le jazz\, le rendant à nouveau populaire\, abordable\, tout en demeurant de grande qualité et généreux. Mêlant les univers jazz\, rock\, blues\, il convoque les standards qu’il revisite avec une extrême sensibilité.  \nEllen Birath\, chanteuse de jazz suédoise\, enchante par sa voix envoûtante et sa présence captivante. Alliant swing\, blues et modernité\, elle explore des émotions universelles avec une touche nordique singulière. Sur scène\, son authenticité transporte le public dans un univers à la fois intime et vibrant.  \nMatthieu Bore : chant\nEllen Berge Birath : chant\nStephen Binet : piano\nAnne  Gouraud Shrestha : contrebasse\nVincent Touchard : batterie
URL:https://lemelville.fr/accueil/evenements/ellen-birath-et-matthieu-bore-3/
LOCATION:Melville-hors-les-murs Bagatelle\, 42 route de Sèvre à Neully\, Paris\, 75116
CATEGORIES:Jazz Standard,Vocal Jazz
ATTACH;FMTTYPE=image/png:https://lemelville.fr/wp-content/uploads/2025/03/Helene-Birath-Matthieu-Bore-Affiche-NF.png
END:VEVENT
BEGIN:VEVENT
DTSTART;TZID=Europe/Paris:20250514T203000
DTEND;TZID=Europe/Paris:20250514T230000
DTSTAMP:20260422T001458
CREATED:20250317T142109Z
LAST-MODIFIED:20250401T031019Z
UID:10000817-1747254600-1747263600@lemelville.fr
SUMMARY:Chivallon Varaillon Adsuar trio
DESCRIPTION:Simon Chivallon\, prodige du jazz français\, enchante en jonglant entre Monk et les Beatles\, Fauré et Brassens. Inspiré par Brad Mehldau\, ce pianiste doué nous transporte avec son feeling et son lyrisme uniques. Une personnalité jazz indiscutablement captivante. \nPianiste amoureux des chansons. Nouveau talent du jazz hexagonal\, Simon Chivallon s’affirme comme l’un des plus talentueux pianistes de sa génération. Passant avec un égal bonheur de Thelonious Monk aux Beatles\, de Gabriel Fauré à Georges Brassens\, il assume son amour de la mélodie au fil d’un répertoire qui puise sa matière à différentes sources et dont\, inspiré par l’exemple de Brad Mehldau\, il fait son miel d’improvisateur. D’une fraîcheur d’inspiration rare\, ce pianiste doué impose avec brio son feeling et son lyrisme\, affirmant une personnalité pour qui le jazz parle d’évidence. \nSimon Chivallon : piano\nDamien Varaillon : contrebasse\nStephane Adsuar : batterie
URL:https://lemelville.fr/accueil/evenements/chivallon-varaillon-adsuar-trio/
LOCATION:Melville-hors-les-murs Bagatelle\, 42 route de Sèvre à Neully\, Paris\, 75116
CATEGORIES:Jazz Standard
ATTACH;FMTTYPE=image/png:https://lemelville.fr/wp-content/uploads/2025/03/Chivallon-Varaillon-Adsuar-Trio-Affiche-NF.png
END:VEVENT
BEGIN:VEVENT
DTSTART;TZID=Europe/Paris:20250507T203000
DTEND;TZID=Europe/Paris:20250507T230000
DTSTAMP:20260422T001458
CREATED:20250330T163513Z
LAST-MODIFIED:20250430T110752Z
UID:10000844-1746649800-1746658800@lemelville.fr
SUMMARY:Romane - DJM Trio
DESCRIPTION:Trois monstres du Jazz manouche investissent le Melville ! Romane\, entouré de Daniel John Martin et Julien Cattiaux\, promettent une soirée magique et intimiste. Une alchimie parfaite entre les artistes et le public pour une expérience musicale inoubliable. 🎶 \nCes trois monstres du Jazz manouche se produisent de manière exceptionnelle dans l’écrin du Melville. Romane sera accompagné à la contrebasse par Daniel John Martin et à la guitare par Julien Cattiaux. L’intimité avec le public fait écho à celle des artistes pour une soirée qui s’annonce magique. \nRomane : guitare\nDaniel John Martin : violon\nJulien Cattiaux : guitare
URL:https://lemelville.fr/accueil/evenements/romane-djm-trio-2/
LOCATION:Melville-hors-les-murs Bagatelle\, 42 route de Sèvre à Neully\, Paris\, 75116
CATEGORIES:Jazz Standard,Manouche
ATTACH;FMTTYPE=image/png:https://lemelville.fr/wp-content/uploads/2025/03/Romane-DJM-Trio-Affiche-NF.png
END:VEVENT
END:VCALENDAR