BEGIN:VCALENDAR
VERSION:2.0
PRODID:-//Le Melville - ECPv6.15.17//NONSGML v1.0//EN
CALSCALE:GREGORIAN
METHOD:PUBLISH
X-WR-CALNAME:Le Melville
X-ORIGINAL-URL:https://lemelville.fr/accueil
X-WR-CALDESC:Évènements pour Le Melville
REFRESH-INTERVAL;VALUE=DURATION:PT1H
X-Robots-Tag:noindex
X-PUBLISHED-TTL:PT1H
BEGIN:VTIMEZONE
TZID:Europe/Paris
BEGIN:DAYLIGHT
TZOFFSETFROM:+0100
TZOFFSETTO:+0200
TZNAME:CEST
DTSTART:20230326T010000
END:DAYLIGHT
BEGIN:STANDARD
TZOFFSETFROM:+0200
TZOFFSETTO:+0100
TZNAME:CET
DTSTART:20231029T010000
END:STANDARD
BEGIN:DAYLIGHT
TZOFFSETFROM:+0100
TZOFFSETTO:+0200
TZNAME:CEST
DTSTART:20240331T010000
END:DAYLIGHT
BEGIN:STANDARD
TZOFFSETFROM:+0200
TZOFFSETTO:+0100
TZNAME:CET
DTSTART:20241027T010000
END:STANDARD
BEGIN:DAYLIGHT
TZOFFSETFROM:+0100
TZOFFSETTO:+0200
TZNAME:CEST
DTSTART:20250330T010000
END:DAYLIGHT
BEGIN:STANDARD
TZOFFSETFROM:+0200
TZOFFSETTO:+0100
TZNAME:CET
DTSTART:20251026T010000
END:STANDARD
END:VTIMEZONE
BEGIN:VEVENT
DTSTART;TZID=Europe/Paris:20240320T203000
DTEND;TZID=Europe/Paris:20240320T203000
DTSTAMP:20260422T013503
CREATED:20240121T101252Z
LAST-MODIFIED:20240316T142929Z
UID:10000473-1710966600-1710966600@lemelville.fr
SUMMARY:Benjamin Lopez Trio
DESCRIPTION:Après avoir étudié à l’EDIM puis à la prestigieuse New School for Jazz and Contemporary Music à New York\, le guitariste parisien Benjamin Lopez présente son premier disque au Baiser Salé. Autour d’un répertoire de ses compositions\, il réunit un groupe aux influences diverses (John Scofield\, Bill Frisell …) composé de musiciens de choix. Toujours inspiré par la tradition ils présentent une musique résolument moderne.  \nBenjamin Lopez : Guitare\nBaptiste Thiebault : Batterie\nGabriel Midon : Contrebasse
URL:https://lemelville.fr/accueil/evenements/benjamin-lopez-4tet/
LOCATION:Le Melville\, 28 Rue Jean Mermoz\, Paris\, 75008\, France
ATTACH;FMTTYPE=image/png:https://lemelville.fr/wp-content/uploads/2024/01/Benjamin-Lopez-4tet.png
END:VEVENT
END:VCALENDAR