BEGIN:VCALENDAR
VERSION:2.0
PRODID:-//Le Melville - ECPv6.15.17//NONSGML v1.0//EN
CALSCALE:GREGORIAN
METHOD:PUBLISH
X-WR-CALNAME:Le Melville
X-ORIGINAL-URL:https://lemelville.fr/accueil
X-WR-CALDESC:Évènements pour Le Melville
REFRESH-INTERVAL;VALUE=DURATION:PT1H
X-Robots-Tag:noindex
X-PUBLISHED-TTL:PT1H
BEGIN:VTIMEZONE
TZID:Europe/Paris
BEGIN:DAYLIGHT
TZOFFSETFROM:+0100
TZOFFSETTO:+0200
TZNAME:CEST
DTSTART:20230326T010000
END:DAYLIGHT
BEGIN:STANDARD
TZOFFSETFROM:+0200
TZOFFSETTO:+0100
TZNAME:CET
DTSTART:20231029T010000
END:STANDARD
BEGIN:DAYLIGHT
TZOFFSETFROM:+0100
TZOFFSETTO:+0200
TZNAME:CEST
DTSTART:20240331T010000
END:DAYLIGHT
BEGIN:STANDARD
TZOFFSETFROM:+0200
TZOFFSETTO:+0100
TZNAME:CET
DTSTART:20241027T010000
END:STANDARD
BEGIN:DAYLIGHT
TZOFFSETFROM:+0100
TZOFFSETTO:+0200
TZNAME:CEST
DTSTART:20250330T010000
END:DAYLIGHT
BEGIN:STANDARD
TZOFFSETFROM:+0200
TZOFFSETTO:+0100
TZNAME:CET
DTSTART:20251026T010000
END:STANDARD
END:VTIMEZONE
BEGIN:VEVENT
DTSTART;TZID=Europe/Paris:20241016T203000
DTEND;TZID=Europe/Paris:20241016T233000
DTSTAMP:20260425T132148
CREATED:20240707T221428Z
LAST-MODIFIED:20240724T102608Z
UID:10000596-1729110600-1729121400@lemelville.fr
SUMMARY:Ella Rabeson 4tet
DESCRIPTION:Ella Rabeson baigne dans la musique depuis l’enfance bercée par le talent de ses parents musiciens qui lui ont donné ce prénom en l’honneur d’Ella Fitzgerald. En 1996 elle crée son premier quartette de jazz . Aujourd’hui elle interprète avec ses complices les standards du Great American Songbook\, George Gershwin\, Cole Porter\, Jérôme Kern\, Count Basie\, Duke Ellington\, en passant du Swing\, au Blues et à la Bossa Nova.  \nElla Rabeson : chant  \nSebastien Lovato : piano  \nLeila Soldevila : contrebasse  \nGérard Dantec : batterie  \n  \n 
URL:https://lemelville.fr/accueil/evenements/ella-rabson-4tet-2/
LOCATION:Le Melville\, 28 Rue Jean Mermoz\, Paris\, 75008\, France
CATEGORIES:Jazz Standard,Latin Bossa Nova,Swing,Vocal Standard Jazz
ATTACH;FMTTYPE=image/png:https://lemelville.fr/wp-content/uploads/2024/07/Ella-Rabson-Affiche-NF.png
END:VEVENT
END:VCALENDAR