BEGIN:VCALENDAR
VERSION:2.0
PRODID:-//Le Melville - ECPv6.15.17//NONSGML v1.0//EN
CALSCALE:GREGORIAN
METHOD:PUBLISH
X-ORIGINAL-URL:https://lemelville.fr/accueil
X-WR-CALDESC:Évènements pour Le Melville
REFRESH-INTERVAL;VALUE=DURATION:PT1H
X-Robots-Tag:noindex
X-PUBLISHED-TTL:PT1H
BEGIN:VTIMEZONE
TZID:Europe/Paris
BEGIN:DAYLIGHT
TZOFFSETFROM:+0100
TZOFFSETTO:+0200
TZNAME:CEST
DTSTART:20230326T010000
END:DAYLIGHT
BEGIN:STANDARD
TZOFFSETFROM:+0200
TZOFFSETTO:+0100
TZNAME:CET
DTSTART:20231029T010000
END:STANDARD
BEGIN:DAYLIGHT
TZOFFSETFROM:+0100
TZOFFSETTO:+0200
TZNAME:CEST
DTSTART:20240331T010000
END:DAYLIGHT
BEGIN:STANDARD
TZOFFSETFROM:+0200
TZOFFSETTO:+0100
TZNAME:CET
DTSTART:20241027T010000
END:STANDARD
BEGIN:DAYLIGHT
TZOFFSETFROM:+0100
TZOFFSETTO:+0200
TZNAME:CEST
DTSTART:20250330T010000
END:DAYLIGHT
BEGIN:STANDARD
TZOFFSETFROM:+0200
TZOFFSETTO:+0100
TZNAME:CET
DTSTART:20251026T010000
END:STANDARD
END:VTIMEZONE
BEGIN:VEVENT
DTSTART;TZID=Europe/Paris:20241031T203000
DTEND;TZID=Europe/Paris:20241031T230000
DTSTAMP:20260422T235616
CREATED:20240725T144817Z
LAST-MODIFIED:20241025T063927Z
UID:10000643-1730406600-1730415600@lemelville.fr
SUMMARY:Bossa & Cambuci
DESCRIPTION:La sélection d’un répertoire véritablement brésilien est délicate et difficile. \nLes standards ne sont pas les seuls à faire partie de ce riche répertoire. La Bossa Nova étant reconnue comme le jazz brésilien\, les plus belles œuvres de João Gilberto\, Antônio Carlos Jobim\, Carlos Lyra\,  Dorival Caymmi\, Baden Powell et entre autres compositeurs de cette musique unique ne peuvent être oubliées.   \nPour cette occasion\, le piano et la guitare sont les outils choisis pour interpréter la beauté de la musique brésilienne avec douceur et resplendissance.   \nVirginia Cambuci\, née au Brésil\, musicienne\, compositrice et chanteuse\, l’artiste a partagé la scène avec de grands musiciens tels que : Philippe Powell\, Carlinhos Patriolino\, Tito Freitas et d’autres.  \nÀ cette occasion Virginia Cambuci es accompagnée par Julien Coriatt au piano et Caio Marcio Santos à la guitare.   \n  \nPiano: Julien Coriatt  \nGuitare: Caio Marcio Santos   \nChant: Virginia Cambuci 
URL:https://lemelville.fr/accueil/evenements/bossa-cambucci/
LOCATION:Le Melville\, 28 Rue Jean Mermoz\, Paris\, 75008\, France
CATEGORIES:Latin Bossa Nova,World
ATTACH;FMTTYPE=image/png:https://lemelville.fr/wp-content/uploads/2024/07/Bossa-Cambuci-Affiche-NF-V2.png
END:VEVENT
END:VCALENDAR