BEGIN:VCALENDAR
VERSION:2.0
PRODID:-//Le Melville - ECPv6.15.17//NONSGML v1.0//EN
CALSCALE:GREGORIAN
METHOD:PUBLISH
X-ORIGINAL-URL:https://lemelville.fr/accueil
X-WR-CALDESC:Évènements pour Le Melville
REFRESH-INTERVAL;VALUE=DURATION:PT1H
X-Robots-Tag:noindex
X-PUBLISHED-TTL:PT1H
BEGIN:VTIMEZONE
TZID:Europe/Paris
BEGIN:DAYLIGHT
TZOFFSETFROM:+0100
TZOFFSETTO:+0200
TZNAME:CEST
DTSTART:20230326T010000
END:DAYLIGHT
BEGIN:STANDARD
TZOFFSETFROM:+0200
TZOFFSETTO:+0100
TZNAME:CET
DTSTART:20231029T010000
END:STANDARD
BEGIN:DAYLIGHT
TZOFFSETFROM:+0100
TZOFFSETTO:+0200
TZNAME:CEST
DTSTART:20240331T010000
END:DAYLIGHT
BEGIN:STANDARD
TZOFFSETFROM:+0200
TZOFFSETTO:+0100
TZNAME:CET
DTSTART:20241027T010000
END:STANDARD
BEGIN:DAYLIGHT
TZOFFSETFROM:+0100
TZOFFSETTO:+0200
TZNAME:CEST
DTSTART:20250330T010000
END:DAYLIGHT
BEGIN:STANDARD
TZOFFSETFROM:+0200
TZOFFSETTO:+0100
TZNAME:CET
DTSTART:20251026T010000
END:STANDARD
BEGIN:DAYLIGHT
TZOFFSETFROM:+0100
TZOFFSETTO:+0200
TZNAME:CEST
DTSTART:20260329T010000
END:DAYLIGHT
BEGIN:STANDARD
TZOFFSETFROM:+0200
TZOFFSETTO:+0100
TZNAME:CET
DTSTART:20261025T010000
END:STANDARD
END:VTIMEZONE
BEGIN:VEVENT
DTSTART;TZID=Europe/Paris:20250123T203000
DTEND;TZID=Europe/Paris:20250123T233000
DTSTAMP:20260422T002204
CREATED:20241110T165910Z
LAST-MODIFIED:20241110T235554Z
UID:10000660-1737664200-1737675000@lemelville.fr
SUMMARY:Trio Sabor
DESCRIPTION:La Saudade et la Morna capverdiennes s’invitent au Melville ! Le Trio Sabor est formé de Timothée Isnard\, chanteur guitariste franco-capverdien\, Arthur Cayuelas (basse)\, et Nouhem Charliac (baterie). \nTimothée est diplômé du Conservatoire de Paris en guitare jazz et danse.nous emmèneront vers la chaleur du Cap-vert et revisiteront\, entre morna\, coladeira et la saudade\, les mélodies traditionnelles du Cap Vert et les classiques de Ferro Gaita ou Cesaria Evora. \nTimothée Isnard : guitare\,chant  \nArthur Cayuelas : basse \n Nouhem Charliac : batterie 
URL:https://lemelville.fr/accueil/evenements/trio-sabor-3/
LOCATION:Le Melville\, 28 Rue Jean Mermoz\, Paris\, 75008\, France
CATEGORIES:Cap Vert,World
ATTACH;FMTTYPE=image/png:https://lemelville.fr/wp-content/uploads/2024/11/Trio-Sabor-V2-Affiche-NF.png
END:VEVENT
BEGIN:VEVENT
DTSTART;TZID=Europe/Paris:20241219T203000
DTEND;TZID=Europe/Paris:20241219T233000
DTSTAMP:20260422T002204
CREATED:20240121T091931Z
LAST-MODIFIED:20241110T155237Z
UID:10000465-1734640200-1734651000@lemelville.fr
SUMMARY:Capeba
DESCRIPTION:La Saudade et la Morna capverdiennes s’invitent au Melville !  \nLe trio Capeba\, formé de Timothée Isnard\, chanteur guitariste franco-capverdien\, Abel Charzat (violon) et Keïna Etenor (contrebasse) nous emmèneront vers la chaleur du Cap-vert et revisiteront\, entre morna\, coladeira et la saudade\, les mélodies traditionnelles du Cap Vert et les classiques de Ferro Gaita ou Cesaria Evora.  \nLe répertoire de Capeba voyage entre le jazz et le Cap-vert. Vous pourrez entendre le violon alterner aussi bien entre la morna et le blues\, le swing et la coladeira ou le funk et la batuku.  \n  \nThimothée Isnard : guitare chant  \nAbel Charzat : violon  \nKeïna Etenor : Contrebasse 
URL:https://lemelville.fr/accueil/evenements/capeba-3/
LOCATION:Le Melville\, 28 Rue Jean Mermoz\, Paris\, 75008\, France
CATEGORIES:Cap Vert,Jazz Ethno,World
ATTACH;FMTTYPE=image/png:https://lemelville.fr/wp-content/uploads/2024/01/Capeba-V2-NF.png
END:VEVENT
BEGIN:VEVENT
DTSTART;TZID=Europe/Paris:20241205T203000
DTEND;TZID=Europe/Paris:20241205T233000
DTSTAMP:20260422T002204
CREATED:20240724T084435Z
LAST-MODIFIED:20241110T235316Z
UID:10000634-1733430600-1733441400@lemelville.fr
SUMMARY:Trio Sabor
DESCRIPTION:La Saudade et la Morna capverdiennes s’invitent au Melville ! Le Trio Sabor est formé de Timothée Isnard\, chanteur guitariste franco-capverdien\, Arthur Cayuelas (basse)\, et Nouhem Charliac (baterie). \nTimothée est diplômé du Conservatoire de Paris en guitare jazz et danse.nous emmèneront vers la chaleur du Cap-vert et revisiteront\, entre morna\, coladeira et la saudade\, les mélodies traditionnelles du Cap Vert et les classiques de Ferro Gaita ou Cesaria Evora. \nTimothée Isnard : guitare\,chant  \n Abel Charzat : violon  \n Nouhem Charliac : batterie 
URL:https://lemelville.fr/accueil/evenements/trio-sabor-2/
LOCATION:Le Melville\, 28 Rue Jean Mermoz\, Paris\, 75008\, France
CATEGORIES:Cap Vert,World
ATTACH;FMTTYPE=image/png:https://lemelville.fr/wp-content/uploads/2024/07/Trio-Sabor-Affiche-NF.png
END:VEVENT
BEGIN:VEVENT
DTSTART;TZID=Europe/Paris:20240502T203000
DTEND;TZID=Europe/Paris:20240502T203000
DTSTAMP:20260422T002204
CREATED:20240325T202937Z
LAST-MODIFIED:20240325T202937Z
UID:10000495-1714681800-1714681800@lemelville.fr
SUMMARY:Donato Isnard Labaye - Brésil et Cap Vert
DESCRIPTION:Musique brésilienne et cap verdienne avec ce trio formidable. Matheus Donato est l’un des meilleurs cavaquinhistes (il joue sur un très rare cavaquinho à six cordes).  Timothée Isnard nous a habitué à ses déchirantes mélodies cap verdiennes qu’il interprète à la guitare et au chant. Ils seront accompagnés ce soir de Romain Labaye à la contrebasse.  \nMatheus Donato : cavaquino  \nRomain Labaye : basse  \nTimothée Isnard : guitare\, chant  \n 
URL:https://lemelville.fr/accueil/evenements/donato-isnard-labaye-bresil-et-cap-vert/
LOCATION:Le Melville\, 28 Rue Jean Mermoz\, Paris\, 75008\, France
ATTACH;FMTTYPE=image/png:https://lemelville.fr/wp-content/uploads/2024/03/Donato-Isnard-Labaye-Affiche.png
END:VEVENT
BEGIN:VEVENT
DTSTART;TZID=Europe/Paris:20240418T203000
DTEND;TZID=Europe/Paris:20240418T230000
DTSTAMP:20260422T002204
CREATED:20240222T105108Z
LAST-MODIFIED:20240222T105108Z
UID:10000486-1713472200-1713481200@lemelville.fr
SUMMARY:Trio Sabor
DESCRIPTION:La Saudade et la Morna capverdiennes s’invitent au Melville ! Le Trio Sabor est formé de Timothée Isnard\, chanteur guitariste franco-capverdien\, Abel Charzat (violon)\, et Nouhem Charliac (baterie). \nTimothée est diplômé du Conservatoire de Paris en guitare jazz et danse.nous emmèneront vers la chaleur du Cap-vert et revisiteront\, entre morna\, coladeira et la saudade\, les mélodies traditionnelles du Cap Vert et les classiques de Ferro Gaita ou Cesaria Evora. \nTimothée Isnard : guitare\,chant  \n Abel Charzat : violon  \n Nouhem Charliac : batterie 
URL:https://lemelville.fr/accueil/evenements/trio-sabor/
LOCATION:Le Melville\, 28 Rue Jean Mermoz\, Paris\, 75008\, France
ATTACH;FMTTYPE=image/png:https://lemelville.fr/wp-content/uploads/2024/02/Trio-Sabor.png
END:VEVENT
END:VCALENDAR