BEGIN:VCALENDAR
VERSION:2.0
PRODID:-//Le Melville - ECPv6.15.17//NONSGML v1.0//EN
CALSCALE:GREGORIAN
METHOD:PUBLISH
X-ORIGINAL-URL:https://lemelville.fr/accueil
X-WR-CALDESC:Évènements pour Le Melville
REFRESH-INTERVAL;VALUE=DURATION:PT1H
X-Robots-Tag:noindex
X-PUBLISHED-TTL:PT1H
BEGIN:VTIMEZONE
TZID:Europe/Paris
BEGIN:DAYLIGHT
TZOFFSETFROM:+0100
TZOFFSETTO:+0200
TZNAME:CEST
DTSTART:20230326T010000
END:DAYLIGHT
BEGIN:STANDARD
TZOFFSETFROM:+0200
TZOFFSETTO:+0100
TZNAME:CET
DTSTART:20231029T010000
END:STANDARD
BEGIN:DAYLIGHT
TZOFFSETFROM:+0100
TZOFFSETTO:+0200
TZNAME:CEST
DTSTART:20240331T010000
END:DAYLIGHT
BEGIN:STANDARD
TZOFFSETFROM:+0200
TZOFFSETTO:+0100
TZNAME:CET
DTSTART:20241027T010000
END:STANDARD
BEGIN:DAYLIGHT
TZOFFSETFROM:+0100
TZOFFSETTO:+0200
TZNAME:CEST
DTSTART:20250330T010000
END:DAYLIGHT
BEGIN:STANDARD
TZOFFSETFROM:+0200
TZOFFSETTO:+0100
TZNAME:CET
DTSTART:20251026T010000
END:STANDARD
BEGIN:DAYLIGHT
TZOFFSETFROM:+0100
TZOFFSETTO:+0200
TZNAME:CEST
DTSTART:20260329T010000
END:DAYLIGHT
BEGIN:STANDARD
TZOFFSETFROM:+0200
TZOFFSETTO:+0100
TZNAME:CET
DTSTART:20261025T010000
END:STANDARD
END:VTIMEZONE
BEGIN:VEVENT
DTSTART;TZID=Europe/Paris:20250118T210000
DTEND;TZID=Europe/Paris:20250118T233000
DTSTAMP:20260421T235416
CREATED:20241111T161855Z
LAST-MODIFIED:20241111T162148Z
UID:10000667-1737234000-1737243000@lemelville.fr
SUMMARY:Rumba Paname
DESCRIPTION:Rumba Paname\, c’est Arlet Feuillard et son 4tet. C’est un pur son latino américain\, de la salsa et du rythme \nArlet Feuillard : congas  \nJonathan Meyer : basse/chant  \nSamy Babiker : bongas  \nDavid Garrido : piano  \nOn trépigne d’impatience.
URL:https://lemelville.fr/accueil/evenements/rumba-paname/
LOCATION:Le Melville\, 28 Rue Jean Mermoz\, Paris\, 75008\, France
ATTACH;FMTTYPE=image/png:https://lemelville.fr/wp-content/uploads/2024/04/Super-Son-Heroes-Affiche.png
END:VEVENT
BEGIN:VEVENT
DTSTART;TZID=Europe/Paris:20241214T210000
DTEND;TZID=Europe/Paris:20241214T233000
DTSTAMP:20260421T235416
CREATED:20240730T100103Z
LAST-MODIFIED:20241111T162233Z
UID:10000646-1734210000-1734219000@lemelville.fr
SUMMARY:Rumba Paname
DESCRIPTION:Rumba Paname\, c’est Arlet Feuillard et son 4tet. C’est un pur son latino américain\, de la salsa et du rythme \nArlet Feuillard : congas  \nJonathan Meyer : basse/chant  \nSamy Babiker : bongas  \nDavid Garrido : piano  \nOn trépigne d’impatience.
URL:https://lemelville.fr/accueil/evenements/super-son-heroes-copy/
LOCATION:Le Melville\, 28 Rue Jean Mermoz\, Paris\, 75008\, France
ATTACH;FMTTYPE=image/png:https://lemelville.fr/wp-content/uploads/2024/04/Super-Son-Heroes-Affiche.png
END:VEVENT
BEGIN:VEVENT
DTSTART;TZID=Europe/Paris:20241116T210000
DTEND;TZID=Europe/Paris:20241116T233000
DTSTAMP:20260421T235416
CREATED:20241018T134844Z
LAST-MODIFIED:20241018T134844Z
UID:10000650-1731790800-1731799800@lemelville.fr
SUMMARY:Coco Canella
DESCRIPTION:Coco Canela est la rencontre de trois musiciennes cubaines installées à Paris\, animées par l’envie de partager leur culture dans cette merveilleuse ville. \nDeux hermanas françaises partageant cette passion commune pour la musique Cubaine rejoignent le projet. \nTeresa Labrada : Flûte traversière et chœurs\nAddys Lugo : Chant\nClaire Lamothe : Piano\nClara Noll : Percussions et chœurs\nMonica Lopez : Basse
URL:https://lemelville.fr/accueil/evenements/coco-canella-2/
LOCATION:Le Melville\, 28 Rue Jean Mermoz\, Paris\, 75008\, France
ATTACH;FMTTYPE=image/png:https://lemelville.fr/wp-content/uploads/2024/07/Coco-Canella-Affiche-NF.png
END:VEVENT
BEGIN:VEVENT
DTSTART;TZID=Europe/Paris:20241003T203000
DTEND;TZID=Europe/Paris:20241003T230000
DTSTAMP:20260421T235416
CREATED:20240707T195031Z
LAST-MODIFIED:20240707T195031Z
UID:10000568-1727987400-1727996400@lemelville.fr
SUMMARY:La Vuelta
DESCRIPTION:LA VUELTA explore et revisite le répertoire instrumental cubain du\ndébut du siècle dernier : danzón\, danza\, cha cha cha\, autant de genres\nmusicaux peu connus\, rarement interprétés et qui constituent pourtant\nle terreau de ce qu’on a\, plus tard\, communément appelé la « salsa » \nCyrille maillard : Timbales\nClaire Meynadier : Piano\nEric konnert : Congas\nEmmanuel Paillardon : Basse\nEmilie Laroubine : Flûte
URL:https://lemelville.fr/accueil/evenements/la-vuelta/
LOCATION:Le Melville\, 28 Rue Jean Mermoz\, Paris\, 75008\, France
CATEGORIES:World
ATTACH;FMTTYPE=image/png:https://lemelville.fr/wp-content/uploads/2024/07/La-Vuelta-Affiche-NF.png
END:VEVENT
BEGIN:VEVENT
DTSTART;TZID=Europe/Paris:20240914T210000
DTEND;TZID=Europe/Paris:20240914T233000
DTSTAMP:20260421T235416
CREATED:20240711T103524Z
LAST-MODIFIED:20240711T103524Z
UID:10000577-1726347600-1726356600@lemelville.fr
SUMMARY:Coco Canella
DESCRIPTION:Coco Canela est la rencontre de trois musiciennes cubaines installées à Paris\, animées par l’envie de partager leur culture dans cette merveilleuse ville. \nDeux hermanas françaises partageant cette passion commune pour la musique Cubaine rejoignent le projet. \nTeresa Labrada : Flûte traversière et chœurs\nAddys Lugo : Chant\nClaire Lamothe : Piano\nClara Noll : Percussions et chœurs\nMonica Lopez – Basse
URL:https://lemelville.fr/accueil/evenements/coco-canella/
LOCATION:Le Melville\, 28 Rue Jean Mermoz\, Paris\, 75008\, France
ATTACH;FMTTYPE=image/png:https://lemelville.fr/wp-content/uploads/2024/07/Coco-Canella-Affiche-NF.png
END:VEVENT
BEGIN:VEVENT
DTSTART;TZID=Europe/Paris:20240720T210000
DTEND;TZID=Europe/Paris:20240720T233000
DTSTAMP:20260421T235416
CREATED:20240420T084229Z
LAST-MODIFIED:20240611T133200Z
UID:10000545-1721509200-1721518200@lemelville.fr
SUMMARY:Super Son Heroes
DESCRIPTION:Super Son Heroes\, c’est Arlet Feuillard et son 4tet. C’est un pur son latino américain\, de la salsa et du rythme \nArlet Feuillard : congas  \nJonathan Meyer : basse/chant  \nSamy Babiker : bongas  \nDavid Garrido : piano  \nOn trépigne d’impatience.
URL:https://lemelville.fr/accueil/evenements/super-son-heroes-6/
LOCATION:Le Melville\, 28 Rue Jean Mermoz\, Paris\, 75008\, France
ATTACH;FMTTYPE=image/png:https://lemelville.fr/wp-content/uploads/2024/04/Super-Son-Heroes-Affiche.png
END:VEVENT
BEGIN:VEVENT
DTSTART;TZID=Europe/Paris:20240706T210000
DTEND;TZID=Europe/Paris:20240706T233000
DTSTAMP:20260421T235416
CREATED:20240429T102631Z
LAST-MODIFIED:20240611T152508Z
UID:10000553-1720299600-1720308600@lemelville.fr
SUMMARY:Anaïs Ramos
DESCRIPTION:Née à la Havane\, c’est dans l’univers familial qu’Anais trouve la source de sa passion musicale\, bercée au rythme des boleros que lui chante sa grand-mère\, et du piano maternel qui résonne dans toute la maison. Fascinée depuis toute petite par les groupes du quartiers qui se produisent en face de chez elle\, le destin s’en mêle et elle est a son tour repérée par ceux qui l’ont tant fait rêver. C’est au côté de grands noms tels qu’Odelkis Reve\, El Cabo ou encore Chamiso que débute sa carrière\, et qu’elle se produira\, dans tout Cuba avec l’orchestre d’Arnaldo y su Talisman faisant aussi une découvert dans le monde du spectacle au sein de l’équipe d’Havana Night \nLes rencontre artistiques l’amènent à découvrir l’Europe: après Luxembourg et l’Espagne\, Anaïs découvre la France\, et Paris\, la ville des lumières. Elle y fait la rencontre de son compatriote Yosvani Quiros\, avec lequel elle collaborera dans la célèbre formation Fiesta Cubana. Le charme de cette jeune femme à la voix soul et envoutante aura vite raison d’un public Parisien\, conquis. \nOn la retrouvera alors dans les grandes scènes parisiennes\, à Argenteuil\, au Backup ou encore au New Morning. D’autres artistes d’univers très différents décident alors de travailler avec cette chanteuse à la sensibilité a fleur de peau; des rencontres se créent\, métissées. De sa collaboration avec Laurent Hounsavi\, Anaïs retissera le lien entre la Caraïbe et l’Afrique\, et se produira à Hong Kong en 2010. \nEntre Timba et Soul\, laissez vous transporter par cette voix chaude et envoutante. \n  \nAnaïs Ramos : chant \nJosé Palomo : percussion et choeur\nGuillermo Benavides : voix et contrebasse\nManuel Anoyvega : piano et choeur
URL:https://lemelville.fr/accueil/evenements/anais-ramos-copy/
LOCATION:Le Melville\, 28 Rue Jean Mermoz\, Paris\, 75008\, France
ATTACH;FMTTYPE=image/png:https://lemelville.fr/wp-content/uploads/2024/04/Anais-Ramos-Affiche.png
END:VEVENT
BEGIN:VEVENT
DTSTART;TZID=Europe/Paris:20240229T203000
DTEND;TZID=Europe/Paris:20240229T233000
DTSTAMP:20260421T235416
CREATED:20240110T112423Z
LAST-MODIFIED:20240110T112706Z
UID:10000453-1709238600-1709249400@lemelville.fr
SUMMARY:Anaïs Ramos
DESCRIPTION:Née à la Havane\, c’est dans l’univers familial qu’Anais trouve la source de sa passion musicale\, bercée au rythme des boleros que lui chante sa grand-mère\, et du piano maternel qui résonne dans toute la maison. Fascinée depuis toute petite par les groupes du quartiers qui se produisent en face de chez elle\, le destin s’en mêle et elle est a son tour repérée par ceux qui l’ont tant fait rêver. C’est au côté de grands noms tels qu’Odelkis Reve\, El Cabo ou encore Chamiso que débute sa carrière\, et qu’elle se produira\, dans tout Cuba avec l’orchestre d’Arnaldo y su Talisman faisant aussi une découvert dans le monde du spectacle au sein de l’équipe d’Havana Night \nLes rencontre artistiques l’amènent à découvrir l’Europe: après Luxembourg et l’Espagne\, Anaïs découvre la France\, et Paris\, la ville des lumières. Elle y fait la rencontre de son compatriote Yosvani Quiros\, avec lequel elle collaborera dans la célèbre formation Fiesta Cubana. Le charme de cette jeune femme à la voix soul et envoutante aura vite raison d’un public Parisien\, conquis. \nOn la retrouvera alors dans les grandes scènes parisiennes\, à Argenteuil\, au Backup ou encore au New Morning. D’autres artistes d’univers très différents décident alors de travailler avec cette chanteuse à la sensibilité a fleur de peau; des rencontres se créent\, métissées. De sa collaboration avec Laurent Hounsavi\, Anaïs retissera le lien entre la Caraïbe et l’Afrique\, et se produira à Hong Kong en 2010. \nEntre Timba et Soul\, laissez vous transporter par cette voix chaude et envoutante. \n  \nAnaïs Ramos : chant \nJosé Palomo : percussion et choeur\nGuillermo Benavides : voix et contrebasse\nManuel Anoyvega : piano et choeur
URL:https://lemelville.fr/accueil/evenements/987/
LOCATION:Le Melville\, 28 Rue Jean Mermoz\, Paris\, 75008\, France
ATTACH;FMTTYPE=image/png:https://lemelville.fr/wp-content/uploads/2024/01/Anais-Ramos-3.png
END:VEVENT
END:VCALENDAR