BEGIN:VCALENDAR
VERSION:2.0
PRODID:-//Le Melville - ECPv6.15.17//NONSGML v1.0//EN
CALSCALE:GREGORIAN
METHOD:PUBLISH
X-ORIGINAL-URL:https://lemelville.fr/accueil
X-WR-CALDESC:Évènements pour Le Melville
REFRESH-INTERVAL;VALUE=DURATION:PT1H
X-Robots-Tag:noindex
X-PUBLISHED-TTL:PT1H
BEGIN:VTIMEZONE
TZID:Europe/Paris
BEGIN:DAYLIGHT
TZOFFSETFROM:+0100
TZOFFSETTO:+0200
TZNAME:CEST
DTSTART:20230326T010000
END:DAYLIGHT
BEGIN:STANDARD
TZOFFSETFROM:+0200
TZOFFSETTO:+0100
TZNAME:CET
DTSTART:20231029T010000
END:STANDARD
BEGIN:DAYLIGHT
TZOFFSETFROM:+0100
TZOFFSETTO:+0200
TZNAME:CEST
DTSTART:20240331T010000
END:DAYLIGHT
BEGIN:STANDARD
TZOFFSETFROM:+0200
TZOFFSETTO:+0100
TZNAME:CET
DTSTART:20241027T010000
END:STANDARD
BEGIN:DAYLIGHT
TZOFFSETFROM:+0100
TZOFFSETTO:+0200
TZNAME:CEST
DTSTART:20250330T010000
END:DAYLIGHT
BEGIN:STANDARD
TZOFFSETFROM:+0200
TZOFFSETTO:+0100
TZNAME:CET
DTSTART:20251026T010000
END:STANDARD
BEGIN:DAYLIGHT
TZOFFSETFROM:+0100
TZOFFSETTO:+0200
TZNAME:CEST
DTSTART:20260329T010000
END:DAYLIGHT
BEGIN:STANDARD
TZOFFSETFROM:+0200
TZOFFSETTO:+0100
TZNAME:CET
DTSTART:20261025T010000
END:STANDARD
END:VTIMEZONE
BEGIN:VEVENT
DTSTART;TZID=Europe/Paris:20250121T203000
DTEND;TZID=Europe/Paris:20250121T233000
DTSTAMP:20260425T161650
CREATED:20240707T195111Z
LAST-MODIFIED:20241110T165410Z
UID:10000585-1737491400-1737502200@lemelville.fr
SUMMARY:Duvigneau & Midon
DESCRIPTION:Thomas Duvigneau vous propose une soirée piano jazz basée sur les grands standards de l’american songbook. \nDiplômé en 2005 du Conservatoire Royal de La Haye aux Pays-Bas\, il s’installe a Paris et se produit régulièrement dans les clubs de jazz les plus prestigieux. \nSa musique est influencée par ses nombreux voyages et rencontres\, aux USA\, en Europe\, Inde\, Népal où il enseigne au conservatoire de Kathmandu\, Serbie\, Thaïlande et en Israël avec le Batteur légendaire Billy Cobham. \nIl se produit aujourd’hui régulièrement à Paris avec notamment Lukmil Perez\, Gabriel Pierre\, Gabriel Midon\, Gilles Naturel\, Sara Miette\, Ilana Bens etc… \n  \nThomas Duvigneau : piano  \nGabriel Midon : contrebasse
URL:https://lemelville.fr/accueil/evenements/duvigneau-midon-4/
LOCATION:Le Melville\, 28 Rue Jean Mermoz\, Paris\, 75008\, France
CATEGORIES:Jazz Standard
ATTACH;FMTTYPE=image/png:https://lemelville.fr/wp-content/uploads/2024/07/Duvigneau-et-Midon-Affiche-NF-2.png
END:VEVENT
BEGIN:VEVENT
DTSTART;TZID=Europe/Paris:20240910T203000
DTEND;TZID=Europe/Paris:20240910T233000
DTSTAMP:20260425T161650
CREATED:20240705T165812Z
LAST-MODIFIED:20240707T120725Z
UID:10000566-1726000200-1726011000@lemelville.fr
SUMMARY:Duvigneau & Midon
DESCRIPTION:Thomas Duvigneau vous propose une soirée piano jazz basée sur les grands standards de l’american songbook. \nDiplômé en 2005 du Conservatoire Royal de La Haye aux Pays-Bas\, il s’installe a Paris et se produit régulièrement dans les clubs de jazz les plus prestigieux. \nSa musique est influencée par ses nombreux voyages et rencontres\, aux USA\, en Europe\, Inde\, Népal où il enseigne au conservatoire de Kathmandu\, Serbie\, Thaïlande et en Israël avec le Batteur légendaire Billy Cobham. \nIl se produit aujourd’hui régulièrement à Paris avec notamment Lukmil Perez\, Gabriel Pierre\, Gabriel Midon\, Gilles Naturel\, Sara Miette\, Ilana Bens etc… \n  \nThomas Duvigneau : piano  \nGabriel Midon : Saxophone 
URL:https://lemelville.fr/accueil/evenements/duvigneau-midon-3/
LOCATION:Le Melville\, 28 Rue Jean Mermoz\, Paris\, 75008\, France
CATEGORIES:Jazz Standard
ATTACH;FMTTYPE=image/png:https://lemelville.fr/wp-content/uploads/2024/07/Duvigneau-et-Midon-Affiche-NF-2.png
END:VEVENT
END:VCALENDAR