BEGIN:VCALENDAR
VERSION:2.0
PRODID:-//Le Melville - ECPv6.15.17//NONSGML v1.0//EN
CALSCALE:GREGORIAN
METHOD:PUBLISH
X-ORIGINAL-URL:https://lemelville.fr/accueil
X-WR-CALDESC:Évènements pour Le Melville
REFRESH-INTERVAL;VALUE=DURATION:PT1H
X-Robots-Tag:noindex
X-PUBLISHED-TTL:PT1H
BEGIN:VTIMEZONE
TZID:Europe/Paris
BEGIN:DAYLIGHT
TZOFFSETFROM:+0100
TZOFFSETTO:+0200
TZNAME:CEST
DTSTART:20230326T010000
END:DAYLIGHT
BEGIN:STANDARD
TZOFFSETFROM:+0200
TZOFFSETTO:+0100
TZNAME:CET
DTSTART:20231029T010000
END:STANDARD
BEGIN:DAYLIGHT
TZOFFSETFROM:+0100
TZOFFSETTO:+0200
TZNAME:CEST
DTSTART:20240331T010000
END:DAYLIGHT
BEGIN:STANDARD
TZOFFSETFROM:+0200
TZOFFSETTO:+0100
TZNAME:CET
DTSTART:20241027T010000
END:STANDARD
BEGIN:DAYLIGHT
TZOFFSETFROM:+0100
TZOFFSETTO:+0200
TZNAME:CEST
DTSTART:20250330T010000
END:DAYLIGHT
BEGIN:STANDARD
TZOFFSETFROM:+0200
TZOFFSETTO:+0100
TZNAME:CET
DTSTART:20251026T010000
END:STANDARD
END:VTIMEZONE
BEGIN:VEVENT
DTSTART;TZID=Europe/Paris:20240323T213000
DTEND;TZID=Europe/Paris:20240323T230000
DTSTAMP:20260422T014320
CREATED:20240121T095940Z
LAST-MODIFIED:20240121T095940Z
UID:10000472-1711229400-1711234800@lemelville.fr
SUMMARY:Elisa Latin 4tet
DESCRIPTION:La jeune chanteuse franco-vénézuélienne Elisa Lécuyer s’imagine en conteuse de mélodies. Mettant la musicalité au service des paroles\, elle collectionne avant tout les chansons qui racontent des histoires. Avec son Latin 4tet\, elle redécouvre le répertoire de l’Amérique latine de son enfance\, dont les airs l’ont façonnée. Accompagnée au piano de son père\, Laurent Lécuyer\, français ayant vécu de longues années à Caracas\, et des vénézuéliens Manuel Alejandro Sánchez à la contrebasse et Rafael Mejías aux percussions\, ils vous embarquent pour une traversée vers des horizons ensoleillés.  Elisa Lécuyer voix Laurent Lécuyer piano Manuel Alejandro Sanchez cbasse Rafael Mejias percussions 
URL:https://lemelville.fr/accueil/evenements/elisa-latin-4tet/
LOCATION:Le Melville\, 28 Rue Jean Mermoz\, Paris\, 75008\, France
ATTACH;FMTTYPE=image/png:https://lemelville.fr/wp-content/uploads/2024/01/Elisa-Latin-4tet.png
END:VEVENT
END:VCALENDAR