BEGIN:VCALENDAR
VERSION:2.0
PRODID:-//Le Melville - ECPv6.15.17//NONSGML v1.0//EN
CALSCALE:GREGORIAN
METHOD:PUBLISH
X-ORIGINAL-URL:https://lemelville.fr/accueil
X-WR-CALDESC:Évènements pour Le Melville
REFRESH-INTERVAL;VALUE=DURATION:PT1H
X-Robots-Tag:noindex
X-PUBLISHED-TTL:PT1H
BEGIN:VTIMEZONE
TZID:Europe/Paris
BEGIN:DAYLIGHT
TZOFFSETFROM:+0100
TZOFFSETTO:+0200
TZNAME:CEST
DTSTART:20230326T010000
END:DAYLIGHT
BEGIN:STANDARD
TZOFFSETFROM:+0200
TZOFFSETTO:+0100
TZNAME:CET
DTSTART:20231029T010000
END:STANDARD
BEGIN:DAYLIGHT
TZOFFSETFROM:+0100
TZOFFSETTO:+0200
TZNAME:CEST
DTSTART:20240331T010000
END:DAYLIGHT
BEGIN:STANDARD
TZOFFSETFROM:+0200
TZOFFSETTO:+0100
TZNAME:CET
DTSTART:20241027T010000
END:STANDARD
BEGIN:DAYLIGHT
TZOFFSETFROM:+0100
TZOFFSETTO:+0200
TZNAME:CEST
DTSTART:20250330T010000
END:DAYLIGHT
BEGIN:STANDARD
TZOFFSETFROM:+0200
TZOFFSETTO:+0100
TZNAME:CET
DTSTART:20251026T010000
END:STANDARD
END:VTIMEZONE
BEGIN:VEVENT
DTSTART;TZID=Europe/Paris:20240322T203000
DTEND;TZID=Europe/Paris:20240322T233000
DTSTAMP:20260422T013558
CREATED:20240121T092240Z
LAST-MODIFIED:20240312T144640Z
UID:10000466-1711139400-1711150200@lemelville.fr
SUMMARY:Pierre Himeur 4tet
DESCRIPTION:Pierre Himeur (sax)\, Alexandre Lombard-Buffet (piano)\, Arlo Lardé (contrebasse) et Faniry Andrianarisoa (batterie) vitalisent leur musique comme aux premières heures du jazz.\nLa joie communicative de ces amis de promo de l’Imep (Paris College of Music) fait vibrer le Melville sur les standards du Great American Song Books et des rythme Soul et R’nB
URL:https://lemelville.fr/accueil/evenements/galawesh-friends-4/
ATTACH;FMTTYPE=image/png:https://lemelville.fr/wp-content/uploads/2024/01/Pierre-Himeur-4tet.png
END:VEVENT
END:VCALENDAR