BEGIN:VCALENDAR
VERSION:2.0
PRODID:-//Le Melville - ECPv6.15.17//NONSGML v1.0//EN
CALSCALE:GREGORIAN
METHOD:PUBLISH
X-ORIGINAL-URL:https://lemelville.fr/accueil
X-WR-CALDESC:Évènements pour Le Melville
REFRESH-INTERVAL;VALUE=DURATION:PT1H
X-Robots-Tag:noindex
X-PUBLISHED-TTL:PT1H
BEGIN:VTIMEZONE
TZID:Europe/Paris
BEGIN:DAYLIGHT
TZOFFSETFROM:+0100
TZOFFSETTO:+0200
TZNAME:CEST
DTSTART:20230326T010000
END:DAYLIGHT
BEGIN:STANDARD
TZOFFSETFROM:+0200
TZOFFSETTO:+0100
TZNAME:CET
DTSTART:20231029T010000
END:STANDARD
BEGIN:DAYLIGHT
TZOFFSETFROM:+0100
TZOFFSETTO:+0200
TZNAME:CEST
DTSTART:20240331T010000
END:DAYLIGHT
BEGIN:STANDARD
TZOFFSETFROM:+0200
TZOFFSETTO:+0100
TZNAME:CET
DTSTART:20241027T010000
END:STANDARD
BEGIN:DAYLIGHT
TZOFFSETFROM:+0100
TZOFFSETTO:+0200
TZNAME:CEST
DTSTART:20250330T010000
END:DAYLIGHT
BEGIN:STANDARD
TZOFFSETFROM:+0200
TZOFFSETTO:+0100
TZNAME:CET
DTSTART:20251026T010000
END:STANDARD
END:VTIMEZONE
BEGIN:VEVENT
DTSTART;TZID=Europe/Paris:20240405T203000
DTEND;TZID=Europe/Paris:20240405T233000
DTSTAMP:20260422T014320
CREATED:20231104T150329Z
LAST-MODIFIED:20240611T153954Z
UID:10000406-1712349000-1712359800@lemelville.fr
SUMMARY:Victor Demange
DESCRIPTION:Du blues\, du boogie\, du stride. Ça va swinguer ! \nVictor Demange est un pianiste au style original qui a su se faire une place sur la scène française. Régulièrement invité dans les festivals\, il compte plusieurs collaborations prestigieuses comme notamment Bob Baldori\, le pianiste qui a accompagné Chuck Berry pendant plus de 40 ans ou encore Fabrice Eulry\, pianiste français spécialiste du piano stride.\nAccompagné de ses deux musiciens de marque\, Mat Le Rouge au saxophone et Simon Boyer à la batterie\, il propose un style swing\, blues & boogie inspiré du vieux jazz de la Nouvelle Orléans. Il vous étonnera avec un répertoire varié allant de standards à des réarrangements de musique classique toujours dans un style de vieux jazz américain. \n  \nVictor Demange : piano  \nMat Le Rouge : sax  \nSimon Boyer : batterie 
URL:https://lemelville.fr/accueil/evenements/victor-demange-2/
LOCATION:Le Melville\, 28 Rue Jean Mermoz\, Paris\, 75008\, France
CATEGORIES:Stride, Be-Bop
ATTACH;FMTTYPE=image/png:https://lemelville.fr/wp-content/uploads/2023/11/Victor-Demange-Trio-Boyer-Affiche.png
END:VEVENT
BEGIN:VEVENT
DTSTART;TZID=Europe/Paris:20240315T203000
DTEND;TZID=Europe/Paris:20240315T203000
DTSTAMP:20260422T014320
CREATED:20240121T090647Z
LAST-MODIFIED:20240121T090735Z
UID:10000463-1710534600-1710534600@lemelville.fr
SUMMARY:Julien Routtier 4tet
DESCRIPTION:Julien Routtier Quartet est une formation de jazz français formé en 2022 à Dammarie les Lys\,\ndont le répertoire est essentiellement constitué de compositions originales de Julien\nRouttier\, le créateur du projet. Les membres du groupe sont tous issus du Centre des\nMusiques Didier Lockwood. \nLes compositions\, profondes et riches\, s’inscrivent dans le registre du Spiritual Jazz\, inspirées\nen grande partie de Monk\, de Mingus ou de Coltrane\, et se nourrissent de diverses\ninfluences comme le bebop\, le hard bop\, le post bop\, l’Avant-garde jazz…”  \nJulien Routtier : piano  \n Ethan Denis : contrebasse  \n Abdelbari Fannush : saxophone ténor  \n Guillaume Jaboulay : batterie  \n 
URL:https://lemelville.fr/accueil/evenements/julien-routtier-4tet/
LOCATION:Le Melville\, 28 Rue Jean Mermoz\, Paris\, 75008\, France
ATTACH;FMTTYPE=image/png:https://lemelville.fr/wp-content/uploads/2024/01/Julien-Routtier-4tet-Affiche.png
END:VEVENT
BEGIN:VEVENT
DTSTART;TZID=Europe/Paris:20240302T210000
DTEND;TZID=Europe/Paris:20240302T233000
DTSTAMP:20260422T014320
CREATED:20240110T113203Z
LAST-MODIFIED:20240611T094932Z
UID:10000454-1709413200-1709422200@lemelville.fr
SUMMARY:Miguel Munar 6tet
DESCRIPTION:Comme souvent le samedi\, le son de la salsa envahit Le Melville. Ce sextet à l’énergie débordante nous emmènera\, cette fois\, vers Porto Rico dans les parfums du rhum et les rythmes fous. \nLes chemins de ces musiciens se croisent après avoir participé activement au mouvement salsa à Paris. Cette passion pour la salsa les a amenés à partager et fusionner leurs pratiques musicales. La diversité de leurs origines\, de leurs formations et de leurs expériences fait de cette union musicale une expérience enrichissante où la salsa et le folklore colombien avec des touches de latin jazz\, sont les protagonistes. Dans cette occasion\, réunis par le trompettiste Miguel Munar\, ils cherchent à transmettre leur passion pour ce genre musical au public du Melville et à continuer à maintenir la culture salsa vivante et actuelle à travers leur performance en direct.
URL:https://lemelville.fr/accueil/evenements/miguel-munar-6tet/
LOCATION:Le Melville\, 28 Rue Jean Mermoz\, Paris\, 75008\, France
ATTACH;FMTTYPE=image/png:https://lemelville.fr/wp-content/uploads/2023/09/miguel-munar-sextet.png
END:VEVENT
END:VCALENDAR