BEGIN:VCALENDAR
VERSION:2.0
PRODID:-//Le Melville - ECPv6.15.17//NONSGML v1.0//EN
CALSCALE:GREGORIAN
METHOD:PUBLISH
X-ORIGINAL-URL:https://lemelville.fr/accueil
X-WR-CALDESC:Évènements pour Le Melville
REFRESH-INTERVAL;VALUE=DURATION:PT1H
X-Robots-Tag:noindex
X-PUBLISHED-TTL:PT1H
BEGIN:VTIMEZONE
TZID:Europe/Paris
BEGIN:DAYLIGHT
TZOFFSETFROM:+0100
TZOFFSETTO:+0200
TZNAME:CEST
DTSTART:20230326T010000
END:DAYLIGHT
BEGIN:STANDARD
TZOFFSETFROM:+0200
TZOFFSETTO:+0100
TZNAME:CET
DTSTART:20231029T010000
END:STANDARD
BEGIN:DAYLIGHT
TZOFFSETFROM:+0100
TZOFFSETTO:+0200
TZNAME:CEST
DTSTART:20240331T010000
END:DAYLIGHT
BEGIN:STANDARD
TZOFFSETFROM:+0200
TZOFFSETTO:+0100
TZNAME:CET
DTSTART:20241027T010000
END:STANDARD
BEGIN:DAYLIGHT
TZOFFSETFROM:+0100
TZOFFSETTO:+0200
TZNAME:CEST
DTSTART:20250330T010000
END:DAYLIGHT
BEGIN:STANDARD
TZOFFSETFROM:+0200
TZOFFSETTO:+0100
TZNAME:CET
DTSTART:20251026T010000
END:STANDARD
END:VTIMEZONE
BEGIN:VEVENT
DTSTART;TZID=Europe/Paris:20241002T203000
DTEND;TZID=Europe/Paris:20241002T233000
DTSTAMP:20260422T192356
CREATED:20240707T195052Z
LAST-MODIFIED:20240731T183853Z
UID:10000586-1727901000-1727911800@lemelville.fr
SUMMARY:Julia Richard Duo
DESCRIPTION:Chanteuse depuis son plus jeune âge\, Julia est devenue aussi contrebassiste au détour d’un couloir de conservatoire en 2019 lorsque l’un de ses professeurs lui proposa quelques cours. Il ne lui laissa que 30 secondes pour répondre. Elle ne se douta pas un instant que ce « oui » instinctif qu’elle donna\, démarrerait une histoire d’amour mais aussi de travail acharnée. Depuis elle n’a cessé de travailler son instrument\, allant jusqu’à 10 heures par jour\, et moins d’une année après avoir commencé\, elle est admise au Conservatoire Regional de Paris en cursus jazz.Franco-mexicaine\, son univers se  \ndéfinit par un mélange intelligent de musique latine\, d’influences jazz telles que Esperanza Spalding\, Veronica Swift\, Paul Chambers\, Monk\, d’un univers pop où elle emprunte aussi bien à Supertramp\, à Sting\, qu’à Stevie Wonder. Par le passé\, la  chanson française a aussi inspiré son voyage (Edith Piaf\, Serge Gainsbourg\, Barbara) ainsi que le rock (Led Zepplin\, Pink Floyd) et c’est avec une ancienne formation qu’elle a notamment pu jouer à la Boule Noire\, ou encore au Réservoir à Paris.  \nC’est donc via toutes ces influences qu’elle entretient aujourd’hui un style presque indéfinissable dont le liant est sa voix.  \n  \nJulia Richard : contrebasse \nGabriel Ferrari : Batterie
URL:https://lemelville.fr/accueil/evenements/julia-richard-trio-3/
LOCATION:Le Melville\, 28 Rue Jean Mermoz\, Paris\, 75008\, France
CATEGORIES:Jazz Standard
ATTACH;FMTTYPE=image/png:https://lemelville.fr/wp-content/uploads/2024/07/Julia-Richard-Trio-Affiche-NF.png
END:VEVENT
BEGIN:VEVENT
DTSTART;TZID=Europe/Paris:20241010T203000
DTEND;TZID=Europe/Paris:20241010T230000
DTSTAMP:20260422T192357
CREATED:20240726T131231Z
LAST-MODIFIED:20240726T131231Z
UID:10000645-1728592200-1728601200@lemelville.fr
SUMMARY:Gautier Montegu Trio
DESCRIPTION:Tout droit sorti du CMDL (Centre de Musique Didier Lockwood)\, le trio mené par Gautier Montegu puise ses racines aussi bien chez les fondateurs du jazz que chez ceux qui l’ont fait évoluer au fil des décennies. De Nat King Cole à Gerald Clayton\, en passant par Oscar Peterson et Bill Evans\, il rend hommage à un jazz en mouvement perpétuel qui ne se fige jamais.  \n  \nGautier Montegu : piano  \nGuillaume Leguérinel : batterie  \nAyan Besançon : contrebasse 
URL:https://lemelville.fr/accueil/evenements/gautier-montegu-trio-2/
LOCATION:Le Melville\, 28 Rue Jean Mermoz\, Paris\, 75008\, France
CATEGORIES:Hard Bop,Jazz Standard
ATTACH;FMTTYPE=image/png:https://lemelville.fr/wp-content/uploads/2024/07/Gautier-Montegu-Trio-NF.png
END:VEVENT
BEGIN:VEVENT
DTSTART;TZID=Europe/Paris:20241012T210000
DTEND;TZID=Europe/Paris:20241012T233000
DTSTAMP:20260422T192357
CREATED:20240707T214657Z
LAST-MODIFIED:20240921T085654Z
UID:10000594-1728766800-1728775800@lemelville.fr
SUMMARY:Caravan jazz
DESCRIPTION:Une soirée pleine de peps avec un répertoire de standards de Jazz et de Bossa nova brésilienne\, en quartet piano / basse / batterie / voix. Le tout en laissant une large place à l’improvisation et à l’échange avec le public ! Eleonore Langellier\, vocaliste Jazz à l’énergie communicative est accompagnée du jeune et très talentueux Kellian Camus (@kellian_camus\, élève au CNSM et animateur de la Jam Jazz du 38riv) au piano\, de Matthieu Scala à la contrebasse et Jean-Baptiste Loutte\, ce talentueux batteur aux multiples talents. Ensemble ils apporteront une couleur Be-bop frénétique à la soirée. \n  \nEleonore Langelier : chant\nKellian Camus : piano\nMatthieu Scala : contrebasse\nJean-Baptiste Loutte : batterie \n 
URL:https://lemelville.fr/accueil/evenements/caravan-jazz-8/
LOCATION:Le Melville\, 28 Rue Jean Mermoz\, Paris\, 75008\, France
CATEGORIES:Vocal Standard Jazz
ATTACH;FMTTYPE=image/png:https://lemelville.fr/wp-content/uploads/2024/07/Caravan-10-24-Affiche-NF-1.png
END:VEVENT
BEGIN:VEVENT
DTSTART;TZID=Europe/Paris:20241015T203000
DTEND;TZID=Europe/Paris:20241015T233000
DTSTAMP:20260422T192357
CREATED:20240707T215240Z
LAST-MODIFIED:20240707T215415Z
UID:10000595-1729024200-1729035000@lemelville.fr
SUMMARY:Dans la Lune
DESCRIPTION:Blues\, swing\, bossa dans un concert intimiste avec Dans la Lune. \nCes trois compagnons de l’IMEP mêlent les standards aux musiques inspirées de leurs voyages et rencontres. Un merveilleux voyage est proposé par ce trio génial. \nAttention places limitées ! \n  \nGrace Jennings : chant\nConstantin de Masse : piano guitare\nBaptiste Aspar : basse
URL:https://lemelville.fr/accueil/evenements/dans-la-lune-4/
LOCATION:Le Melville\, 28 Rue Jean Mermoz\, Paris\, 75008\, France
CATEGORIES:Vocal Standard Jazz
ATTACH;FMTTYPE=image/png:https://lemelville.fr/wp-content/uploads/2024/05/Dans-la-lune-Affiche-1.png
END:VEVENT
BEGIN:VEVENT
DTSTART;TZID=Europe/Paris:20241016T203000
DTEND;TZID=Europe/Paris:20241016T233000
DTSTAMP:20260422T192357
CREATED:20240707T221428Z
LAST-MODIFIED:20240724T102608Z
UID:10000596-1729110600-1729121400@lemelville.fr
SUMMARY:Ella Rabeson 4tet
DESCRIPTION:Ella Rabeson baigne dans la musique depuis l’enfance bercée par le talent de ses parents musiciens qui lui ont donné ce prénom en l’honneur d’Ella Fitzgerald. En 1996 elle crée son premier quartette de jazz . Aujourd’hui elle interprète avec ses complices les standards du Great American Songbook\, George Gershwin\, Cole Porter\, Jérôme Kern\, Count Basie\, Duke Ellington\, en passant du Swing\, au Blues et à la Bossa Nova.  \nElla Rabeson : chant  \nSebastien Lovato : piano  \nLeila Soldevila : contrebasse  \nGérard Dantec : batterie  \n  \n 
URL:https://lemelville.fr/accueil/evenements/ella-rabson-4tet-2/
LOCATION:Le Melville\, 28 Rue Jean Mermoz\, Paris\, 75008\, France
CATEGORIES:Jazz Standard,Latin Bossa Nova,Swing,Vocal Standard Jazz
ATTACH;FMTTYPE=image/png:https://lemelville.fr/wp-content/uploads/2024/07/Ella-Rabson-Affiche-NF.png
END:VEVENT
BEGIN:VEVENT
DTSTART;TZID=Europe/Paris:20241018T203000
DTEND;TZID=Europe/Paris:20241018T233000
DTSTAMP:20260422T192357
CREATED:20240724T083719Z
LAST-MODIFIED:20240724T083719Z
UID:10000604-1729283400-1729294200@lemelville.fr
SUMMARY:Blue waltz 4tet
DESCRIPTION:Björn Ingelstam est l’un des jeunes trompettistes les plus en vue de la scène jazz européenne. Suédois et installé à Paris depuis cinq années\, ses talents d’instrumentiste et sa profonde connaissance du jazz classique font de lui un musicien complet.   \nFélix Hunot est quant à lui reconnu comme un accompagnateur de premier plan en France. Lui aussi érudit du jazz\, il développe un jeu à la fois solide et sensible qui apporte une grande cohésion à la musique.  \nCes deux musiciens s’associent dans le projet de redonner vie à de magnifiques mélodies injustement oubliées. Fats Waller\, les Mills Brothers\, Louis Armstrong\, Billie Holiday… autant de grands musiciens qui ont su mettre en relief les contours de superbes compositions d’hier\, tombées dans l’oubli aujourd’hui. Bjorn et Félix sauront les raviver le temps d’un concert.    \nAccompagné de Raphaël Dever (cb) et Vincent Frade (dms)\, ils composent à eux quatre un orchestre européen de tout premier plan.  \n  \nBjörn Ingelstam : trompette  \nFélix Hunot : guitare  \nRaphaël Dever : contrebasse  \nVincent Frade : batterie  \n 
URL:https://lemelville.fr/accueil/evenements/blue-waltz-4tet/
LOCATION:Le Melville\, 28 Rue Jean Mermoz\, Paris\, 75008\, France
CATEGORIES:Jazz Standard
ATTACH;FMTTYPE=image/png:https://lemelville.fr/wp-content/uploads/2024/07/Blue-Waltz-Affiche-NF.png
END:VEVENT
BEGIN:VEVENT
DTSTART;TZID=Europe/Paris:20241019T210000
DTEND;TZID=Europe/Paris:20241019T233000
DTSTAMP:20260422T192357
CREATED:20240724T085238Z
LAST-MODIFIED:20240928T131937Z
UID:10000605-1729371600-1729380600@lemelville.fr
SUMMARY:Swing That !
DESCRIPTION:SWING THAT ! rend hommage au swing populaire  \n De la Nouvelle-Orléans aux comédies musicales en passant par les succès de Nat King Cole ou de Benny Goodman\, on a tous quelque part en tête ces jolies mélodies qui nous font claquer des doigts et nous racontent de belles histoires.  \nSWING THAT rend hommage à ce répertoire\, en distillant avec amour une sélection d’airs in french ou en anglais qui vous ferons fredonner certains passages à coup sûr…  \n… et pourquoi pas danser puisque Swing That a aussi pour vocation d’accompagner les bals-swing\, redevenus très en vogue à Paris.  \nGeorges Wolfaardt : contrebasse  \nAmaury Faye : piano  \nAdrien Tarraga : Guitare \nDavid Lesprit clarinette\, sax s\, chant. 
URL:https://lemelville.fr/accueil/evenements/swing-that-4/
LOCATION:Le Melville\, 28 Rue Jean Mermoz\, Paris\, 75008\, France
CATEGORIES:New Orleans,Stride, Be-Bop,Swing
ATTACH;FMTTYPE=image/png:https://lemelville.fr/wp-content/uploads/2024/07/SWING-THAT-Affiche-NF-1.png
END:VEVENT
BEGIN:VEVENT
DTSTART;TZID=Europe/Paris:20241024T203000
DTEND;TZID=Europe/Paris:20241024T233000
DTSTAMP:20260422T192357
CREATED:20240724T090431Z
LAST-MODIFIED:20240724T091214Z
UID:10000608-1729801800-1729812600@lemelville.fr
SUMMARY:Guezbar & Torracinta
DESCRIPTION:Hugo et Fanou font “chanter” leurs guitares au Melville \nOriginaire de l’ile de beauté\, Fanou Torracinta est un guitariste de jazz âgé de 28 ans. Dès son plus jeune âge\, il se confronte aux meilleurs musiciens du style\, souvent de passage en Corse pour jouer dans les festivals d’été. Il s’imprègne de leurs jeux avec ferveur\, découvre les sonorités manouches de la musique de Django Reinhardt. Il rêve de les imiter. \nFanou Torracinta évolue aujourd’hui dans le milieu jazz et manouche parisien. Il forme son nouveau groupe en 2019 toujours avec William Brunard ainsi qu’avec Benji Winterstein. La composition est de plus en plus présente chez le guitariste qui sortira un nouvel album en 2021 intitulé « Gipsy guitar from Corsica ». Un répertoire assez personnel faisant un lien entre ses influences corses et manouches. En 2023 sortira le deuxième volume de ce projet\, toujours articulé autour des compositions du guitaristes\, mais avec un jeu de groupe plus fort\, un piano plus présent… À découvrir très bientôt! \nIl est accompagné ce soir par Hugo Guezbar. \nHugo est sans doute l’un des guitaristes les plus doués de sa génération\, un jeu éblouissant\, mélodique et inspiré ! Un artiste à ne pas manquer ! \n  \nHugo Guezbar : guitare  \nFanou Torancinta : guitare 
URL:https://lemelville.fr/accueil/evenements/guezbar-torracinta/
LOCATION:Le Melville\, 28 Rue Jean Mermoz\, Paris\, 75008\, France
CATEGORIES:Jazz Standard,Manouche
ATTACH;FMTTYPE=image/png:https://lemelville.fr/wp-content/uploads/2024/07/Guezbar-et-Torancinta-Affiche-NF.png
END:VEVENT
BEGIN:VEVENT
DTSTART;TZID=Europe/Paris:20241025T203000
DTEND;TZID=Europe/Paris:20241025T233000
DTSTAMP:20260422T192357
CREATED:20240724T090421Z
LAST-MODIFIED:20240724T091249Z
UID:10000609-1729888200-1729899000@lemelville.fr
SUMMARY:Valérie Benzaquine Trio
DESCRIPTION:La pianiste Valérie Benzaquine se produit régulièrement en France ainsi qu’à l’étranger\, en tant que soliste\, ou au sein de nombreuses formations. Avec son jeu empreint de lyrisme et d’une intensité rythmique étonnante\, elle explore avec ses partenaires le répertoire du trio jazz pour offrir ce qu’il y a de plus chantant\, avec un swing omniprésent.   Sa musique illustre à la perfection la définition du jazz donnée par la grande pianiste Marian McPartland : « Qu’est-ce qu’un musicien de jazz ? C’est une bonne question. La technique\, le swing\, l’improvisation\, le sens de l’humour\, jouer dans n’importe quel ton. Toutes ces choses ! »  Valérie Benzaquine  : piano \nBenoît Dunoyer de Segonzac : contrebasse \nGermain Cornet : batterie
URL:https://lemelville.fr/accueil/evenements/valerie-benzaquine-trio-2/
LOCATION:Le Melville\, 28 Rue Jean Mermoz\, Paris\, 75008\, France
CATEGORIES:Jazz Standard
ATTACH;FMTTYPE=image/png:https://lemelville.fr/wp-content/uploads/2024/07/Valerie-Benzaquine-trio-Affiche-Nf.png
END:VEVENT
END:VCALENDAR