BEGIN:VCALENDAR
VERSION:2.0
PRODID:-//Le Melville - ECPv6.15.17//NONSGML v1.0//EN
CALSCALE:GREGORIAN
METHOD:PUBLISH
X-WR-CALNAME:Le Melville
X-ORIGINAL-URL:https://lemelville.fr/accueil
X-WR-CALDESC:Évènements pour Le Melville
REFRESH-INTERVAL;VALUE=DURATION:PT1H
X-Robots-Tag:noindex
X-PUBLISHED-TTL:PT1H
BEGIN:VTIMEZONE
TZID:Europe/Paris
BEGIN:DAYLIGHT
TZOFFSETFROM:+0100
TZOFFSETTO:+0200
TZNAME:CEST
DTSTART:20230326T010000
END:DAYLIGHT
BEGIN:STANDARD
TZOFFSETFROM:+0200
TZOFFSETTO:+0100
TZNAME:CET
DTSTART:20231029T010000
END:STANDARD
BEGIN:DAYLIGHT
TZOFFSETFROM:+0100
TZOFFSETTO:+0200
TZNAME:CEST
DTSTART:20240331T010000
END:DAYLIGHT
BEGIN:STANDARD
TZOFFSETFROM:+0200
TZOFFSETTO:+0100
TZNAME:CET
DTSTART:20241027T010000
END:STANDARD
BEGIN:DAYLIGHT
TZOFFSETFROM:+0100
TZOFFSETTO:+0200
TZNAME:CEST
DTSTART:20250330T010000
END:DAYLIGHT
BEGIN:STANDARD
TZOFFSETFROM:+0200
TZOFFSETTO:+0100
TZNAME:CET
DTSTART:20251026T010000
END:STANDARD
END:VTIMEZONE
BEGIN:VEVENT
DTSTART;TZID=Europe/Paris:20241101T203000
DTEND;TZID=Europe/Paris:20241101T233000
DTSTAMP:20260422T180559
CREATED:20240724T085522Z
LAST-MODIFIED:20241024T080722Z
UID:10000613-1730493000-1730503800@lemelville.fr
SUMMARY:Jean-Baptiste Franc Trio : Eroll Garner Mood
DESCRIPTION:Champion du monde de piano stride 2018 au concours international de l’université Ole Miss du Mississippi aux Etats Unis.  \n ¨Prix du hot club de France Pianiste 2022″ pour le cd paru chez socadisc  \n  \nJean Baptiste Franc sonne comme le frère jumeau de Erroll Garner” (Scott Yanow\, pour le journal américain Syncopated times)  \nIssu d’une famille de musiciens\, Jean Baptiste Franc\, pianiste de swing\, stride et blues surnommé “Little Fats” par le guitariste de Fats Waller\, Al Casey remporte le 1er prix du concours international de piano stride organisé par l’université Ole Miss du Mississippi en mai 2018.  \nIl a déjà eu le privilège de jouer avec Arwell Shaw\, le contrebassiste de Louis Armstrong et a obtenu les encouragements de Wynton Marsalis et Monty Alexander pour son 1 er cd enregistré avec le batteur de Count Basie: Duffy Jackson.  \nEn 2010 il enregistre un disque de compositions originales avec Melody Federer à Hollywood produit par le chanteur Pat Boon.  \nIl s’est déjà produit à l’Olympia en 2015\, au Victoria Hall de Genève en 2019\, Symphony Space de New York ainsi qu’aux Opéras de Dresde et Francfort en Allemagne et a enregistré des émissions pour France Musique et TSF.  \nEn 2022\, nouveau cd: “Garner in my mind” avec Yann-Lou Bertrand à la contrebasse et Mourad Benhamou à la batterie.  \n -LP produit par JC Hopkins\, compositeur New Yorkais\, producteur de Norah Jones\, Madeleine Peyroux…  \n  \nJean-Baptiste Franc : piano  \nAmaity : contrebasse \nMourad Benhamou : batterie \n 
URL:https://lemelville.fr/accueil/evenements/jean-baptiste-franc-trio-eroll-garner-mood-2/
LOCATION:Le Melville\, 28 Rue Jean Mermoz\, Paris\, 75008\, France
CATEGORIES:Jazz Standard,Swing
ATTACH;FMTTYPE=image/png:https://lemelville.fr/wp-content/uploads/2024/07/Jean-Baptiste-Franc-trio-Affiche-NF.png
END:VEVENT
BEGIN:VEVENT
DTSTART;TZID=Europe/Paris:20241106T203000
DTEND;TZID=Europe/Paris:20241106T233000
DTSTAMP:20260422T180559
CREATED:20240724T085511Z
LAST-MODIFIED:20240904T130458Z
UID:10000615-1730925000-1730935800@lemelville.fr
SUMMARY:Blue Moon
DESCRIPTION:Quand des amoureux de Miles Davis\, de Chet Baker et de John Coltrane se rencontrent\, cela devient Blue Moon\, un groupe de musiciens heureux de partager leurs passions \nJonathan Orland : sax \nBernard Faulon : piano \nHenry Kisiel : contrebasse \nJean Bardy : trompette \nVincent Frade : batterie
URL:https://lemelville.fr/accueil/evenements/blue-moon-5/
LOCATION:Le Melville\, 28 Rue Jean Mermoz\, Paris\, 75008\, France
CATEGORIES:Jazz Standard
ATTACH;FMTTYPE=image/png:https://lemelville.fr/wp-content/uploads/2024/07/Blue-Moon-Affiche-NF-V2.png
END:VEVENT
BEGIN:VEVENT
DTSTART;TZID=Europe/Paris:20241107T203000
DTEND;TZID=Europe/Paris:20241107T233000
DTSTAMP:20260422T180559
CREATED:20240724T085503Z
LAST-MODIFIED:20240724T091410Z
UID:10000617-1731011400-1731022200@lemelville.fr
SUMMARY:Elisa Latin 4tet
DESCRIPTION:La jeune chanteuse franco-vénézuélienne Elisa Lécuyer s’imagine en conteuse de mélodies. Mettant la musicalité au service des paroles\, elle collectionne avant tout les chansons qui racontent des histoires. Avec son Latin 4tet\, elle redécouvre le répertoire de l’Amérique latine de son enfance\, dont les airs l’ont façonnée. Accompagnée au piano de son père\, Laurent Lécuyer\, français ayant vécu de longues années à Caracas\, et des vénézuéliens Manuel Alejandro Sánchez à la contrebasse et Rafael Mejías aux percussions\, ils vous embarquent pour une traversée vers des horizons ensoleillés.  Elisa Lécuyer voix Laurent Lécuyer piano Manuel Alejandro Sanchez cbasse Rafael Mejias percussions 
URL:https://lemelville.fr/accueil/evenements/elisa-latin-4tet-2/
LOCATION:Le Melville\, 28 Rue Jean Mermoz\, Paris\, 75008\, France
CATEGORIES:Jazz Standard,Vocal Standard Jazz
ATTACH;FMTTYPE=image/png:https://lemelville.fr/wp-content/uploads/2024/07/Elisa-Latin-4tet-Affiche-NF.png
END:VEVENT
BEGIN:VEVENT
DTSTART;TZID=Europe/Paris:20241109T210000
DTEND;TZID=Europe/Paris:20241109T233000
DTSTAMP:20260422T180559
CREATED:20241018T142322Z
LAST-MODIFIED:20241018T142528Z
UID:10000653-1731186000-1731195000@lemelville.fr
SUMMARY:Anna Stevens 5tet
DESCRIPTION:Anna Stevens est passionnée de swing. Chanteuse et danseuse\, elle s’exprime avec plaisir et engagement dans tout le répertoire des années 30 à 40. Avec son quintet composé de musiciens internationaux\, ils revisitent Ella Fitzgerald\, Nat King Cole\, Fats Waller\, Sarah Vaughan\, Mel Torme\, Frank Sinatra et tous les plus grands noms du swing. Anna Stevens propose un répertoire joyeux et élégant avec une interprétation personnelle et sensible\, en tissant une grande complicité avec le public.  \nCe quintet joue sur les scènes du monde entier\, que ce soit pour des festivals de jazz\, pour des soirées de danses swing ou encore pour des événements de prestige comme le Bal de l’X à l’Opéra Garnier et les soirées de la Maison Dior .\n  \nchant : Anna Stevens  \ntrompette : Hillel Salem  \npiano : Galaad Moutoz  \ncontrebasse : Fabricio Nicolas-Garcia  \nbatterie : Malte Arndal 
URL:https://lemelville.fr/accueil/evenements/anna-stevens-5tet-2/
LOCATION:Le Melville\, 28 Rue Jean Mermoz\, Paris\, 75008\, France
CATEGORIES:Vocal Standard Jazz
ATTACH;FMTTYPE=image/png:https://lemelville.fr/wp-content/uploads/2024/10/Anna-Stevens-5tet-Affiche-NF-Affiche-NF.png
END:VEVENT
BEGIN:VEVENT
DTSTART;TZID=Europe/Paris:20241114T203000
DTEND;TZID=Europe/Paris:20241114T233000
DTSTAMP:20260422T180559
CREATED:20240724T085347Z
LAST-MODIFIED:20241111T155319Z
UID:10000621-1731616200-1731627000@lemelville.fr
SUMMARY:Jeribà
DESCRIPTION:Jeribá est une expérience musicale à part entière qui fusionne habilement la musique brésilienne classique avec le jazz. Composé d’un quatuor instrumental talentueux (flûte\, guitare\, basse\, batterie)\, ce groupe présente des interprétations raffinées et captivantes de morceaux emblématiques de Guinga\, Baden Powell\, De Holanda\, Sivuca\, Gismonti\, Nascimento\, Pipoquinha\, Pascoal\, entre autres.  \nLeurs arrangements subtils et leurs performances passionnées offrent une expérience auditive unique\, où la profondeur des rythmes rencontre l’élégance mélodique.  \n  \nYoorim Won : flute   \nMiguel Couto : batterie  \nCaio Márcio Santos : guitare  \nManu Paillardon : basse \nhttp://lemelville.fr/wp-content/uploads/2024/07/WhatsApp-Video-2024-11-11-a-16.50.50_f9f7bfe1.mp4
URL:https://lemelville.fr/accueil/evenements/jeriba-2/
LOCATION:Le Melville\, 28 Rue Jean Mermoz\, Paris\, 75008\, France
CATEGORIES:Jazz Standard
ATTACH;FMTTYPE=image/png:https://lemelville.fr/wp-content/uploads/2024/07/Jeriba-Affiche-NF.png
END:VEVENT
BEGIN:VEVENT
DTSTART;TZID=Europe/Paris:20241130T210000
DTEND;TZID=Europe/Paris:20241130T233000
DTSTAMP:20260422T180559
CREATED:20240724T005111Z
LAST-MODIFIED:20240724T005111Z
UID:10000632-1733000400-1733009400@lemelville.fr
SUMMARY:4 Caminos
DESCRIPTION:4 Caminos est un groupe de salsa formé en 2017 par de jeunes musiciens parisiens\, issus principalement du jazz\, réunis autour d’une passion commune pour les musiques latines. Au fil du temps\, le groupe s’est spécialisé dans les musiques cubaines plus anciennes qui sont à l’origine du style : le Son Montuno\, le Boléro et la Guajira.  \n   \nChaque membre interprète le style avec sa personnalité et ses influences musicales\, tout en respectant les codes du style. Ils jouent les standards des groupes iconiques tels que le Buena Vista Social Club\, le Septeto Santiaguero\, Willie Colón et bien d’autres.  \n  \nAdrien “dridri” Duterte  : Chant lead\, flûte   \nEloan Haber  : Chant lead\, maracas\, guiro  \nVictor Gasq Guitare tres\, choeurs  \nLouis Prado : Contrebasse\, choeurs  \nSamy Babiker : Percussions\, choeurs 
URL:https://lemelville.fr/accueil/evenements/4-caminos-3/
LOCATION:Le Melville\, 28 Rue Jean Mermoz\, Paris\, 75008\, France
ATTACH;FMTTYPE=image/png:https://lemelville.fr/wp-content/uploads/2024/07/4-Caminos-Affiche-NF-2.png
END:VEVENT
END:VCALENDAR