BEGIN:VCALENDAR
VERSION:2.0
PRODID:-//Le Melville - ECPv6.15.17//NONSGML v1.0//EN
CALSCALE:GREGORIAN
METHOD:PUBLISH
X-ORIGINAL-URL:https://lemelville.fr/accueil
X-WR-CALDESC:Évènements pour Le Melville
REFRESH-INTERVAL;VALUE=DURATION:PT1H
X-Robots-Tag:noindex
X-PUBLISHED-TTL:PT1H
BEGIN:VTIMEZONE
TZID:Europe/Paris
BEGIN:DAYLIGHT
TZOFFSETFROM:+0100
TZOFFSETTO:+0200
TZNAME:CEST
DTSTART:20240331T010000
END:DAYLIGHT
BEGIN:STANDARD
TZOFFSETFROM:+0200
TZOFFSETTO:+0100
TZNAME:CET
DTSTART:20241027T010000
END:STANDARD
BEGIN:DAYLIGHT
TZOFFSETFROM:+0100
TZOFFSETTO:+0200
TZNAME:CEST
DTSTART:20250330T010000
END:DAYLIGHT
BEGIN:STANDARD
TZOFFSETFROM:+0200
TZOFFSETTO:+0100
TZNAME:CET
DTSTART:20251026T010000
END:STANDARD
BEGIN:DAYLIGHT
TZOFFSETFROM:+0100
TZOFFSETTO:+0200
TZNAME:CEST
DTSTART:20260329T010000
END:DAYLIGHT
BEGIN:STANDARD
TZOFFSETFROM:+0200
TZOFFSETTO:+0100
TZNAME:CET
DTSTART:20261025T010000
END:STANDARD
END:VTIMEZONE
BEGIN:VEVENT
DTSTART;TZID=Europe/Paris:20250111T210000
DTEND;TZID=Europe/Paris:20250111T233000
DTSTAMP:20260422T182118
CREATED:20240707T200004Z
LAST-MODIFIED:20250110T000148Z
UID:10000579-1736629200-1736638200@lemelville.fr
SUMMARY:Nancy Murillo
DESCRIPTION:Après des études de chant\, de danse et d’art dramatique et des collaborations avec les groupes Bahia et Azul Amazonas dans son pays natal la Colombie\, Nancy Murillo arrive en Europe en 1993 où elle met depuis le feu à de nombreux festivals et soirées de musiques latines. Avec sa formation Rico Changuï\, Nancy Murillo autant inspiré par la reine de la salsa Celia Cruz que par Lupe\, concrétise son caractère de « Sonera Moderna » en interprétant un vaste répertoire de musiques latines et de folklore traditionnel colombien. \nNancy Murillo : chant \nManuel Anoi Vega : piano \nNestor Sanz : percussions \nNicola Anoi Vega : sax \nThérèse Henry : basse
URL:https://lemelville.fr/accueil/evenements/nancymurillo/
LOCATION:Le Melville\, 28 Rue Jean Mermoz\, Paris\, 75008\, France
CATEGORIES:Latin Bossa Nova
ATTACH;FMTTYPE=image/png:https://lemelville.fr/wp-content/uploads/2024/07/Nancy-Murillo-Quartet-Affiche-NF.png
END:VEVENT
BEGIN:VEVENT
DTSTART;TZID=Europe/Paris:20250117T210000
DTEND;TZID=Europe/Paris:20250117T233000
DTSTAMP:20260422T182118
CREATED:20240326T162106Z
LAST-MODIFIED:20250110T093255Z
UID:10000500-1737147600-1737156600@lemelville.fr
SUMMARY:Anna Stevens 5tet
DESCRIPTION:Anna Stevens est passionnée de swing. Chanteuse et danseuse\, elle s’exprime avec plaisir et engagement dans tout le répertoire des années 30 à 40. Avec son quintet composé de musiciens internationaux\, ils revisitent Ella Fitzgerald\, Nat King Cole\, Fats Waller\, Sarah Vaughan\, Mel Torme\, Frank Sinatra et tous les plus grands noms du swing. Anna Stevens propose un répertoire joyeux et élégant avec une interprétation personnelle et sensible\, en tissant une grande complicité avec le public.  \nCe quintet joue sur les scènes du monde entier\, que ce soit pour des festivals de jazz\, pour des soirées de danses swing ou encore pour des événements de prestige comme le Bal de l’X à l’Opéra Garnier et les soirées de la Maison Dior .\n  \nAnna Stevens : chant \nHillel Salem : trompette \nGalaad Moutoz : piano \nFabricio Nicolas-Garcia : contrebasse \nMalte Arndal : batterie
URL:https://lemelville.fr/accueil/evenements/anna-stevens-5tet/
LOCATION:Le Melville\, 28 Rue Jean Mermoz\, Paris\, 75008\, France
CATEGORIES:Vocal Standard Jazz
ATTACH;FMTTYPE=image/png:https://lemelville.fr/wp-content/uploads/2024/03/Anna-Stevens-5tet.png
END:VEVENT
BEGIN:VEVENT
DTSTART;TZID=Europe/Paris:20250118T210000
DTEND;TZID=Europe/Paris:20250118T233000
DTSTAMP:20260422T182118
CREATED:20241111T161855Z
LAST-MODIFIED:20241111T162148Z
UID:10000667-1737234000-1737243000@lemelville.fr
SUMMARY:Rumba Paname
DESCRIPTION:Rumba Paname\, c’est Arlet Feuillard et son 4tet. C’est un pur son latino américain\, de la salsa et du rythme \nArlet Feuillard : congas  \nJonathan Meyer : basse/chant  \nSamy Babiker : bongas  \nDavid Garrido : piano  \nOn trépigne d’impatience.
URL:https://lemelville.fr/accueil/evenements/rumba-paname/
LOCATION:Le Melville\, 28 Rue Jean Mermoz\, Paris\, 75008\, France
ATTACH;FMTTYPE=image/png:https://lemelville.fr/wp-content/uploads/2024/04/Super-Son-Heroes-Affiche.png
END:VEVENT
BEGIN:VEVENT
DTSTART;TZID=Europe/Paris:20250122T203000
DTEND;TZID=Europe/Paris:20250122T233000
DTSTAMP:20260422T182118
CREATED:20241129T221141Z
LAST-MODIFIED:20241129T221141Z
UID:10000670-1737577800-1737588600@lemelville.fr
SUMMARY:Square Noon
DESCRIPTION:Square Noon\, c’est Alexandre\, Axel et Arlo\, qui vitalisent leur musique comme aux premières heures du jazz. La joie communicative de ces trois amis de promo de l’Imep (Paris College of Music) fait vibrer le Melville tous les mois. \nAlexandre Lombard-Buffet : piano \nAxel Allwright : batterie \nArlo Lardé : contrebasse\, basse
URL:https://lemelville.fr/accueil/evenements/square-noon-25/
LOCATION:Le Melville\, 28 Rue Jean Mermoz\, Paris\, 75008\, France
CATEGORIES:Jazz Standard
ATTACH;FMTTYPE=image/png:https://lemelville.fr/wp-content/uploads/2024/10/Square-Noon-Nouvelle-version-NF.png
END:VEVENT
END:VCALENDAR