BEGIN:VCALENDAR
VERSION:2.0
PRODID:-//Le Melville - ECPv6.15.17//NONSGML v1.0//EN
CALSCALE:GREGORIAN
METHOD:PUBLISH
X-WR-CALNAME:Le Melville
X-ORIGINAL-URL:https://lemelville.fr/accueil
X-WR-CALDESC:Évènements pour Le Melville
REFRESH-INTERVAL;VALUE=DURATION:PT1H
X-Robots-Tag:noindex
X-PUBLISHED-TTL:PT1H
BEGIN:VTIMEZONE
TZID:Europe/Paris
BEGIN:DAYLIGHT
TZOFFSETFROM:+0100
TZOFFSETTO:+0200
TZNAME:CEST
DTSTART:20230326T010000
END:DAYLIGHT
BEGIN:STANDARD
TZOFFSETFROM:+0200
TZOFFSETTO:+0100
TZNAME:CET
DTSTART:20231029T010000
END:STANDARD
BEGIN:DAYLIGHT
TZOFFSETFROM:+0100
TZOFFSETTO:+0200
TZNAME:CEST
DTSTART:20240331T010000
END:DAYLIGHT
BEGIN:STANDARD
TZOFFSETFROM:+0200
TZOFFSETTO:+0100
TZNAME:CET
DTSTART:20241027T010000
END:STANDARD
BEGIN:DAYLIGHT
TZOFFSETFROM:+0100
TZOFFSETTO:+0200
TZNAME:CEST
DTSTART:20250330T010000
END:DAYLIGHT
BEGIN:STANDARD
TZOFFSETFROM:+0200
TZOFFSETTO:+0100
TZNAME:CET
DTSTART:20251026T010000
END:STANDARD
END:VTIMEZONE
BEGIN:VEVENT
DTSTART;TZID=Europe/Paris:20240314T080000
DTEND;TZID=Europe/Paris:20240314T170000
DTSTAMP:20260422T013353
CREATED:20240121T090347Z
LAST-MODIFIED:20240121T090347Z
UID:10000462-1710403200-1710435600@lemelville.fr
SUMMARY:Jeribà
DESCRIPTION:Jeribá est une expérience musicale à part entière qui fusionne habilement la musique brésilienne classique avec le jazz. Composé d’un quatuor instrumental talentueux (flûte\, guitare\, basse\, batterie)\, ce groupe présente des interprétations raffinées et captivantes de morceaux emblématiques de Guinga\, Baden Powell\, De Holanda\, Sivuca\, Gismonti\, Nascimento\, Pipoquinha\, Pascoal\, entre autres.  \nLeurs arrangements subtils et leurs performances passionnées offrent une expérience auditive unique\, où la profondeur des rythmes rencontre l’élégance mélodique.  \n  \nYoorim Won : flute   \nMiguel Couto : batterie  \nCaio Márcio Santos : guitare  \nManu Paillardon : bass 
URL:https://lemelville.fr/accueil/evenements/jeriba/
LOCATION:Le Melville\, 28 Rue Jean Mermoz\, Paris\, 75008\, France
ATTACH;FMTTYPE=image/png:https://lemelville.fr/wp-content/uploads/2024/01/Jeriba-Affiche.png
END:VEVENT
END:VCALENDAR