BEGIN:VCALENDAR
VERSION:2.0
PRODID:-//Le Melville - ECPv6.15.17//NONSGML v1.0//EN
CALSCALE:GREGORIAN
METHOD:PUBLISH
X-ORIGINAL-URL:https://lemelville.fr/accueil
X-WR-CALDESC:Évènements pour Le Melville
REFRESH-INTERVAL;VALUE=DURATION:PT1H
X-Robots-Tag:noindex
X-PUBLISHED-TTL:PT1H
BEGIN:VTIMEZONE
TZID:Europe/Paris
BEGIN:DAYLIGHT
TZOFFSETFROM:+0100
TZOFFSETTO:+0200
TZNAME:CEST
DTSTART:20230326T010000
END:DAYLIGHT
BEGIN:STANDARD
TZOFFSETFROM:+0200
TZOFFSETTO:+0100
TZNAME:CET
DTSTART:20231029T010000
END:STANDARD
BEGIN:DAYLIGHT
TZOFFSETFROM:+0100
TZOFFSETTO:+0200
TZNAME:CEST
DTSTART:20240331T010000
END:DAYLIGHT
BEGIN:STANDARD
TZOFFSETFROM:+0200
TZOFFSETTO:+0100
TZNAME:CET
DTSTART:20241027T010000
END:STANDARD
BEGIN:DAYLIGHT
TZOFFSETFROM:+0100
TZOFFSETTO:+0200
TZNAME:CEST
DTSTART:20250330T010000
END:DAYLIGHT
BEGIN:STANDARD
TZOFFSETFROM:+0200
TZOFFSETTO:+0100
TZNAME:CET
DTSTART:20251026T010000
END:STANDARD
END:VTIMEZONE
BEGIN:VEVENT
DTSTART;TZID=Europe/Paris:20241210T203000
DTEND;TZID=Europe/Paris:20241210T233000
DTSTAMP:20260422T013558
CREATED:20240724T011035Z
LAST-MODIFIED:20240724T011035Z
UID:10000637-1733862600-1733873400@lemelville.fr
SUMMARY:Klezmer mit Tsibeles
DESCRIPTION:Les six musiciens de Klezmer mit Tsibeles (“Klezmer aux petits oignons”) ont fait leurs classes au sein de différents groupes (Le Tout Petit Klezmer\, Balabosta\, KKO…)\, avec lesquels ils ont joué à Paris et dans toute la France (la Marbrerie\, l’Alimentation Générale\, le Mahj\, les Disquaires\, festival des guinguettes du monde\, festival de Carpentras\, festival Musiqueyras…).\nLe sextet réunit les instruments historiques de la musique Klezmer dans une configuration unique et originale et pratique une musique brillante\, inventive\, dansante ou plus profonde\, sans nostalgie mais toujours ancrée dans la tradition. \nAlain Gourdeau\, à l’origine du groupe\, a découvert la musique Klezmer au début des années 90 et n’a depuis jamais cessé de la pratiquer\, principalement à la clarinette\, mais aussi à la contrebasse ou à la basse électrique. Il a côtoyé des instrumentistes et musiciens de grande envergure (Franck London\, David Krakauer\, Pierre Wekstein…)\, rencontres dont il nourrit aujourd’hui encore sa pratique. Son passage dans les classes du CNSM de Paris lui a permis d’acquérir une grande aisance dans l’écriture et les arrangements.\nAlain Gourdeau : basse et arrangements\nMaëva Tur : violon\nJuliette Salles : violoncelle\nDiana Legutko : clarinette\nClaire Brandy : clarinette\nPierre Mandel : trombone  \n 
URL:https://lemelville.fr/accueil/evenements/klezmer-mit-tsibeles-2/
LOCATION:Le Melville\, 28 Rue Jean Mermoz\, Paris\, 75008\, France
CATEGORIES:Klezmer,World
ATTACH;FMTTYPE=image/png:https://lemelville.fr/wp-content/uploads/2024/07/Klezmer-mit-Tsibeles-Affiche-NF.png
END:VEVENT
BEGIN:VEVENT
DTSTART;TZID=Europe/Paris:20240926T203000
DTEND;TZID=Europe/Paris:20240926T233000
DTSTAMP:20260422T013558
CREATED:20240707T195308Z
LAST-MODIFIED:20240707T195308Z
UID:10000582-1727382600-1727393400@lemelville.fr
SUMMARY:Klezmer mit Tsibeles
DESCRIPTION:Les six musiciens de Klezmer mit Tsibeles (“Klezmer aux petits oignons”) ont fait leurs classes au sein de différents groupes (Le Tout Petit Klezmer\, Balabosta\, KKO…)\, avec lesquels ils ont joué à Paris et dans toute la France (la Marbrerie\, l’Alimentation Générale\, le Mahj\, les Disquaires\, festival des guinguettes du monde\, festival de Carpentras\, festival Musiqueyras…).\nLe sextet réunit les instruments historiques de la musique Klezmer dans une configuration unique et originale et pratique une musique brillante\, inventive\, dansante ou plus profonde\, sans nostalgie mais toujours ancrée dans la tradition. \nAlain Gourdeau\, à l’origine du groupe\, a découvert la musique Klezmer au début des années 90 et n’a depuis jamais cessé de la pratiquer\, principalement à la clarinette\, mais aussi à la contrebasse ou à la basse électrique. Il a côtoyé des instrumentistes et musiciens de grande envergure (Franck London\, David Krakauer\, Pierre Wekstein…)\, rencontres dont il nourrit aujourd’hui encore sa pratique. Son passage dans les classes du CNSM de Paris lui a permis d’acquérir une grande aisance dans l’écriture et les arrangements.\nAlain Gourdeau : basse et arrangements\nMaëva Tur : violon\nJuliette Salles : violoncelle\nDiana Legutko : clarinette\nClaire Brandy : clarinette\nPierre Mandel : trombone  \n 
URL:https://lemelville.fr/accueil/evenements/klezmer-mit-tsibeles/
LOCATION:Le Melville\, 28 Rue Jean Mermoz\, Paris\, 75008\, France
CATEGORIES:Klezmer,World
ATTACH;FMTTYPE=image/png:https://lemelville.fr/wp-content/uploads/2024/07/Klezmer-mit-Tsibeles-Affiche-NF.png
END:VEVENT
BEGIN:VEVENT
DTSTART;TZID=Europe/Paris:20240425T203000
DTEND;TZID=Europe/Paris:20240425T233000
DTSTAMP:20260422T013558
CREATED:20240222T112201Z
LAST-MODIFIED:20240222T134856Z
UID:10000488-1714077000-1714087800@lemelville.fr
SUMMARY:Klezmer mit Tsibeles 
DESCRIPTION:Les six musiciens de Klezmer mit Tsibeles (“Klezmer aux petits oignons”) ont fait leurs classes au sein de différents groupes (Le Tout Petit Klezmer\, Balabosta\, KKO…)\, avec lesquels ils ont joué à Paris et dans toute la France (la Marbrerie\, l’Alimentation Générale\, le Mahj\, les Disquaires\, festival des guinguettes du monde\, festival de Carpentras\, festival Musiqueyras…).\nLe sextet réunit les instruments historiques de la musique Klezmer dans une configuration unique et originale et pratique une musique brillante\, inventive\, dansante ou plus profonde\, sans nostalgie mais toujours ancrée dans la tradition. \nAlain Gourdeau\, à l’origine du groupe\, a découvert la musique Klezmer au début des années 90 et n’a depuis jamais cessé de la pratiquer\, principalement à la clarinette\, mais aussi à la contrebasse ou à la basse électrique. Il a côtoyé des instrumentistes et musiciens de grande envergure (Franck London\, David Krakauer\, Pierre Wekstein…)\, rencontres dont il nourrit aujourd’hui encore sa pratique. Son passage dans les classes du CNSM de Paris lui a permis d’acquérir une grande aisance dans l’écriture et les arrangements.\nAlain Gourdeau : basse et arrangements\nMaëva Tur : violon\nJuliette Salles : violoncelle\nDiana Legutko : clarinette\nClaire Brandy : clarinette\nPierre Mandel : trombone  \n 
URL:https://lemelville.fr/accueil/evenements/klezmer-mit-tsibele/
LOCATION:Le Melville\, 28 Rue Jean Mermoz\, Paris\, 75008\, France
ATTACH;FMTTYPE=image/png:https://lemelville.fr/wp-content/uploads/2024/02/Klesmer-Mit-Tsibele.png
END:VEVENT
END:VCALENDAR