BEGIN:VCALENDAR
VERSION:2.0
PRODID:-//Le Melville - ECPv6.15.17//NONSGML v1.0//EN
CALSCALE:GREGORIAN
METHOD:PUBLISH
X-ORIGINAL-URL:https://lemelville.fr/accueil
X-WR-CALDESC:Évènements pour Le Melville
REFRESH-INTERVAL;VALUE=DURATION:PT1H
X-Robots-Tag:noindex
X-PUBLISHED-TTL:PT1H
BEGIN:VTIMEZONE
TZID:Europe/Paris
BEGIN:DAYLIGHT
TZOFFSETFROM:+0100
TZOFFSETTO:+0200
TZNAME:CEST
DTSTART:20230326T010000
END:DAYLIGHT
BEGIN:STANDARD
TZOFFSETFROM:+0200
TZOFFSETTO:+0100
TZNAME:CET
DTSTART:20231029T010000
END:STANDARD
BEGIN:DAYLIGHT
TZOFFSETFROM:+0100
TZOFFSETTO:+0200
TZNAME:CEST
DTSTART:20240331T010000
END:DAYLIGHT
BEGIN:STANDARD
TZOFFSETFROM:+0200
TZOFFSETTO:+0100
TZNAME:CET
DTSTART:20241027T010000
END:STANDARD
BEGIN:DAYLIGHT
TZOFFSETFROM:+0100
TZOFFSETTO:+0200
TZNAME:CEST
DTSTART:20250330T010000
END:DAYLIGHT
BEGIN:STANDARD
TZOFFSETFROM:+0200
TZOFFSETTO:+0100
TZNAME:CET
DTSTART:20251026T010000
END:STANDARD
END:VTIMEZONE
BEGIN:VEVENT
DTSTART;TZID=Europe/Paris:20240803T210000
DTEND;TZID=Europe/Paris:20240803T233000
DTSTAMP:20260422T001609
CREATED:20240420T082057Z
LAST-MODIFIED:20240611T132214Z
UID:10000541-1722718800-1722727800@lemelville.fr
SUMMARY:Manigua
DESCRIPTION:Comme souvent le samedi\, le son de la salsa envahit Le Melville. Ce sextet à l’énergie débordante nous emmènera\, cette fois\, vers Porto Rico dans les parfums du rhum et les rythmes fous. \nLes chemins de ces musiciens se croisent après avoir participé activement au mouvement salsa à Paris. Cette passion pour la salsa les a amenés à partager et fusionner leurs pratiques musicales. La diversité de leurs origines\, de leurs formations et de leurs expériences fait de cette union musicale une expérience enrichissante où la salsa et le folklore colombien avec des touches de latin jazz\, sont les protagonistes. Dans cette occasion\, réunis avec Manigua ils transmettent la passion pour ce genre musical au public du Melville et continuent à maintenir la culture salsa vivante et actuelle. \nJosue Omana : trompette \nMartin Fuenmayor : chant contrebasse \nJulian Jimenez : piano \nNestor Sanz : percussion \nJim Lopez : percussion \nHolmann Reyes : trombonne
URL:https://lemelville.fr/accueil/evenements/manigua/
LOCATION:Le Melville\, 28 Rue Jean Mermoz\, Paris\, 75008\, France
ATTACH;FMTTYPE=image/png:https://lemelville.fr/wp-content/uploads/2024/04/Manigua-Affiche.png
END:VEVENT
BEGIN:VEVENT
DTSTART;TZID=Europe/Paris:20240713T210000
DTEND;TZID=Europe/Paris:20240713T233000
DTSTAMP:20260422T001609
CREATED:20240707T210759Z
LAST-MODIFIED:20240707T210759Z
UID:10000593-1720904400-1720913400@lemelville.fr
SUMMARY:Manigua
DESCRIPTION:Comme souvent le samedi\, le son de la salsa envahit Le Melville. Ce sextet à l’énergie débordante nous emmènera\, cette fois\, vers Porto Rico dans les parfums du rhum et les rythmes fous. \nLes chemins de ces musiciens se croisent après avoir participé activement au mouvement salsa à Paris. Cette passion pour la salsa les a amenés à partager et fusionner leurs pratiques musicales. La diversité de leurs origines\, de leurs formations et de leurs expériences fait de cette union musicale une expérience enrichissante où la salsa et le folklore colombien avec des touches de latin jazz\, sont les protagonistes. Dans cette occasion\, réunis avec Manigua ils transmettent la passion pour ce genre musical au public du Melville et continuent à maintenir la culture salsa vivante et actuelle. \nJosue Omana : trompette \nMartin Fuenmayor : chant contrebasse \nJulian Jimenez : piano \nNestor Sanz : percussion \nJim Lopez : percussion \nHolmann Reyes : trombonne
URL:https://lemelville.fr/accueil/evenements/manigua-4/
LOCATION:Le Melville\, 28 Rue Jean Mermoz\, Paris\, 75008\, France
ATTACH;FMTTYPE=image/png:https://lemelville.fr/wp-content/uploads/2023/09/miguel-munar-sextet.png
END:VEVENT
BEGIN:VEVENT
DTSTART;TZID=Europe/Paris:20240622T210000
DTEND;TZID=Europe/Paris:20240622T233000
DTSTAMP:20260422T001609
CREATED:20240429T091540Z
LAST-MODIFIED:20240611T094932Z
UID:10000552-1719090000-1719099000@lemelville.fr
SUMMARY:Manigua
DESCRIPTION:Comme souvent le samedi\, le son de la salsa envahit Le Melville. Ce sextet à l’énergie débordante nous emmènera\, cette fois\, vers Porto Rico dans les parfums du rhum et les rythmes fous. \nLes chemins de ces musiciens se croisent après avoir participé activement au mouvement salsa à Paris. Cette passion pour la salsa les a amenés à partager et fusionner leurs pratiques musicales. La diversité de leurs origines\, de leurs formations et de leurs expériences fait de cette union musicale une expérience enrichissante où la salsa et le folklore colombien avec des touches de latin jazz\, sont les protagonistes. Dans cette occasion\, réunis avec Manigua ils transmettent la passion pour ce genre musical au public du Melville et continuent à maintenir la culture salsa vivante et actuelle. \nJosue Omana : trompette \nMartin Fuenmayor : chant contrebasse \nJulian Jimenez : piano \nNestor Sanz : percussion \nJim Lopez : percussion \nHolmann Reyes : trombonne
URL:https://lemelville.fr/accueil/evenements/manigua-2/
LOCATION:Le Melville\, 28 Rue Jean Mermoz\, Paris\, 75008\, France
ATTACH;FMTTYPE=image/png:https://lemelville.fr/wp-content/uploads/2023/09/miguel-munar-sextet.png
END:VEVENT
BEGIN:VEVENT
DTSTART;TZID=Europe/Paris:20240413T210000
DTEND;TZID=Europe/Paris:20240413T233000
DTSTAMP:20260422T001609
CREATED:20240213T200053Z
LAST-MODIFIED:20240611T094932Z
UID:10000442-1713042000-1713051000@lemelville.fr
SUMMARY:Manigua
DESCRIPTION:Comme souvent le samedi\, le son de la salsa envahit Le Melville. Ce sextet à l’énergie débordante nous emmènera\, cette fois\, vers Porto Rico dans les parfums du rhum et les rythmes fous. \nLes chemins de ces musiciens se croisent après avoir participé activement au mouvement salsa à Paris. Cette passion pour la salsa les a amenés à partager et fusionner leurs pratiques musicales. La diversité de leurs origines\, de leurs formations et de leurs expériences fait de cette union musicale une expérience enrichissante où la salsa et le folklore colombien avec des touches de latin jazz\, sont les protagonistes. Dans cette occasion\, réunis avec Manigua ils transmettent la passion pour ce genre musical au public du Melville et continuent à maintenir la culture salsa vivante et actuelle.
URL:https://lemelville.fr/accueil/evenements/miguel-munar-sextet-3/
LOCATION:Le Melville\, 28 Rue Jean Mermoz\, Paris\, 75008\, France
ATTACH;FMTTYPE=image/png:https://lemelville.fr/wp-content/uploads/2023/09/miguel-munar-sextet.png
END:VEVENT
END:VCALENDAR