BEGIN:VCALENDAR
VERSION:2.0
PRODID:-//Le Melville - ECPv6.15.17//NONSGML v1.0//EN
CALSCALE:GREGORIAN
METHOD:PUBLISH
X-WR-CALNAME:Le Melville
X-ORIGINAL-URL:https://lemelville.fr/accueil
X-WR-CALDESC:Évènements pour Le Melville
REFRESH-INTERVAL;VALUE=DURATION:PT1H
X-Robots-Tag:noindex
X-PUBLISHED-TTL:PT1H
BEGIN:VTIMEZONE
TZID:Europe/Paris
BEGIN:DAYLIGHT
TZOFFSETFROM:+0100
TZOFFSETTO:+0200
TZNAME:CEST
DTSTART:20230326T010000
END:DAYLIGHT
BEGIN:STANDARD
TZOFFSETFROM:+0200
TZOFFSETTO:+0100
TZNAME:CET
DTSTART:20231029T010000
END:STANDARD
BEGIN:DAYLIGHT
TZOFFSETFROM:+0100
TZOFFSETTO:+0200
TZNAME:CEST
DTSTART:20240331T010000
END:DAYLIGHT
BEGIN:STANDARD
TZOFFSETFROM:+0200
TZOFFSETTO:+0100
TZNAME:CET
DTSTART:20241027T010000
END:STANDARD
BEGIN:DAYLIGHT
TZOFFSETFROM:+0100
TZOFFSETTO:+0200
TZNAME:CEST
DTSTART:20250330T010000
END:DAYLIGHT
BEGIN:STANDARD
TZOFFSETFROM:+0200
TZOFFSETTO:+0100
TZNAME:CET
DTSTART:20251026T010000
END:STANDARD
BEGIN:DAYLIGHT
TZOFFSETFROM:+0100
TZOFFSETTO:+0200
TZNAME:CEST
DTSTART:20260329T010000
END:DAYLIGHT
BEGIN:STANDARD
TZOFFSETFROM:+0200
TZOFFSETTO:+0100
TZNAME:CET
DTSTART:20261025T010000
END:STANDARD
END:VTIMEZONE
BEGIN:VEVENT
DTSTART;TZID=Europe/Paris:20250205T203000
DTEND;TZID=Europe/Paris:20250205T230000
DTSTAMP:20260421T224122
CREATED:20241210T125713Z
LAST-MODIFIED:20241211T104949Z
UID:10000676-1738787400-1738796400@lemelville.fr
SUMMARY:Olivier Franc Quartet
DESCRIPTION:Olivier Franc: Saxophoniste Soprano\, prix Sidney Bechet de l’académie du jazz\, joue sur le saxophone personnel de Sidney Bechet. Olivier est le fils de René Franc\, clarinettiste des orchestres de Pierre Braslavsky et d’André Réwéliotty qui accompagnèrent Sidney Bechet. Olivier débute sa carrière au début des années 1970 avant de fonder en 1976 sa propre formation. En 1979\, il reçoit le Prix Sidney Bechet de l’Académie puis obtient le Prix Musiciens Français du Hot Club de France en 1997\, pour son disque “Swing Folies” et en 2012\, pour son disque “Ellington Mood”. Il est aujourd’hui reconnu dans le monde entier comme étant le meilleur disciple de Sidney Bechet\, comme en témoigne son invitation par Wynton Marsalis sur la grande scène de Jazz in Marciac ou ses prestations à New York comme à la Nouvelle Orléans . \nTout en restant fidèle au style et à l’esprit de la musique de Sidney Bechet\, Olivier Franc propose une musique nouvelle et personnelle avec des compositions originales. Depuis 2006\, il a le privilège de jouer sur le saxophone personnel de Sidney Bechet. En 2015\, il se produit à l’Olympia et en 2019 au Victoria Hall de Genève\, deux concerts salués par des standing ovations. \nOlivier Franc : saxo \nJean Baptiste Franc : piano \nAmaidy : contrebasse \nSchael Michanol : batterie \n  \n 
URL:https://lemelville.fr/accueil/evenements/olivier-franc-quartet/
LOCATION:Le Melville\, 28 Rue Jean Mermoz\, Paris\, 75008\, France
CATEGORIES:Swing
ATTACH;FMTTYPE=image/png:https://lemelville.fr/wp-content/uploads/2024/12/Olivier-Franc-Qtet-Affiche-NF.png
END:VEVENT
BEGIN:VEVENT
DTSTART;TZID=Europe/Paris:20241019T210000
DTEND;TZID=Europe/Paris:20241019T233000
DTSTAMP:20260421T224122
CREATED:20240724T085238Z
LAST-MODIFIED:20240928T131937Z
UID:10000605-1729371600-1729380600@lemelville.fr
SUMMARY:Swing That !
DESCRIPTION:SWING THAT ! rend hommage au swing populaire  \n De la Nouvelle-Orléans aux comédies musicales en passant par les succès de Nat King Cole ou de Benny Goodman\, on a tous quelque part en tête ces jolies mélodies qui nous font claquer des doigts et nous racontent de belles histoires.  \nSWING THAT rend hommage à ce répertoire\, en distillant avec amour une sélection d’airs in french ou en anglais qui vous ferons fredonner certains passages à coup sûr…  \n… et pourquoi pas danser puisque Swing That a aussi pour vocation d’accompagner les bals-swing\, redevenus très en vogue à Paris.  \nGeorges Wolfaardt : contrebasse  \nAmaury Faye : piano  \nAdrien Tarraga : Guitare \nDavid Lesprit clarinette\, sax s\, chant. 
URL:https://lemelville.fr/accueil/evenements/swing-that-4/
LOCATION:Le Melville\, 28 Rue Jean Mermoz\, Paris\, 75008\, France
CATEGORIES:New Orleans,Stride, Be-Bop,Swing
ATTACH;FMTTYPE=image/png:https://lemelville.fr/wp-content/uploads/2024/07/SWING-THAT-Affiche-NF-1.png
END:VEVENT
BEGIN:VEVENT
DTSTART;TZID=Europe/Paris:20241009T203000
DTEND;TZID=Europe/Paris:20241009T233000
DTSTAMP:20260421T224122
CREATED:20240707T194831Z
LAST-MODIFIED:20240707T195613Z
UID:10000590-1728505800-1728516600@lemelville.fr
SUMMARY:Olivier Franc Trio
DESCRIPTION:Olivier Franc: Saxophoniste Soprano\, prix Sidney Bechet de l’académie du jazz\, joue sur le saxophone personnel de Sidney Bechet. Olivier est le fils de René Franc\, clarinettiste des orchestres de Pierre Braslavsky et d’André Réwéliotty qui accompagnèrent Sidney Bechet. Olivier débute sa carrière au début des années 1970 avant de fonder en 1976 sa propre formation. En 1979\, il reçoit le Prix Sidney Bechet de l’Académie puis obtient le Prix Musiciens Français du Hot Club de France en 1997\, pour son disque “Swing Folies” et en 2012\, pour son disque “Ellington Mood”. Il est aujourd’hui reconnu dans le monde entier comme étant le meilleur disciple de Sidney Bechet\, comme en témoigne son invitation par Wynton Marsalis sur la grande scène de Jazz in Marciac ou ses prestations à New York comme à la Nouvelle Orléans . \nTout en restant fidèle au style et à l’esprit de la musique de Sidney Bechet\, Olivier Franc propose une musique nouvelle et personnelle avec des compositions originales. Depuis 2006\, il a le privilège de jouer sur le saxophone personnel de Sidney Bechet. En 2015\, il se produit à l’Olympia et en 2019 au Victoria Hall de Genève\, deux concerts salués par des standing ovations. \nOlivier Franc : trompette  \nThomas Racine : batterie  \nJean-Baptiste Franc : piano  \n  \n 
URL:https://lemelville.fr/accueil/evenements/olivier-franc-trio-4/
LOCATION:Le Melville\, 28 Rue Jean Mermoz\, Paris\, 75008\, France
CATEGORIES:Swing
ATTACH;FMTTYPE=image/png:https://lemelville.fr/wp-content/uploads/2024/07/Olivier-Franc-Trio-Affiche-NF-1.png
END:VEVENT
BEGIN:VEVENT
DTSTART;TZID=Europe/Paris:20240518T210000
DTEND;TZID=Europe/Paris:20240518T233000
DTSTAMP:20260421T224122
CREATED:20240419T185044Z
LAST-MODIFIED:20240419T185044Z
UID:10000504-1716066000-1716075000@lemelville.fr
SUMMARY:Swing That !
DESCRIPTION:SWING THAT ! rend hommage au swing populaire  \n De la Nouvelle-Orléans aux comédies musicales en passant par les succès de Nat King Cole ou de Benny Goodman\, on a tous quelque part en tête ces jolies mélodies qui nous font claquer des doigts et nous racontent de belles histoires.  \nSWING THAT rend hommage à ce répertoire\, en distillant avec amour une sélection d’airs in french ou en anglais qui vous ferons fredonner certains passages à coup sûr…  \n… et pourquoi pas danser puisque Swing That a aussi pour vocation d’accompagner les bals-swing\, redevenus très en vogue à Paris.  \nGeorges Wolfaardt : contrebasse  \nCesar Pastre : piano  \nRobert Fish : clarinette\, sax t\,   \nDavid Lesprit clarinette\, sax s\, chant. 
URL:https://lemelville.fr/accueil/evenements/swing-that-2/
LOCATION:Le Melville\, 28 Rue Jean Mermoz\, Paris\, 75008\, France
ATTACH;FMTTYPE=image/png:https://lemelville.fr/wp-content/uploads/2024/01/Swing-That.png
END:VEVENT
BEGIN:VEVENT
DTSTART;TZID=Europe/Paris:20240510T203000
DTEND;TZID=Europe/Paris:20240510T233000
DTSTAMP:20260421T224122
CREATED:20240326T092037Z
LAST-MODIFIED:20240326T092037Z
UID:10000499-1715373000-1715383800@lemelville.fr
SUMMARY:Zoot Daniels & the Zooters
DESCRIPTION:Retrouvez l’ambiance festive et dansante des petites formations Swing des années 1930/40 avec Zoot Daniels ! \nFou chantant adepte du « scat » dans la lignée de Cab Calloway\, Ella Fitzgerald\, Mel Tormé\, et aussi talentueux crooner\, Zoot Daniels accompagné de ses fidèles Zooters vous invitent à voyager dans le temps ! \nClaquez des doigts et tapez du pied avec eux au rythme des standards de Duke Ellington\, Cole Porter\, Benny Goodman\, Woody Herman\, Slim Gaillard\, Irving Berlin\, et beaucoup d’autres… \nDaniel ZOOT : clarinette\, chant \nStéphane COMMECY : batterie \nDenis DESSALIEN : contrebasse \nPascal VENTURINI : guitare
URL:https://lemelville.fr/accueil/evenements/zoot-daniels-the-zooters/
LOCATION:Le Melville\, 28 Rue Jean Mermoz\, Paris\, 75008\, France
ATTACH;FMTTYPE=image/png:https://lemelville.fr/wp-content/uploads/2024/03/Zoot-Affiche.png
END:VEVENT
BEGIN:VEVENT
DTSTART;TZID=Europe/Paris:20240309T210000
DTEND;TZID=Europe/Paris:20240309T233000
DTSTAMP:20260421T224122
CREATED:20240121T181606Z
LAST-MODIFIED:20240121T181606Z
UID:10000475-1710018000-1710027000@lemelville.fr
SUMMARY:Swing That !
DESCRIPTION:SWING THAT ! rend hommage au swing populaire  \n De la Nouvelle-Orléans aux comédies musicales en passant par les succès de Nat King Cole ou de Benny Goodman\, on a tous quelque part en tête ces jolies mélodies qui nous font claquer des doigts et nous racontent de belles histoires.  \nSWING THAT rend hommage à ce répertoire\, en distillant avec amour une sélection d’airs in french ou en anglais qui vous ferons fredonner certains passages à coup sûr…  \n… et pourquoi pas danser puisque Swing That a aussi pour vocation d’accompagner les bals-swing\, redevenus très en vogue à Paris.  \nGeorges Wolfaardt : contrebasse  \nCesar Pastre : piano  \nRobert Fish : clarinette\, sax t\,   \nDavid Lesprit clarinette\, sax s\, chant. 
URL:https://lemelville.fr/accueil/evenements/swing-that/
LOCATION:Le Melville\, 28 Rue Jean Mermoz\, Paris\, 75008\, France
ATTACH;FMTTYPE=image/png:https://lemelville.fr/wp-content/uploads/2024/01/Swing-That.png
END:VEVENT
END:VCALENDAR