BEGIN:VCALENDAR
VERSION:2.0
PRODID:-//Le Melville - ECPv6.15.17//NONSGML v1.0//EN
CALSCALE:GREGORIAN
METHOD:PUBLISH
X-ORIGINAL-URL:https://lemelville.fr/accueil
X-WR-CALDESC:Évènements pour Le Melville
REFRESH-INTERVAL;VALUE=DURATION:PT1H
X-Robots-Tag:noindex
X-PUBLISHED-TTL:PT1H
BEGIN:VTIMEZONE
TZID:Europe/Paris
BEGIN:DAYLIGHT
TZOFFSETFROM:+0100
TZOFFSETTO:+0200
TZNAME:CEST
DTSTART:20230326T010000
END:DAYLIGHT
BEGIN:STANDARD
TZOFFSETFROM:+0200
TZOFFSETTO:+0100
TZNAME:CET
DTSTART:20231029T010000
END:STANDARD
BEGIN:DAYLIGHT
TZOFFSETFROM:+0100
TZOFFSETTO:+0200
TZNAME:CEST
DTSTART:20240331T010000
END:DAYLIGHT
BEGIN:STANDARD
TZOFFSETFROM:+0200
TZOFFSETTO:+0100
TZNAME:CET
DTSTART:20241027T010000
END:STANDARD
BEGIN:DAYLIGHT
TZOFFSETFROM:+0100
TZOFFSETTO:+0200
TZNAME:CEST
DTSTART:20250330T010000
END:DAYLIGHT
BEGIN:STANDARD
TZOFFSETFROM:+0200
TZOFFSETTO:+0100
TZNAME:CET
DTSTART:20251026T010000
END:STANDARD
END:VTIMEZONE
BEGIN:VEVENT
DTSTART;TZID=Europe/Paris:20240711T203000
DTEND;TZID=Europe/Paris:20240711T230000
DTSTAMP:20260422T013558
CREATED:20240429T111303Z
LAST-MODIFIED:20240611T141857Z
UID:10000555-1720729800-1720738800@lemelville.fr
SUMMARY:Pablo Murgier Ensemble
DESCRIPTION:Pianiste\, compositeur\, et improvisateur\, Pablo Murgier nous déploie une palette d’harmonies audacieuses aux sonorités de jazz tout en y mêlant le charme du tango\, et la richesse de la musique classique. Il fait partie de la vague d’artistes qui osent voyager entre différents mondes. Sur son clavier à la croisée des styles\, un voyage musical s’opère\, créant ainsi une musique authentique et dessinant un univers qui lui est propre.  \n   \nAvec son quartet le Pablo Murgier Ensemble ou en tant soliste\, ce musicien compte déjà plusieurs centaines de concerts au travers le monde entier. Parmi les salles se trouvent le prestigieux CCK (Buenos Aires)\, la Philharmonie de Munich\, la Philharmonie de Paris\, la Philharmonie de Gdansk. Il s’est produit aussi avec Orchestre National du Capitole (Toulouse). Avec son Ensemble il a reçu le prix du « Best tango Orchestra » et son premier album solo a été nominé pour les Gardel Awards. La riche et variée discographie a un très fort accent sur ses propres compositions. Son dernier album « GARE DU SUD » reflète l’évolution de l’artiste\, empreint de sensibilité\, de profondeur et de puissance.  \n  \nPablo Murgier piano  \nSimone Tolomeo bandoneon  \nMiguel Couto batterie  \nRomain Lecuyer bass 
URL:https://lemelville.fr/accueil/evenements/pablo-murgier-ensemble/
LOCATION:Le Melville\, 28 Rue Jean Mermoz\, Paris\, 75008\, France
CATEGORIES:World
ATTACH;FMTTYPE=image/png:https://lemelville.fr/wp-content/uploads/2024/04/Pablo-Murgier-Affiche-1.png
END:VEVENT
END:VCALENDAR