BEGIN:VCALENDAR
VERSION:2.0
PRODID:-//Le Melville - ECPv6.15.17//NONSGML v1.0//EN
CALSCALE:GREGORIAN
METHOD:PUBLISH
X-ORIGINAL-URL:https://lemelville.fr/accueil
X-WR-CALDESC:Évènements pour Le Melville
REFRESH-INTERVAL;VALUE=DURATION:PT1H
X-Robots-Tag:noindex
X-PUBLISHED-TTL:PT1H
BEGIN:VTIMEZONE
TZID:Europe/Paris
BEGIN:DAYLIGHT
TZOFFSETFROM:+0100
TZOFFSETTO:+0200
TZNAME:CEST
DTSTART:20240331T010000
END:DAYLIGHT
BEGIN:STANDARD
TZOFFSETFROM:+0200
TZOFFSETTO:+0100
TZNAME:CET
DTSTART:20241027T010000
END:STANDARD
BEGIN:DAYLIGHT
TZOFFSETFROM:+0100
TZOFFSETTO:+0200
TZNAME:CEST
DTSTART:20250330T010000
END:DAYLIGHT
BEGIN:STANDARD
TZOFFSETFROM:+0200
TZOFFSETTO:+0100
TZNAME:CET
DTSTART:20251026T010000
END:STANDARD
BEGIN:DAYLIGHT
TZOFFSETFROM:+0100
TZOFFSETTO:+0200
TZNAME:CEST
DTSTART:20260329T010000
END:DAYLIGHT
BEGIN:STANDARD
TZOFFSETFROM:+0200
TZOFFSETTO:+0100
TZNAME:CET
DTSTART:20261025T010000
END:STANDARD
END:VTIMEZONE
BEGIN:VEVENT
DTSTART;TZID=Europe/Paris:20250207T210000
DTEND;TZID=Europe/Paris:20250207T233000
DTSTAMP:20260422T135254
CREATED:20241216T103556Z
LAST-MODIFIED:20241216T103556Z
UID:10000686-1738962000-1738971000@lemelville.fr
SUMMARY:Vik Sings The Blues
DESCRIPTION:De la joie débridée à la mélancolie\, aucune autre forme de musique ne communique plus d’émotion authentique que le blues ! \nC’est cette émotion et que Viktorija Gečytė et son quartet international se proposent de partager avec vous au gré de leurs interprétations blues de Billie Holiday\, Nina Simone\, Thelonious Monk\, Sting\, Tom Waits\, James Taylor et d’autres. \nViktorija “Vik” Gečytė : chant\nYoan Fernandez : guitare\nPeter Giron : contrebasse\nMourad Benhammou : batterie
URL:https://lemelville.fr/accueil/evenements/vik-sings-the-blues/
LOCATION:Le Melville\, 28 Rue Jean Mermoz\, Paris\, 75008\, France
CATEGORIES:Blues,Vocal Standard Jazz
ATTACH;FMTTYPE=image/png:https://lemelville.fr/wp-content/uploads/2024/12/Vik-sings-the-blues-Affiche-NF-1.png
END:VEVENT
BEGIN:VEVENT
DTSTART;TZID=Europe/Paris:20250211T203000
DTEND;TZID=Europe/Paris:20250211T233000
DTSTAMP:20260422T135254
CREATED:20240419T192806Z
LAST-MODIFIED:20241211T011521Z
UID:10000506-1739305800-1739316600@lemelville.fr
SUMMARY:Daniel Gassin Trio
DESCRIPTION:Daniel Gassin est pianiste franco-australien. Né en Australie en 1981 d’une mère américaine et d’un père français\, il grandit et fait carrière à Melbourne. \n  \nEn 2007\, il participe aux finales du prestigieux Concours International de Piano Jazz au Festival de Montreux. En 2008 il est sélectionné pour participer au Jazz & Creative Music Workshop à Banff\, Canada\, dirigé par Dave Douglas. \n  \nIl enregistre trois disques en tant que leader (dont deux en trio)\, qui sont nominés pour plusieurs prix\, dont « Meilleur Album de Jazz » et « Composition Australienne de l’Année. » \n  \nLe Trio multiplie les tournées\, et se produit à de nombreux festivals internationaux dont le Dubaï International Jazz Festival et le Queenstown International Jazz Festival. \n  \nAprès avoir obtenu le 3e Prix aux prestigieux National Jazz Awards en 2013\, il quitte l’Australie pour s’implanter en France\, où il intègre la scène parisienne en se produisant régulièrement sur les scènes de jazz les plus connus de la ville. Il reconstitue un trio de musiciens parisiens\, et en 2016 est invité en Suède pour une tournée de cinq concerts. En même temps\, il devient l’un des pianistes les plus sollicités de la scène locale. \n  \nIl a aussi eu l’occasion de se produire avec des grands du jazz américain : Dave Liebman\, George Garzone\, Rick Margitza\, Leroy Jones\, Bob Sheppard et John Riley. \n  \nDaniel Gassin : piano \nFabricio Nicolas-Garcia : contrebasse \nDamien Françon : batterie \n 
URL:https://lemelville.fr/accueil/evenements/daniel-gassin-trio/
LOCATION:Le Melville\, 28 Rue Jean Mermoz\, Paris\, 75008\, France
CATEGORIES:Jazz Standard
ATTACH;FMTTYPE=image/png:https://lemelville.fr/wp-content/uploads/2024/04/Daniel-Gassin-Trio-Affiche.png
END:VEVENT
END:VCALENDAR