BEGIN:VCALENDAR
VERSION:2.0
PRODID:-//Le Melville - ECPv6.15.17//NONSGML v1.0//EN
CALSCALE:GREGORIAN
METHOD:PUBLISH
X-ORIGINAL-URL:https://lemelville.fr/accueil
X-WR-CALDESC:Évènements pour Le Melville
REFRESH-INTERVAL;VALUE=DURATION:PT1H
X-Robots-Tag:noindex
X-PUBLISHED-TTL:PT1H
BEGIN:VTIMEZONE
TZID:Europe/Paris
BEGIN:DAYLIGHT
TZOFFSETFROM:+0100
TZOFFSETTO:+0200
TZNAME:CEST
DTSTART:20230326T010000
END:DAYLIGHT
BEGIN:STANDARD
TZOFFSETFROM:+0200
TZOFFSETTO:+0100
TZNAME:CET
DTSTART:20231029T010000
END:STANDARD
BEGIN:DAYLIGHT
TZOFFSETFROM:+0100
TZOFFSETTO:+0200
TZNAME:CEST
DTSTART:20240331T010000
END:DAYLIGHT
BEGIN:STANDARD
TZOFFSETFROM:+0200
TZOFFSETTO:+0100
TZNAME:CET
DTSTART:20241027T010000
END:STANDARD
BEGIN:DAYLIGHT
TZOFFSETFROM:+0100
TZOFFSETTO:+0200
TZNAME:CEST
DTSTART:20250330T010000
END:DAYLIGHT
BEGIN:STANDARD
TZOFFSETFROM:+0200
TZOFFSETTO:+0100
TZNAME:CET
DTSTART:20251026T010000
END:STANDARD
BEGIN:DAYLIGHT
TZOFFSETFROM:+0100
TZOFFSETTO:+0200
TZNAME:CEST
DTSTART:20260329T010000
END:DAYLIGHT
BEGIN:STANDARD
TZOFFSETFROM:+0200
TZOFFSETTO:+0100
TZNAME:CET
DTSTART:20261025T010000
END:STANDARD
END:VTIMEZONE
BEGIN:VEVENT
DTSTART;TZID=Europe/Paris:20250215T210000
DTEND;TZID=Europe/Paris:20250215T233000
DTSTAMP:20260425T135114
CREATED:20241130T160803Z
LAST-MODIFIED:20241130T160803Z
UID:10000671-1739653200-1739662200@lemelville.fr
SUMMARY:Caravan jazz
DESCRIPTION:Une soirée pleine de peps avec un répertoire de standards de Jazz et de Bossa nova brésilienne\, en quartet piano / basse / batterie / voix. Le tout en laissant une large place à l’improvisation et à l’échange avec le public ! Eleonore Langellier\, vocaliste Jazz à l’énergie communicative est accompagnée du jeune et très talentueux Kellian Camus (@kellian_camus\, élève au CNSM et animateur de la Jam Jazz du 38riv) au piano\, de Morizio Congiu à la contrebasse et Miguel Couto\, ce talentueux batteur aux multiples talents. Ensemble ils apporteront une couleur Be-bop frénétique à la soirée. \n  \nEléonore Langelier : chant\nKellian Camus : piano\nMiguel Couto : batterie\nMorizio Congiu : contrebasse \n 
URL:https://lemelville.fr/accueil/evenements/caravan-jazz-9/
LOCATION:Le Melville\, 28 Rue Jean Mermoz\, Paris\, 75008\, France
CATEGORIES:Vocal Standard Jazz
ATTACH;FMTTYPE=image/png:https://lemelville.fr/wp-content/uploads/2024/11/Caravan-0225-Affiche-NF.png
END:VEVENT
BEGIN:VEVENT
DTSTART;TZID=Europe/Paris:20250211T203000
DTEND;TZID=Europe/Paris:20250211T233000
DTSTAMP:20260425T135114
CREATED:20240419T192806Z
LAST-MODIFIED:20241211T011521Z
UID:10000506-1739305800-1739316600@lemelville.fr
SUMMARY:Daniel Gassin Trio
DESCRIPTION:Daniel Gassin est pianiste franco-australien. Né en Australie en 1981 d’une mère américaine et d’un père français\, il grandit et fait carrière à Melbourne. \n  \nEn 2007\, il participe aux finales du prestigieux Concours International de Piano Jazz au Festival de Montreux. En 2008 il est sélectionné pour participer au Jazz & Creative Music Workshop à Banff\, Canada\, dirigé par Dave Douglas. \n  \nIl enregistre trois disques en tant que leader (dont deux en trio)\, qui sont nominés pour plusieurs prix\, dont « Meilleur Album de Jazz » et « Composition Australienne de l’Année. » \n  \nLe Trio multiplie les tournées\, et se produit à de nombreux festivals internationaux dont le Dubaï International Jazz Festival et le Queenstown International Jazz Festival. \n  \nAprès avoir obtenu le 3e Prix aux prestigieux National Jazz Awards en 2013\, il quitte l’Australie pour s’implanter en France\, où il intègre la scène parisienne en se produisant régulièrement sur les scènes de jazz les plus connus de la ville. Il reconstitue un trio de musiciens parisiens\, et en 2016 est invité en Suède pour une tournée de cinq concerts. En même temps\, il devient l’un des pianistes les plus sollicités de la scène locale. \n  \nIl a aussi eu l’occasion de se produire avec des grands du jazz américain : Dave Liebman\, George Garzone\, Rick Margitza\, Leroy Jones\, Bob Sheppard et John Riley. \n  \nDaniel Gassin : piano \nFabricio Nicolas-Garcia : contrebasse \nDamien Françon : batterie \n 
URL:https://lemelville.fr/accueil/evenements/daniel-gassin-trio/
LOCATION:Le Melville\, 28 Rue Jean Mermoz\, Paris\, 75008\, France
CATEGORIES:Jazz Standard
ATTACH;FMTTYPE=image/png:https://lemelville.fr/wp-content/uploads/2024/04/Daniel-Gassin-Trio-Affiche.png
END:VEVENT
BEGIN:VEVENT
DTSTART;TZID=Europe/Paris:20241207T210000
DTEND;TZID=Europe/Paris:20241207T233000
DTSTAMP:20260425T135114
CREATED:20240724T010802Z
LAST-MODIFIED:20241202T231555Z
UID:10000636-1733605200-1733614200@lemelville.fr
SUMMARY:Quiproquo
DESCRIPTION:Entre samba et bossa\, Quiproquo ne manquent ni de bonne humeur ni de fantaisie. Issus de l’atelier de musique brésilienne du conservatoire Nadia et Lili Boulanger\, ces musiciens partagent le même enthousiasme pour cette musique ; celle qui secoue tout un peuple en le faisant chanter les mains levées au ciel : samba ! Quiproquo c’est surtout un jeune groupe débordant d’énergie qui ne demande qu’à jouer pour votre plaisir. Alors que vous aimiez chanter\, sourire ou danser\, le Brésil vous attend au Melville avec Quirpoquo. \n  \nMona Faruel : chant\nNaomi Guetta : piano\nÉtienne Bottini : basse\nTitouan Vandenborght : batterie
URL:https://lemelville.fr/accueil/evenements/quiproquo-2/
LOCATION:Le Melville\, 28 Rue Jean Mermoz\, Paris\, 75008\, France
CATEGORIES:Latin Bossa Nova,Soul
ATTACH;FMTTYPE=image/png:https://lemelville.fr/wp-content/uploads/2024/07/Quiproquo-Affiche-NF.png
END:VEVENT
BEGIN:VEVENT
DTSTART;TZID=Europe/Paris:20241012T210000
DTEND;TZID=Europe/Paris:20241012T233000
DTSTAMP:20260425T135114
CREATED:20240707T214657Z
LAST-MODIFIED:20240921T085654Z
UID:10000594-1728766800-1728775800@lemelville.fr
SUMMARY:Caravan jazz
DESCRIPTION:Une soirée pleine de peps avec un répertoire de standards de Jazz et de Bossa nova brésilienne\, en quartet piano / basse / batterie / voix. Le tout en laissant une large place à l’improvisation et à l’échange avec le public ! Eleonore Langellier\, vocaliste Jazz à l’énergie communicative est accompagnée du jeune et très talentueux Kellian Camus (@kellian_camus\, élève au CNSM et animateur de la Jam Jazz du 38riv) au piano\, de Matthieu Scala à la contrebasse et Jean-Baptiste Loutte\, ce talentueux batteur aux multiples talents. Ensemble ils apporteront une couleur Be-bop frénétique à la soirée. \n  \nEleonore Langelier : chant\nKellian Camus : piano\nMatthieu Scala : contrebasse\nJean-Baptiste Loutte : batterie \n 
URL:https://lemelville.fr/accueil/evenements/caravan-jazz-8/
LOCATION:Le Melville\, 28 Rue Jean Mermoz\, Paris\, 75008\, France
CATEGORIES:Vocal Standard Jazz
ATTACH;FMTTYPE=image/png:https://lemelville.fr/wp-content/uploads/2024/07/Caravan-10-24-Affiche-NF-1.png
END:VEVENT
BEGIN:VEVENT
DTSTART;TZID=Europe/Paris:20240918T203000
DTEND;TZID=Europe/Paris:20240918T230000
DTSTAMP:20260425T135114
CREATED:20240711T053428Z
LAST-MODIFIED:20240711T053428Z
UID:10000597-1726691400-1726700400@lemelville.fr
SUMMARY:Line Marsa
DESCRIPTION:Line Marsa est une chanteuse inspirée principalement par la première moitié du 20ème siècle. Elle a commencé sa carrière sur scène en tant que chanteuse de chanson française\, ce qui au fur et à mesure a été une bonne passerelle vers le jazz\, le blues et la soul.  \n  \nElle prépare actuellement un EP et son tout premier single “In My Dreams” est sorti récemment.  \n   \nLine Marsa : chant  \nFrançois Chevalier : piano 
URL:https://lemelville.fr/accueil/evenements/line-marsa/
LOCATION:Le Melville\, 28 Rue Jean Mermoz\, Paris\, 75008\, France
CATEGORIES:Soul,Vocal Standard Jazz
ATTACH;FMTTYPE=image/png:https://lemelville.fr/wp-content/uploads/2024/07/Line-Marsa-Affiche-NF.png
END:VEVENT
BEGIN:VEVENT
DTSTART;TZID=Europe/Paris:20240917T203000
DTEND;TZID=Europe/Paris:20240917T230000
DTSTAMP:20260425T135114
CREATED:20240711T142455Z
LAST-MODIFIED:20240711T142455Z
UID:10000599-1726605000-1726614000@lemelville.fr
SUMMARY:Melina Tobiana Quintet
DESCRIPTION:Après un premier album éponyme sorti sur le Label Outnote Records\, Mélina Tobiana revient sur le devant de la scène pour présenter son nouveau répertoire original avec un quintet inédit. Ce groupe impose son style aux frontières du jazz\, du groove et de la Folk.   \n« Une chanteuse qui peut devenir une voix du Jazz ! » Francisco Cruz Jazz News  \n« C’est une habituée des clubs parisiens\, où elle a passé bien des nuits à peaufiner son approche particulière du chant. Avec sa voix un peu râpeuse\, sa présence très assurée\, sa soul et son swing percutant\, Mélina Tobiana compte parmi les jazz women les plus craquantes du moment ! » Louis-Julien Nicolaou -Télérama (TT)  \n  \nMélina Tobiana : Chant   \nMélody Linhart : Chant-Guitare   \nSimon Chivallon : Piano   \nThomas Posner : Contrebasse   \nDamien Françon : Batterie   \n 
URL:https://lemelville.fr/accueil/evenements/melina-tobiana-quintet/
LOCATION:Le Melville\, 28 Rue Jean Mermoz\, Paris\, 75008\, France
CATEGORIES:Jazz Standard,Vocal Standard Jazz
ATTACH;FMTTYPE=image/png:https://lemelville.fr/wp-content/uploads/2024/07/Melina-Tobiana-.png
END:VEVENT
BEGIN:VEVENT
DTSTART;TZID=Europe/Paris:20240831T210000
DTEND;TZID=Europe/Paris:20240831T233000
DTSTAMP:20260425T135114
CREATED:20240707T210738Z
LAST-MODIFIED:20240807T171505Z
UID:10000592-1725138000-1725147000@lemelville.fr
SUMMARY:Quiproquo
DESCRIPTION:Entre samba et bossa\, Quiproquo ne manquent ni de bonne humeur ni de fantaisie. Issus de l’atelier de musique brésilienne du conservatoire Nadia et Lili Boulanger\, ces musiciens partagent le même enthousiasme pour cette musique ; celle qui secoue tout un peuple en le faisant chanter les mains levées au ciel : samba ! Quiproquo c’est surtout un jeune groupe débordant d’énergie qui ne demande qu’à jouer pour votre plaisir. Alors que vous aimiez chanter\, sourire ou danser\, le Brésil vous attend au Melville avec Quirpoquo. \n  \nLouison Camio : chant\nNaomi Guetta : piano\nElsa Lokoye : basse\nTitouan Vandenborght : batterie
URL:https://lemelville.fr/accueil/evenements/quiproquo/
LOCATION:Le Melville\, 28 Rue Jean Mermoz\, Paris\, 75008\, France
CATEGORIES:Latin Bossa Nova,Soul
ATTACH;FMTTYPE=image/png:https://lemelville.fr/wp-content/uploads/2024/07/Quiproquo-Affiche-NF.png
END:VEVENT
BEGIN:VEVENT
DTSTART;TZID=Europe/Paris:20240727T210000
DTEND;TZID=Europe/Paris:20240727T233000
DTSTAMP:20260425T135114
CREATED:20240420T084833Z
LAST-MODIFIED:20240717T222611Z
UID:10000546-1722114000-1722123000@lemelville.fr
SUMMARY:Caravan jazz
DESCRIPTION:Une soirée pleine de peps avec un répertoire de standards de Jazz et de Bossa nova brésilienne\, en quartet piano / basse / batterie / voix. Le tout en laissant une large place à l’improvisation et à l’échange avec le public ! Eleonore Langellier\, vocaliste Jazz à l’énergie communicative est accompagnée du très talentueux Vally Sullimann au piano\, de Maurizio Congiu à la basse et Miguel Couto à la batterie. Ensemble ils apporteront une couleur Be-bop frénétique à la soirée.
URL:https://lemelville.fr/accueil/evenements/caravan-jazz-7/
LOCATION:Le Melville\, 28 Rue Jean Mermoz\, Paris\, 75008\, France
CATEGORIES:Vocal Standard Jazz
ATTACH;FMTTYPE=image/png:https://lemelville.fr/wp-content/uploads/2024/04/Caravan-07-24-Affiche-NF.png
END:VEVENT
BEGIN:VEVENT
DTSTART;TZID=Europe/Paris:20240521T210000
DTEND;TZID=Europe/Paris:20240521T233000
DTSTAMP:20260425T135114
CREATED:20240419T191246Z
LAST-MODIFIED:20240419T191319Z
UID:10000505-1716325200-1716334200@lemelville.fr
SUMMARY:Sarah Kay Trio
DESCRIPTION:Entre tourment et béatitude\, les compositions de la pianiste s’écoutent tel un recueil de réflexions sur le monde qui l’entoure\, mêlant poésie contemplative et fragments d’autobiographie. Puisant son inspiration autant dans le jazz que dans la new soul ou le rock anglais\, avec une palette d’influences qui va de Tigran Hamasyan à King Crimson\, en passant par l’incontournable Bill Evans\, Sarah Kay vous invite à prendre part à ce voyage introspectif mis en musique\, entrelaçant mélodies aériennes et rythmiques ébouillantées.  \nSarah Kay – Piano Simon Prudhomme – Batterie Léo Debroise – Contrebasse \n 
URL:https://lemelville.fr/accueil/evenements/sarah-kay-trio/
LOCATION:Le Melville\, 28 Rue Jean Mermoz\, Paris\, 75008\, France
ATTACH;FMTTYPE=image/png:https://lemelville.fr/wp-content/uploads/2024/04/Sarah-Kay-Affiche.png
END:VEVENT
END:VCALENDAR