BEGIN:VCALENDAR
VERSION:2.0
PRODID:-//Le Melville - ECPv6.15.17//NONSGML v1.0//EN
CALSCALE:GREGORIAN
METHOD:PUBLISH
X-ORIGINAL-URL:https://lemelville.fr/accueil
X-WR-CALDESC:Évènements pour Le Melville
REFRESH-INTERVAL;VALUE=DURATION:PT1H
X-Robots-Tag:noindex
X-PUBLISHED-TTL:PT1H
BEGIN:VTIMEZONE
TZID:Europe/Paris
BEGIN:DAYLIGHT
TZOFFSETFROM:+0100
TZOFFSETTO:+0200
TZNAME:CEST
DTSTART:20230326T010000
END:DAYLIGHT
BEGIN:STANDARD
TZOFFSETFROM:+0200
TZOFFSETTO:+0100
TZNAME:CET
DTSTART:20231029T010000
END:STANDARD
BEGIN:DAYLIGHT
TZOFFSETFROM:+0100
TZOFFSETTO:+0200
TZNAME:CEST
DTSTART:20240331T010000
END:DAYLIGHT
BEGIN:STANDARD
TZOFFSETFROM:+0200
TZOFFSETTO:+0100
TZNAME:CET
DTSTART:20241027T010000
END:STANDARD
BEGIN:DAYLIGHT
TZOFFSETFROM:+0100
TZOFFSETTO:+0200
TZNAME:CEST
DTSTART:20250330T010000
END:DAYLIGHT
BEGIN:STANDARD
TZOFFSETFROM:+0200
TZOFFSETTO:+0100
TZNAME:CET
DTSTART:20251026T010000
END:STANDARD
END:VTIMEZONE
BEGIN:VEVENT
DTSTART;TZID=Europe/Paris:20240613T203000
DTEND;TZID=Europe/Paris:20240613T233000
DTSTAMP:20260422T013534
CREATED:20240420T072710Z
LAST-MODIFIED:20240611T103059Z
UID:10000522-1718310600-1718321400@lemelville.fr
SUMMARY:Tom Peyron Trio
DESCRIPTION:Ce groupe réunit trois musiciens et amis de longue date\, habitués de la scène jazz parisienne.   \nIls interprètent des standards du great american songbook\, un répertoire autour duquel ils peuvent créer et interagir librement dans l’instant.   \nSwing\, tradition et lâcher prise sont les maîtres-mots qui définissent ce trio.  \nTom Peyron : batterie\nGustave Reichert : guitare\nMathieu Scala : contrebasse
URL:https://lemelville.fr/accueil/evenements/tom-peyron-trio-3/
LOCATION:Le Melville\, 28 Rue Jean Mermoz\, Paris\, 75008\, France
CATEGORIES:Jazz Standard
ATTACH;FMTTYPE=image/png:https://lemelville.fr/wp-content/uploads/2024/04/Tom-Peyron-Trio.png
END:VEVENT
END:VCALENDAR