BEGIN:VCALENDAR
VERSION:2.0
PRODID:-//Le Melville - ECPv6.15.17//NONSGML v1.0//EN
CALSCALE:GREGORIAN
METHOD:PUBLISH
X-ORIGINAL-URL:https://lemelville.fr/accueil
X-WR-CALDESC:Évènements pour Le Melville
REFRESH-INTERVAL;VALUE=DURATION:PT1H
X-Robots-Tag:noindex
X-PUBLISHED-TTL:PT1H
BEGIN:VTIMEZONE
TZID:Europe/Paris
BEGIN:DAYLIGHT
TZOFFSETFROM:+0100
TZOFFSETTO:+0200
TZNAME:CEST
DTSTART:20230326T010000
END:DAYLIGHT
BEGIN:STANDARD
TZOFFSETFROM:+0200
TZOFFSETTO:+0100
TZNAME:CET
DTSTART:20231029T010000
END:STANDARD
BEGIN:DAYLIGHT
TZOFFSETFROM:+0100
TZOFFSETTO:+0200
TZNAME:CEST
DTSTART:20240331T010000
END:DAYLIGHT
BEGIN:STANDARD
TZOFFSETFROM:+0200
TZOFFSETTO:+0100
TZNAME:CET
DTSTART:20241027T010000
END:STANDARD
BEGIN:DAYLIGHT
TZOFFSETFROM:+0100
TZOFFSETTO:+0200
TZNAME:CEST
DTSTART:20250330T010000
END:DAYLIGHT
BEGIN:STANDARD
TZOFFSETFROM:+0200
TZOFFSETTO:+0100
TZNAME:CET
DTSTART:20251026T010000
END:STANDARD
END:VTIMEZONE
BEGIN:VEVENT
DTSTART;TZID=Europe/Paris:20240405T203000
DTEND;TZID=Europe/Paris:20240405T233000
DTSTAMP:20260422T013558
CREATED:20231104T150329Z
LAST-MODIFIED:20240611T153954Z
UID:10000406-1712349000-1712359800@lemelville.fr
SUMMARY:Victor Demange
DESCRIPTION:Du blues\, du boogie\, du stride. Ça va swinguer ! \nVictor Demange est un pianiste au style original qui a su se faire une place sur la scène française. Régulièrement invité dans les festivals\, il compte plusieurs collaborations prestigieuses comme notamment Bob Baldori\, le pianiste qui a accompagné Chuck Berry pendant plus de 40 ans ou encore Fabrice Eulry\, pianiste français spécialiste du piano stride.\nAccompagné de ses deux musiciens de marque\, Mat Le Rouge au saxophone et Simon Boyer à la batterie\, il propose un style swing\, blues & boogie inspiré du vieux jazz de la Nouvelle Orléans. Il vous étonnera avec un répertoire varié allant de standards à des réarrangements de musique classique toujours dans un style de vieux jazz américain. \n  \nVictor Demange : piano  \nMat Le Rouge : sax  \nSimon Boyer : batterie 
URL:https://lemelville.fr/accueil/evenements/victor-demange-2/
LOCATION:Le Melville\, 28 Rue Jean Mermoz\, Paris\, 75008\, France
CATEGORIES:Stride, Be-Bop
ATTACH;FMTTYPE=image/png:https://lemelville.fr/wp-content/uploads/2023/11/Victor-Demange-Trio-Boyer-Affiche.png
END:VEVENT
END:VCALENDAR