BEGIN:VCALENDAR
VERSION:2.0
PRODID:-//Le Melville - ECPv6.15.17//NONSGML v1.0//EN
CALSCALE:GREGORIAN
METHOD:PUBLISH
X-ORIGINAL-URL:https://lemelville.fr/accueil
X-WR-CALDESC:Évènements pour Le Melville
REFRESH-INTERVAL;VALUE=DURATION:PT1H
X-Robots-Tag:noindex
X-PUBLISHED-TTL:PT1H
BEGIN:VTIMEZONE
TZID:Europe/Paris
BEGIN:DAYLIGHT
TZOFFSETFROM:+0100
TZOFFSETTO:+0200
TZNAME:CEST
DTSTART:20230326T010000
END:DAYLIGHT
BEGIN:STANDARD
TZOFFSETFROM:+0200
TZOFFSETTO:+0100
TZNAME:CET
DTSTART:20231029T010000
END:STANDARD
BEGIN:DAYLIGHT
TZOFFSETFROM:+0100
TZOFFSETTO:+0200
TZNAME:CEST
DTSTART:20240331T010000
END:DAYLIGHT
BEGIN:STANDARD
TZOFFSETFROM:+0200
TZOFFSETTO:+0100
TZNAME:CET
DTSTART:20241027T010000
END:STANDARD
BEGIN:DAYLIGHT
TZOFFSETFROM:+0100
TZOFFSETTO:+0200
TZNAME:CEST
DTSTART:20250330T010000
END:DAYLIGHT
BEGIN:STANDARD
TZOFFSETFROM:+0200
TZOFFSETTO:+0100
TZNAME:CET
DTSTART:20251026T010000
END:STANDARD
BEGIN:DAYLIGHT
TZOFFSETFROM:+0100
TZOFFSETTO:+0200
TZNAME:CEST
DTSTART:20260329T010000
END:DAYLIGHT
BEGIN:STANDARD
TZOFFSETFROM:+0200
TZOFFSETTO:+0100
TZNAME:CET
DTSTART:20261025T010000
END:STANDARD
END:VTIMEZONE
BEGIN:VEVENT
DTSTART;TZID=Europe/Paris:20250207T210000
DTEND;TZID=Europe/Paris:20250207T233000
DTSTAMP:20260421T235655
CREATED:20241216T103556Z
LAST-MODIFIED:20241216T103556Z
UID:10000686-1738962000-1738971000@lemelville.fr
SUMMARY:Vik Sings The Blues
DESCRIPTION:De la joie débridée à la mélancolie\, aucune autre forme de musique ne communique plus d’émotion authentique que le blues ! \nC’est cette émotion et que Viktorija Gečytė et son quartet international se proposent de partager avec vous au gré de leurs interprétations blues de Billie Holiday\, Nina Simone\, Thelonious Monk\, Sting\, Tom Waits\, James Taylor et d’autres. \nViktorija “Vik” Gečytė : chant\nYoan Fernandez : guitare\nPeter Giron : contrebasse\nMourad Benhammou : batterie
URL:https://lemelville.fr/accueil/evenements/vik-sings-the-blues/
LOCATION:Le Melville\, 28 Rue Jean Mermoz\, Paris\, 75008\, France
CATEGORIES:Blues,Vocal Standard Jazz
ATTACH;FMTTYPE=image/png:https://lemelville.fr/wp-content/uploads/2024/12/Vik-sings-the-blues-Affiche-NF-1.png
END:VEVENT
BEGIN:VEVENT
DTSTART;TZID=Europe/Paris:20241008T203000
DTEND;TZID=Europe/Paris:20241008T233000
DTSTAMP:20260421T235655
CREATED:20240707T194924Z
LAST-MODIFIED:20240707T211945Z
UID:10000589-1728419400-1728430200@lemelville.fr
SUMMARY:Viktorija Gečytė Trio
DESCRIPTION:Viktorija Gečytė\, finaliste du prestigieux Concours International Sarah Vaughan aux côtés de Samara Joy\, sera accompagnée de son accolyte de 15 ans Julien Coriatt avec qui elle a écrit\, composé\, enregistré un disque\, joué en clubs\, à la radio\, en France\, au Maroc\, en Lituanie\, en Suisse\, et Viktor Nyberg un des contrebassistes les plus demandés sur la scène internationale! Ils se retrouvent une fois de plus dans une formule en trio pour un jazz dans la plus élégante et pure tradition! \nJulien Coriatt : piano \nViktorija Gečytė : voix \nViktor Nyberg : contrebasse
URL:https://lemelville.fr/accueil/evenements/viktorija-gecyte-trio/
LOCATION:Le Melville\, 28 Rue Jean Mermoz\, Paris\, 75008\, France
CATEGORIES:Vocal Standard Jazz
ATTACH;FMTTYPE=image/png:https://lemelville.fr/wp-content/uploads/2024/07/Viktorija-Gecyte-Trio-Affiche-NF-2.png
END:VEVENT
BEGIN:VEVENT
DTSTART;TZID=Europe/Paris:20240724T203000
DTEND;TZID=Europe/Paris:20240724T233000
DTSTAMP:20260421T235655
CREATED:20240504T104738Z
LAST-MODIFIED:20240723T112608Z
UID:10000558-1721853000-1721863800@lemelville.fr
SUMMARY:Viktorija Gečytė 4tet
DESCRIPTION:Viktorija Gečytė\, finaliste du prestigieux Concours International Sarah Vaughan aux côtés de Samara Joy\, sera accompagnée de son accolyte de 15 ans Julien Coriatt avec qui elle a écrit\, composé\, enregistré un disque\, joué en clubs\, à la radio\, en France\, au Maroc\, en Lituanie\, en Suisse ! \nJulien Coriatt : piano \nViktorija Gečytė : voix \nFabricio Nicolas-Garcia : contrebasse \nGermain Cornet : batterie
URL:https://lemelville.fr/accueil/evenements/vicktorija-gecyte-trio/
LOCATION:Le Melville\, 28 Rue Jean Mermoz\, Paris\, 75008\, France
CATEGORIES:Vocal Standard Jazz
ATTACH;FMTTYPE=image/png:https://lemelville.fr/wp-content/uploads/2024/05/Vicktorija-Gecyte-4tet-Affiche-1.png
END:VEVENT
END:VCALENDAR