BEGIN:VCALENDAR
VERSION:2.0
PRODID:-//Le Melville - ECPv6.15.17//NONSGML v1.0//EN
CALSCALE:GREGORIAN
METHOD:PUBLISH
X-WR-CALNAME:Le Melville
X-ORIGINAL-URL:https://lemelville.fr/accueil
X-WR-CALDESC:Évènements pour Le Melville
REFRESH-INTERVAL;VALUE=DURATION:PT1H
X-Robots-Tag:noindex
X-PUBLISHED-TTL:PT1H
BEGIN:VTIMEZONE
TZID:Europe/Paris
BEGIN:DAYLIGHT
TZOFFSETFROM:+0100
TZOFFSETTO:+0200
TZNAME:CEST
DTSTART:20230326T010000
END:DAYLIGHT
BEGIN:STANDARD
TZOFFSETFROM:+0200
TZOFFSETTO:+0100
TZNAME:CET
DTSTART:20231029T010000
END:STANDARD
BEGIN:DAYLIGHT
TZOFFSETFROM:+0100
TZOFFSETTO:+0200
TZNAME:CEST
DTSTART:20240331T010000
END:DAYLIGHT
BEGIN:STANDARD
TZOFFSETFROM:+0200
TZOFFSETTO:+0100
TZNAME:CET
DTSTART:20241027T010000
END:STANDARD
BEGIN:DAYLIGHT
TZOFFSETFROM:+0100
TZOFFSETTO:+0200
TZNAME:CEST
DTSTART:20250330T010000
END:DAYLIGHT
BEGIN:STANDARD
TZOFFSETFROM:+0200
TZOFFSETTO:+0100
TZNAME:CET
DTSTART:20251026T010000
END:STANDARD
END:VTIMEZONE
BEGIN:VEVENT
DTSTART;TZID=Europe/Paris:20240913T203000
DTEND;TZID=Europe/Paris:20240913T233000
DTSTAMP:20260422T230209
CREATED:20240707T200726Z
LAST-MODIFIED:20240905T153925Z
UID:10000576-1726259400-1726270200@lemelville.fr
SUMMARY:Léa Castro Trio
DESCRIPTION:Léa Castro parcourt la scène jazz depuis 15 ans. Son trio vous propose\, entre compositions et standards revisités\, une ballade musicale douce et solaire inspirée à la fois par les icônes du jazz vocal (Nina Simone\, Carmen Mc Rae) et les figures incontournables de la Folk et Soul music (Joni Mitchell\, Otis Redding…).    \nLéa Castro : Chant  \nAntoine Delprat : Piano  \nAdrien Daoud : Contrebasse  \n 
URL:https://lemelville.fr/accueil/evenements/lea-castro-trio-2/
LOCATION:Le Melville\, 28 Rue Jean Mermoz\, Paris\, 75008\, France
CATEGORIES:Vocal Standard Jazz
ATTACH;FMTTYPE=image/png:https://lemelville.fr/wp-content/uploads/2024/07/Lea-Castro-Trio-Affiche-V2-NF.png
END:VEVENT
BEGIN:VEVENT
DTSTART;TZID=Europe/Paris:20240917T203000
DTEND;TZID=Europe/Paris:20240917T230000
DTSTAMP:20260422T230209
CREATED:20240711T142455Z
LAST-MODIFIED:20240711T142455Z
UID:10000599-1726605000-1726614000@lemelville.fr
SUMMARY:Melina Tobiana Quintet
DESCRIPTION:Après un premier album éponyme sorti sur le Label Outnote Records\, Mélina Tobiana revient sur le devant de la scène pour présenter son nouveau répertoire original avec un quintet inédit. Ce groupe impose son style aux frontières du jazz\, du groove et de la Folk.   \n« Une chanteuse qui peut devenir une voix du Jazz ! » Francisco Cruz Jazz News  \n« C’est une habituée des clubs parisiens\, où elle a passé bien des nuits à peaufiner son approche particulière du chant. Avec sa voix un peu râpeuse\, sa présence très assurée\, sa soul et son swing percutant\, Mélina Tobiana compte parmi les jazz women les plus craquantes du moment ! » Louis-Julien Nicolaou -Télérama (TT)  \n  \nMélina Tobiana : Chant   \nMélody Linhart : Chant-Guitare   \nSimon Chivallon : Piano   \nThomas Posner : Contrebasse   \nDamien Françon : Batterie   \n 
URL:https://lemelville.fr/accueil/evenements/melina-tobiana-quintet/
LOCATION:Le Melville\, 28 Rue Jean Mermoz\, Paris\, 75008\, France
CATEGORIES:Jazz Standard,Vocal Standard Jazz
ATTACH;FMTTYPE=image/png:https://lemelville.fr/wp-content/uploads/2024/07/Melina-Tobiana-.png
END:VEVENT
BEGIN:VEVENT
DTSTART;TZID=Europe/Paris:20240918T203000
DTEND;TZID=Europe/Paris:20240918T230000
DTSTAMP:20260422T230209
CREATED:20240711T053428Z
LAST-MODIFIED:20240711T053428Z
UID:10000597-1726691400-1726700400@lemelville.fr
SUMMARY:Line Marsa
DESCRIPTION:Line Marsa est une chanteuse inspirée principalement par la première moitié du 20ème siècle. Elle a commencé sa carrière sur scène en tant que chanteuse de chanson française\, ce qui au fur et à mesure a été une bonne passerelle vers le jazz\, le blues et la soul.  \n  \nElle prépare actuellement un EP et son tout premier single “In My Dreams” est sorti récemment.  \n   \nLine Marsa : chant  \nFrançois Chevalier : piano 
URL:https://lemelville.fr/accueil/evenements/line-marsa/
LOCATION:Le Melville\, 28 Rue Jean Mermoz\, Paris\, 75008\, France
CATEGORIES:Soul,Vocal Standard Jazz
ATTACH;FMTTYPE=image/png:https://lemelville.fr/wp-content/uploads/2024/07/Line-Marsa-Affiche-NF.png
END:VEVENT
BEGIN:VEVENT
DTSTART;TZID=Europe/Paris:20240924T203000
DTEND;TZID=Europe/Paris:20240924T233000
DTSTAMP:20260422T230209
CREATED:20240707T194731Z
LAST-MODIFIED:20240923T150021Z
UID:10000581-1727209800-1727220600@lemelville.fr
SUMMARY:Ellen Birath et Matthieu Boré
DESCRIPTION:Une nouvelle fois\, le Melville rend un hommage aux crooners des deux sexes avec : \nMatthieu Boré : chant\nEllen Birath : chant\nStephen Binet : piano\nAnne Shrestha : contrebasse\nVincent Touchard : batterie
URL:https://lemelville.fr/accueil/evenements/helene-birath-et-matthieu-bore/
LOCATION:Le Melville\, 28 Rue Jean Mermoz\, Paris\, 75008\, France
CATEGORIES:Vocal Standard Jazz
ATTACH;FMTTYPE=image/png:https://lemelville.fr/wp-content/uploads/2024/07/Helene-Birath-Matthieu-Bore-Affiche-NF-1.png
END:VEVENT
END:VCALENDAR