BEGIN:VCALENDAR
VERSION:2.0
PRODID:-//Le Melville - ECPv6.15.17//NONSGML v1.0//EN
CALSCALE:GREGORIAN
METHOD:PUBLISH
X-WR-CALNAME:Le Melville
X-ORIGINAL-URL:https://lemelville.fr/accueil
X-WR-CALDESC:Évènements pour Le Melville
REFRESH-INTERVAL;VALUE=DURATION:PT1H
X-Robots-Tag:noindex
X-PUBLISHED-TTL:PT1H
BEGIN:VTIMEZONE
TZID:Europe/Paris
BEGIN:DAYLIGHT
TZOFFSETFROM:+0100
TZOFFSETTO:+0200
TZNAME:CEST
DTSTART:20230326T010000
END:DAYLIGHT
BEGIN:STANDARD
TZOFFSETFROM:+0200
TZOFFSETTO:+0100
TZNAME:CET
DTSTART:20231029T010000
END:STANDARD
BEGIN:DAYLIGHT
TZOFFSETFROM:+0100
TZOFFSETTO:+0200
TZNAME:CEST
DTSTART:20240331T010000
END:DAYLIGHT
BEGIN:STANDARD
TZOFFSETFROM:+0200
TZOFFSETTO:+0100
TZNAME:CET
DTSTART:20241027T010000
END:STANDARD
BEGIN:DAYLIGHT
TZOFFSETFROM:+0100
TZOFFSETTO:+0200
TZNAME:CEST
DTSTART:20250330T010000
END:DAYLIGHT
BEGIN:STANDARD
TZOFFSETFROM:+0200
TZOFFSETTO:+0100
TZNAME:CET
DTSTART:20251026T010000
END:STANDARD
END:VTIMEZONE
BEGIN:VEVENT
DTSTART;TZID=Europe/Paris:20240904T203000
DTEND;TZID=Europe/Paris:20240904T233000
DTSTAMP:20260422T223158
CREATED:20240707T200926Z
LAST-MODIFIED:20240716T124151Z
UID:10000573-1725481800-1725492600@lemelville.fr
SUMMARY:Jean-Baptiste Loutte - Jazz Brésilien
DESCRIPTION:Soirée Jazz brésilien  \nLes 4 et 6 septembre\, Le Melville perpétue une grande tradition des jazz-clubs en proposant une résidence de deux concerts consécutifs au musicien Jean-Baptiste Loutte\, batteur\, chanteur et guitariste en pleine émergence sur la scène jazz française. \nAu chant\, à la batterie et à la guitare\, Jean-Baptiste Loutte sera accompagné par deux musiciens brésiliens exceptionnels\, Toninho Do Carmo (John Mark Jaffe\, Mark Berteaud\, Raul de Souza\, Cacau\, Luiz Antônio ‘The Star’\, Monica Passos) et Acelino de Paula (Catia Werneck\, Fredrika Stahl\, Jose Maria Cano Deborah Carter) et se promènera avec joie dans le répertoire immense de la musique brésilienne et du jazz : Antonio Carlos Jobim\, João Gilberto\, Milton Nascimiento\, Ivan Lins… Une soirée pleine de douceurs\, de rythmes et d’harmonies qui nous emmèneront dans des ambiances et climats délicats\, subtiles et variés.  \nJean-Baptiste Loutte : chant\, batterie\, guitare\nToninho Do Carmo : guitare \nAcelino de Paula : basse 
URL:https://lemelville.fr/accueil/evenements/loutte-festival-3/
LOCATION:Le Melville\, 28 Rue Jean Mermoz\, Paris\, 75008\, France
CATEGORIES:Jazz Standard,World
ATTACH;FMTTYPE=image/png:https://lemelville.fr/wp-content/uploads/2024/07/Loutte-Festival-4-sep-Affiche-NF-1.png
END:VEVENT
BEGIN:VEVENT
DTSTART;TZID=Europe/Paris:20240905T203000
DTEND;TZID=Europe/Paris:20240905T230000
DTSTAMP:20260422T223158
CREATED:20240715T070658Z
LAST-MODIFIED:20240715T070658Z
UID:10000601-1725568200-1725577200@lemelville.fr
SUMMARY:Norig Balkan Trio
DESCRIPTION:Figure solaire du chant tzigane balkanique\, la chanteuse Norig fait danser sa voix au tempérament fougueux depuis deux décennies sur les scènes festivalières. Révélée par le cinéaste Tony Gatlif et accueillie sur les scènes des grands noms de la musique manouche tels que Stochello Rosenberg ou Bireli Lagrene\, Norig s’est éprise du cri d’un peuple qui fait écho à son âme.   \nNorig : Chant  \nMathias Lévy : Violon  \nJoris Viquesnel : Guitare 
URL:https://lemelville.fr/accueil/evenements/norig-balkan-trio/
LOCATION:Le Melville\, 28 Rue Jean Mermoz\, Paris\, 75008\, France
CATEGORIES:Tzigane,World
ATTACH;FMTTYPE=image/png:https://lemelville.fr/wp-content/uploads/2024/07/Norig-Trio-Balkan-NF.png
END:VEVENT
BEGIN:VEVENT
DTSTART;TZID=Europe/Paris:20240919T203000
DTEND;TZID=Europe/Paris:20240919T230000
DTSTAMP:20260422T223158
CREATED:20240711T054349Z
LAST-MODIFIED:20240711T102721Z
UID:10000598-1726777800-1726786800@lemelville.fr
SUMMARY:Trio in Uno
DESCRIPTION:Composé par les brésiliens Diego Cardoso (violoncelle) et José Ferreira (guitare 7 cordes) et l’italienne Giulia Tamanini (saxophones)\, le Trio in Uno nous invite dans le monde enchanteur de la musique instrumentale brésilienne à travers leurs propres compositions et les œuvres de grands compositeurs brésiliens tels que H. Pascoal\, E. Gismonti\, H. de Hollanda\, entre autres. Depuis 2015\, cet ensemble a enregistré trois albums et se produit régulièrement sur les scènes françaises et internationales.  \nGiulia Tamanini : saxophone soprano  \nJosé Ferreira : guitare 7 cordes  \nDiego Cardoso : violoncelle 
URL:https://lemelville.fr/accueil/evenements/giulia-tamanini-trio/
LOCATION:Le Melville\, 28 Rue Jean Mermoz\, Paris\, 75008\, France
CATEGORIES:World
ATTACH;FMTTYPE=image/png:https://lemelville.fr/wp-content/uploads/2024/07/Giulia-Tamanini-Trio-Affiche-NF.png
END:VEVENT
BEGIN:VEVENT
DTSTART;TZID=Europe/Paris:20240926T203000
DTEND;TZID=Europe/Paris:20240926T233000
DTSTAMP:20260422T223158
CREATED:20240707T195308Z
LAST-MODIFIED:20240707T195308Z
UID:10000582-1727382600-1727393400@lemelville.fr
SUMMARY:Klezmer mit Tsibeles
DESCRIPTION:Les six musiciens de Klezmer mit Tsibeles (“Klezmer aux petits oignons”) ont fait leurs classes au sein de différents groupes (Le Tout Petit Klezmer\, Balabosta\, KKO…)\, avec lesquels ils ont joué à Paris et dans toute la France (la Marbrerie\, l’Alimentation Générale\, le Mahj\, les Disquaires\, festival des guinguettes du monde\, festival de Carpentras\, festival Musiqueyras…).\nLe sextet réunit les instruments historiques de la musique Klezmer dans une configuration unique et originale et pratique une musique brillante\, inventive\, dansante ou plus profonde\, sans nostalgie mais toujours ancrée dans la tradition. \nAlain Gourdeau\, à l’origine du groupe\, a découvert la musique Klezmer au début des années 90 et n’a depuis jamais cessé de la pratiquer\, principalement à la clarinette\, mais aussi à la contrebasse ou à la basse électrique. Il a côtoyé des instrumentistes et musiciens de grande envergure (Franck London\, David Krakauer\, Pierre Wekstein…)\, rencontres dont il nourrit aujourd’hui encore sa pratique. Son passage dans les classes du CNSM de Paris lui a permis d’acquérir une grande aisance dans l’écriture et les arrangements.\nAlain Gourdeau : basse et arrangements\nMaëva Tur : violon\nJuliette Salles : violoncelle\nDiana Legutko : clarinette\nClaire Brandy : clarinette\nPierre Mandel : trombone  \n 
URL:https://lemelville.fr/accueil/evenements/klezmer-mit-tsibeles/
LOCATION:Le Melville\, 28 Rue Jean Mermoz\, Paris\, 75008\, France
CATEGORIES:Klezmer,World
ATTACH;FMTTYPE=image/png:https://lemelville.fr/wp-content/uploads/2024/07/Klezmer-mit-Tsibeles-Affiche-NF.png
END:VEVENT
END:VCALENDAR