BEGIN:VCALENDAR
VERSION:2.0
PRODID:-//Le Melville - ECPv6.15.17//NONSGML v1.0//EN
CALSCALE:GREGORIAN
METHOD:PUBLISH
X-ORIGINAL-URL:https://lemelville.fr/accueil
X-WR-CALDESC:Évènements pour Le Melville
REFRESH-INTERVAL;VALUE=DURATION:PT1H
X-Robots-Tag:noindex
X-PUBLISHED-TTL:PT1H
BEGIN:VTIMEZONE
TZID:Europe/Paris
BEGIN:DAYLIGHT
TZOFFSETFROM:+0100
TZOFFSETTO:+0200
TZNAME:CEST
DTSTART:20230326T010000
END:DAYLIGHT
BEGIN:STANDARD
TZOFFSETFROM:+0200
TZOFFSETTO:+0100
TZNAME:CET
DTSTART:20231029T010000
END:STANDARD
BEGIN:DAYLIGHT
TZOFFSETFROM:+0100
TZOFFSETTO:+0200
TZNAME:CEST
DTSTART:20240331T010000
END:DAYLIGHT
BEGIN:STANDARD
TZOFFSETFROM:+0200
TZOFFSETTO:+0100
TZNAME:CET
DTSTART:20241027T010000
END:STANDARD
BEGIN:DAYLIGHT
TZOFFSETFROM:+0100
TZOFFSETTO:+0200
TZNAME:CEST
DTSTART:20250330T010000
END:DAYLIGHT
BEGIN:STANDARD
TZOFFSETFROM:+0200
TZOFFSETTO:+0100
TZNAME:CET
DTSTART:20251026T010000
END:STANDARD
END:VTIMEZONE
BEGIN:VEVENT
DTSTART;TZID=Europe/Paris:20240718T203000
DTEND;TZID=Europe/Paris:20240718T233000
DTSTAMP:20260422T001609
CREATED:20240420T084021Z
LAST-MODIFIED:20240611T141657Z
UID:10000544-1721334600-1721345400@lemelville.fr
SUMMARY:Iklim
DESCRIPTION:Iklim est le fruit d’une rencontre audacieuse entre le jazz et les musiques traditionnelles de la Corée du Sud. \nLes compositions de la flûtiste Yoorim Won puisent aux sources de sa culture coréenne\, fusionnant deux de ses aspects centraux\, han (« tristesse ») et heung (« joie »)\, avec les influences les plus diverses\, du free jazz au funk en passant par la néo soul. \nAu fil d’un voyage entremêlant des arrangements inventifs de thèmes tirés du répertoire traditionnel de Corée\, IKLIM nous transporte à la rencontre d’un univers profond et envoûtant qui redéfinit les cadres d’expression de la flûte traversière. \n  \nYoorim Won : Flûte traversière\, chant et composition \nNina Gat : Piano \nMatis Regnault : Contrebasse \nLéo Tochon : Batterie \n 
URL:https://lemelville.fr/accueil/evenements/ikilm/
LOCATION:Le Melville\, 28 Rue Jean Mermoz\, Paris\, 75008\, France
CATEGORIES:World
ATTACH;FMTTYPE=image/png:https://lemelville.fr/wp-content/uploads/2024/04/IKLIM-Affiche-1.png
END:VEVENT
END:VCALENDAR