BEGIN:VCALENDAR
VERSION:2.0
PRODID:-//Le Melville - ECPv6.15.17//NONSGML v1.0//EN
CALSCALE:GREGORIAN
METHOD:PUBLISH
X-WR-CALNAME:Le Melville
X-ORIGINAL-URL:https://lemelville.fr/accueil
X-WR-CALDESC:Évènements pour Le Melville
REFRESH-INTERVAL;VALUE=DURATION:PT1H
X-Robots-Tag:noindex
X-PUBLISHED-TTL:PT1H
BEGIN:VTIMEZONE
TZID:Europe/Paris
BEGIN:DAYLIGHT
TZOFFSETFROM:+0100
TZOFFSETTO:+0200
TZNAME:CEST
DTSTART:20220327T010000
END:DAYLIGHT
BEGIN:STANDARD
TZOFFSETFROM:+0200
TZOFFSETTO:+0100
TZNAME:CET
DTSTART:20221030T010000
END:STANDARD
BEGIN:DAYLIGHT
TZOFFSETFROM:+0100
TZOFFSETTO:+0200
TZNAME:CEST
DTSTART:20230326T010000
END:DAYLIGHT
BEGIN:STANDARD
TZOFFSETFROM:+0200
TZOFFSETTO:+0100
TZNAME:CET
DTSTART:20231029T010000
END:STANDARD
BEGIN:DAYLIGHT
TZOFFSETFROM:+0100
TZOFFSETTO:+0200
TZNAME:CEST
DTSTART:20240331T010000
END:DAYLIGHT
BEGIN:STANDARD
TZOFFSETFROM:+0200
TZOFFSETTO:+0100
TZNAME:CET
DTSTART:20241027T010000
END:STANDARD
END:VTIMEZONE
BEGIN:VEVENT
DTSTART;TZID=Europe/Paris:20231003T190000
DTEND;TZID=Europe/Paris:20231003T230000
DTSTAMP:20260425T144250
CREATED:20230921T140448Z
LAST-MODIFIED:20230921T140448Z
UID:10000351-1696359600-1696374000@lemelville.fr
SUMMARY:Grace Maira Trio
DESCRIPTION:Originaire de Seattle\, situé sur la côte ouest des États-Unis\, la chanteuse de jazz Grace Maira présente son trio reprenant les classiques de jazz et de la bossa nova\, en s’approprient les mélodies des plus grands compositeurs modernes\, pour y exprimer sa plus grande passion\, sa délicatesse\, sa manière d’interpréter les mélodies et son sens du swing.  \nDiplômée de Imep Paris College of Music\, elle est accompagnée par Thibault Paul-Dubois-Taine (Piano/Claviers) et Louis Romiguière (Contrebasse) tous deux rencontrés dans cette école de Jazz pour apporter l’ambiance désirée.  \nIntimité\, douceur et expressivité artistique seront au rendez-vous !  \nRépertoire jazz swing et bossa. 
URL:https://lemelville.fr/accueil/evenements/grace-maira-trio/
LOCATION:Le Melville\, 28 Rue Jean Mermoz\, Paris\, 75008\, France
ATTACH;FMTTYPE=image/png:https://lemelville.fr/wp-content/uploads/2023/09/grace-maira.png
END:VEVENT
BEGIN:VEVENT
DTSTART;TZID=Europe/Paris:20231004T190000
DTEND;TZID=Europe/Paris:20231004T230000
DTSTAMP:20260425T144250
CREATED:20230921T140545Z
LAST-MODIFIED:20231009T083103Z
UID:10000352-1696446000-1696460400@lemelville.fr
SUMMARY:Square Noon
DESCRIPTION:Square Noon\, c’est Alexandre\, Axel et Arthur\, qui vitalisent leur musique comme aux premières heures du jazz. La joie communicative de ces trois amis de promo de l’Imep (Paris College of Music) fait vibrer le Melville tous les mercredis.
URL:https://lemelville.fr/accueil/evenements/square-noon-2/
LOCATION:Le Melville\, 28 Rue Jean Mermoz\, Paris\, 75008\, France
ATTACH;FMTTYPE=image/png:https://lemelville.fr/wp-content/uploads/2023/10/square-noon.png
END:VEVENT
BEGIN:VEVENT
DTSTART;TZID=Europe/Paris:20231005T190000
DTEND;TZID=Europe/Paris:20231005T230000
DTSTAMP:20260425T144250
CREATED:20230921T140933Z
LAST-MODIFIED:20230921T140933Z
UID:10000353-1696532400-1696546800@lemelville.fr
SUMMARY:Cuatro Compases
DESCRIPTION:Cuatro Compases – quatre mesures\, quatre guitares pour un voyage dans une Milonga au gré des tangos\, valses et mélodies sud-américaines interprétés par ce vibrant quatuor. 
URL:https://lemelville.fr/accueil/evenements/cuatro-compases/
LOCATION:Le Melville\, 28 Rue Jean Mermoz\, Paris\, 75008\, France
ATTACH;FMTTYPE=image/png:https://lemelville.fr/wp-content/uploads/2023/09/cuatro-compases.png
END:VEVENT
BEGIN:VEVENT
DTSTART;TZID=Europe/Paris:20231006T190000
DTEND;TZID=Europe/Paris:20231006T230000
DTSTAMP:20260425T144250
CREATED:20230921T141127Z
LAST-MODIFIED:20240611T094912Z
UID:10000354-1696618800-1696633200@lemelville.fr
SUMMARY:Rãzinhas e Sapinhos
DESCRIPTION:Entre samba et bossa\, Rãzinhas e Sapinhos ne manquent ni de bonne humeur ni de fantaisie. Issus de l’atelier de musique brésilienne du conservatoire Nadia et Lili Boulanger\, ces musiciens partagent le même enthousiasme pour cette musique ; celle qui secoue tout un peuple en le faisant chanter les mains levées au ciel : samba ! Rãzinhas e Sapinhos c’est surtout un jeune groupe débordant d’énergie qui ne demande qu’à jouer pour votre plaisir. Alors que vous aimiez chanter\, sourire ou danser\, le Brésil vous attend au Melville avec Rãzinhas e Sapinhos 
URL:https://lemelville.fr/accueil/evenements/razinhas-e-sapinhos/
LOCATION:Le Melville\, 28 Rue Jean Mermoz\, Paris\, 75008\, France
CATEGORIES:Latin Bossa Nova
ATTACH;FMTTYPE=image/png:https://lemelville.fr/wp-content/uploads/2023/09/Razinhas-e-Sapinhos.png
END:VEVENT
BEGIN:VEVENT
DTSTART;TZID=Europe/Paris:20231007T190000
DTEND;TZID=Europe/Paris:20231007T230000
DTSTAMP:20260425T144250
CREATED:20230921T141444Z
LAST-MODIFIED:20240611T101342Z
UID:10000355-1696705200-1696719600@lemelville.fr
SUMMARY:Caravan Jazz
DESCRIPTION:Une soirée pleine de peps avec un répertoire de standards de Jazz et de Bossa nova brésilienne\, en quartet piano / basse / batterie / voix. Le tout en laissant une large place à l’improvisation et à l’échange avec le public ! Eleonore Langellier\, vocaliste Jazz à l’énergie communicative est accompagnée du très talentueux Vally Sullimann au piano\, d’Emmanuel Sunee à la basse et Tom Peyron à la batterie. Ensemble ils apporteront une couleur Be-bop frénétique à la soirée.
URL:https://lemelville.fr/accueil/evenements/caravan-jazz/
LOCATION:Le Melville\, 28 Rue Jean Mermoz\, Paris\, 75008\, France
CATEGORIES:Vocal Standard Jazz
ATTACH;FMTTYPE=image/png:https://lemelville.fr/wp-content/uploads/2023/09/caravan-2.png
END:VEVENT
BEGIN:VEVENT
DTSTART;TZID=Europe/Paris:20231010T190000
DTEND;TZID=Europe/Paris:20231010T230000
DTSTAMP:20260425T144250
CREATED:20230921T142036Z
LAST-MODIFIED:20230921T142036Z
UID:10000356-1696964400-1696978800@lemelville.fr
SUMMARY:Montegu
DESCRIPTION:Gautier Montegu est un jeune virtuose formé à l’IMEP (Paris College of Music) et au Conservatoire de Paris qui développe un goût immodéré pour une musique ancrée dans la tradition du jazz.   \nEntre ballades mélancoliques\, swing intime et Standards du Great American Song Book\, il navigue avec aisance et élégance ! 
URL:https://lemelville.fr/accueil/evenements/montegu/
LOCATION:Le Melville\, 28 Rue Jean Mermoz\, Paris\, 75008\, France
ATTACH;FMTTYPE=image/png:https://lemelville.fr/wp-content/uploads/2023/09/Montegu.png
END:VEVENT
BEGIN:VEVENT
DTSTART;TZID=Europe/Paris:20231011T190000
DTEND;TZID=Europe/Paris:20231011T230000
DTSTAMP:20260425T144250
CREATED:20230921T142302Z
LAST-MODIFIED:20231009T083017Z
UID:10000357-1697050800-1697065200@lemelville.fr
SUMMARY:Square Noon
DESCRIPTION:Square Noon\, c’est Alexandre\, Axel et Arthur\, qui vitalisent leur musique comme aux premières heures du jazz. La joie communicative de ces trois amis de promo de l’Imep (Paris College of Music) fait vibrer le Melville tous les mercredis.
URL:https://lemelville.fr/accueil/evenements/square-noon-3/
LOCATION:Le Melville\, 28 Rue Jean Mermoz\, Paris\, 75008\, France
ATTACH;FMTTYPE=image/png:https://lemelville.fr/wp-content/uploads/2023/10/square-noon.png
END:VEVENT
BEGIN:VEVENT
DTSTART;TZID=Europe/Paris:20231012T190000
DTEND;TZID=Europe/Paris:20231012T230000
DTSTAMP:20260425T144250
CREATED:20230921T142556Z
LAST-MODIFIED:20230921T142556Z
UID:10000358-1697137200-1697151600@lemelville.fr
SUMMARY:Capeba
DESCRIPTION:Le 12 octobre 2023\, la Saudade et la Morna capverdiennes s’invitent au Melville !  \nLe duo Capeba\, formé de Timothée Isnard\, chanteur guitariste franco-capverdien et d’Abel Charzat (violon) nous emmèneront vers la chaleur du Cap-vert et revisiteront\, entre morna\, coladeira et la saudade\, les mélodies traditionnelles du Cap Vert et les classiques de Ferro Gaita ou Cesaria Evora.  \nLe répertoire de Capeba voyage entre le jazz et le Cap-vert. Vous pourrez entendre le violon alterner aussi bien entre la morna et le blues\, le swing et la coladeira ou le funk et la batuku.  \nJazz créole raffiné  \nTimothée est diplômé du Conservatoire de Paris en guitare jazz et danse. 
URL:https://lemelville.fr/accueil/evenements/capeba/
ATTACH;FMTTYPE=image/png:https://lemelville.fr/wp-content/uploads/2023/09/capeba.png
END:VEVENT
BEGIN:VEVENT
DTSTART;TZID=Europe/Paris:20231013T190000
DTEND;TZID=Europe/Paris:20231013T230000
DTSTAMP:20260425T144250
CREATED:20230921T143246Z
LAST-MODIFIED:20230921T143620Z
UID:10000359-1697223600-1697238000@lemelville.fr
SUMMARY:Romane DJM Trio
DESCRIPTION:Ces trois monstres du Jazz manouche se produisent de manière exceptionnelle dans l’écrin du Melville. Romane sera accompagné à la contrebasse par Daniel John Martin et à la guitare par Julien Cattiaux. L’intimité avec le public fait écho à celle des artistes pour une soirée qui s’annonce magique.
URL:https://lemelville.fr/accueil/evenements/romane-djm-trio/
LOCATION:Le Melville\, 28 Rue Jean Mermoz\, Paris\, 75008\, France
ATTACH;FMTTYPE=image/png:https://lemelville.fr/wp-content/uploads/2023/09/Romane-DJM-Trio-V1-scaled.png
END:VEVENT
BEGIN:VEVENT
DTSTART;TZID=Europe/Paris:20231014T190000
DTEND;TZID=Europe/Paris:20231014T230000
DTSTAMP:20260425T144250
CREATED:20230921T143523Z
LAST-MODIFIED:20230921T143523Z
UID:10000360-1697310000-1697324400@lemelville.fr
SUMMARY:Paris Latino
DESCRIPTION:Salsa caliente avec le Quatuor Paris Latino dans l’écrin du Melville ! Ce jeudi\, le restaurant gastronomique club de Jazz se fait latino pour une soirée festive au son de salsa et de rythmes cubains. Le Quaturo Paris Latino\, avec José Palomo (chant et Guitare)\, Guillermo Benavides (chant et contrebasse)\, Manuel Anoyvega (chant et Piano) et Nicolas Anoyvega (Saxo) viennent faire vibrer les bois et velour du Melville. Ca va swinguer ! 
URL:https://lemelville.fr/accueil/evenements/paris-latino/
LOCATION:Le Melville\, 28 Rue Jean Mermoz\, Paris\, 75008\, France
ATTACH;FMTTYPE=image/png:https://lemelville.fr/wp-content/uploads/2023/09/paris-latino.png
END:VEVENT
BEGIN:VEVENT
DTSTART;TZID=Europe/Paris:20231017T190000
DTEND;TZID=Europe/Paris:20231017T230000
DTSTAMP:20260425T144250
CREATED:20230921T143911Z
LAST-MODIFIED:20230921T143911Z
UID:10000361-1697569200-1697583600@lemelville.fr
SUMMARY:Duvigneau et Midon
DESCRIPTION:Thomas Duvigneau vous propose une soirée piano jazz basée sur les grands standards de l’american songbook.  \nDiplômé en 2005 du Conservatoire Royal de La Haye aux Pays-Bas\, il s’installe a Paris et se produit régulièrement dans les clubs de jazz les plus prestigieux.  \nSa musique est influencée par ses nombreux voyages et rencontres\, aux USA\, en Europe\, Inde\, Népal où il enseigne au conservatoire de Kathmandu\, Serbie\, Thaïlande et en Israël avec le Batteur légendaire Billy Cobham.  \nIl se produit aujourd’hui régulièrement à Paris avec notamment Lukmil Perez\, Gabriel Pierre\, Gabriel Midon\, Gilles Naturel\, Sara Miette\, Ilana Bens etc… 
URL:https://lemelville.fr/accueil/evenements/duvigneau-et-midon/
LOCATION:Le Melville\, 28 Rue Jean Mermoz\, Paris\, 75008\, France
ATTACH;FMTTYPE=image/png:https://lemelville.fr/wp-content/uploads/2023/09/duvigneau-midon.png
END:VEVENT
BEGIN:VEVENT
DTSTART;TZID=Europe/Paris:20231018T190000
DTEND;TZID=Europe/Paris:20231018T230000
DTSTAMP:20260425T144250
CREATED:20230921T144040Z
LAST-MODIFIED:20231009T082940Z
UID:10000362-1697655600-1697670000@lemelville.fr
SUMMARY:Square Noon
DESCRIPTION:Square Noon\, c’est Alexandre\, Axel et Arthur\, qui vitalisent leur musique comme aux premières heures du jazz. La joie communicative de ces trois amis de promo de l’Imep (Paris College of Music) fait vibrer le Melville tous les mercredis.
URL:https://lemelville.fr/accueil/evenements/square-noon-4/
LOCATION:Le Melville\, 28 Rue Jean Mermoz\, Paris\, 75008\, France
ATTACH;FMTTYPE=image/png:https://lemelville.fr/wp-content/uploads/2023/10/square-noon.png
END:VEVENT
BEGIN:VEVENT
DTSTART;TZID=Europe/Paris:20231019T190000
DTEND;TZID=Europe/Paris:20231019T230000
DTSTAMP:20260425T144250
CREATED:20230921T144307Z
LAST-MODIFIED:20240611T103246Z
UID:10000363-1697742000-1697756400@lemelville.fr
SUMMARY:Kanis & Lou
DESCRIPTION:La chanteuse et guitariste Lou Richard et le Paolo Conti\, joueur de guitare hawaïenne (aka steel guitar aka kika kila) conjuguent leurs passions pour le swing et la musique hawaïenne. Matthieu Duretz à la basse électrique et à la contrebasse et Corentin Boizot-Blaise aux percussions ont rejoint ce duo magique.  \nD’abord résidant du fameux Tiki Lounge\, bar parisien antre de la culture Tiki\, ils se sont par la suite produits lors de concerts et festivals en France.  
URL:https://lemelville.fr/accueil/evenements/kanis-lou/
LOCATION:Le Melville\, 28 Rue Jean Mermoz\, Paris\, 75008\, France
CATEGORIES:World
ATTACH;FMTTYPE=image/png:https://lemelville.fr/wp-content/uploads/2023/09/Kanis-et-Lou.png
END:VEVENT
BEGIN:VEVENT
DTSTART;TZID=Europe/Paris:20231020T190000
DTEND;TZID=Europe/Paris:20231020T230000
DTSTAMP:20260425T144250
CREATED:20230921T144610Z
LAST-MODIFIED:20230921T144610Z
UID:10000364-1697828400-1697842800@lemelville.fr
SUMMARY:JSP Quartet
DESCRIPTION:Les membres du JSP Quartet se rencontrent au Centre des Musiques Didier Lockwood\, entre deux cours d’improvisation\, des discussions musicales tardives et des soirées à jammer toute la nuit. Animés par des influences musicales allant des années 1930 à aujourd’hui\, ils condensent leur vision du jazz dans une sonorité moderne qui empreinte à tous les genres\, sans jamais perdre de vue l’héritage des grands musiciens qui ont fait cette musique. 
URL:https://lemelville.fr/accueil/evenements/jsp-quartet/
LOCATION:Le Melville\, 28 Rue Jean Mermoz\, Paris\, 75008\, France
ATTACH;FMTTYPE=image/png:https://lemelville.fr/wp-content/uploads/2023/09/JSP-Quartet.png
END:VEVENT
BEGIN:VEVENT
DTSTART;TZID=Europe/Paris:20231021T190000
DTEND;TZID=Europe/Paris:20231021T230000
DTSTAMP:20260425T144250
CREATED:20230921T145143Z
LAST-MODIFIED:20230921T145143Z
UID:10000365-1697914800-1697929200@lemelville.fr
SUMMARY:Miguel Munar Sextet
DESCRIPTION:Les chemins de ces musiciens se croisent après avoir participé activement au mouvement salsa à Paris. Cette passion pour la salsa les a amenés à partager et fusionner leurs pratiques musicales. La diversité de leurs origines\, de leurs formations et de leurs expériences fait de cette union musicale une expérience enrichissante où la salsa et le folklore colombien avec des touches de latin jazz\, sont les protagonistes. Dans cette occasion\, réunis par le trompettiste Miguel Munar\, ils cherchent à transmettre leur passion pour ce genre musical au public du Melville et à continuer à maintenir la culture salsa vivante et actuelle à travers leur performance en direct. 
URL:https://lemelville.fr/accueil/evenements/miguel-munar-sextet/
LOCATION:Le Melville\, 28 Rue Jean Mermoz\, Paris\, 75008\, France
ATTACH;FMTTYPE=image/png:https://lemelville.fr/wp-content/uploads/2023/09/miguel-munar-sextet.png
END:VEVENT
BEGIN:VEVENT
DTSTART;TZID=Europe/Paris:20231024T190000
DTEND;TZID=Europe/Paris:20231024T230000
DTSTAMP:20260425T144250
CREATED:20230921T150018Z
LAST-MODIFIED:20230925T200100Z
UID:10000366-1698174000-1698188400@lemelville.fr
SUMMARY:Inner Space Trio
DESCRIPTION:L’Inner Space Trio revient au Melville pour la plus grande joie de l’auditoire. Une merveilleuse promenade dans les grands standards ! \nClément Thirion (Basse)\, Sergio Nicola (Piano) et Patrick Chenais (Batterie) nous offrent une ballade entre les mélodies de Bill Evans\, du Duke et des plus grands. Comment mieux débuter la semaine qu’avec ce trio en se plongeant dans les grands standards interprétés avec élégance et sensibilité ?
URL:https://lemelville.fr/accueil/evenements/inner-space-trio/
LOCATION:Le Melville\, 28 Rue Jean Mermoz\, Paris\, 75008\, France
ATTACH;FMTTYPE=image/png:https://lemelville.fr/wp-content/uploads/2023/09/affiche-1-1.pdf.png
END:VEVENT
BEGIN:VEVENT
DTSTART;TZID=Europe/Paris:20231025T190000
DTEND;TZID=Europe/Paris:20231025T230000
DTSTAMP:20260425T144250
CREATED:20230921T150207Z
LAST-MODIFIED:20231009T082853Z
UID:10000367-1698260400-1698274800@lemelville.fr
SUMMARY:Square Noon
DESCRIPTION:Square Noon\, c’est Alexandre\, Axel et Arthur\, qui vitalisent leur musique comme aux premières heures du jazz. La joie communicative de ces trois amis de promo de l’Imep (Paris College of Music) fait vibrer le Melville tous les mercredis.
URL:https://lemelville.fr/accueil/evenements/square-noon-5/
LOCATION:Le Melville\, 28 Rue Jean Mermoz\, Paris\, 75008\, France
ATTACH;FMTTYPE=image/png:https://lemelville.fr/wp-content/uploads/2023/10/square-noon.png
END:VEVENT
BEGIN:VEVENT
DTSTART;TZID=Europe/Paris:20231026T190000
DTEND;TZID=Europe/Paris:20231026T230000
DTSTAMP:20260425T144250
CREATED:20230921T150519Z
LAST-MODIFIED:20230921T150519Z
UID:10000368-1698346800-1698361200@lemelville.fr
SUMMARY:Lazhar Zennou
DESCRIPTION:Lazhar ZENNOU à la guitare chante ses déchirantes mélodies arabo-andalouses\, acompagné de Rachid Belharbi au piano\, Khaled Sifi au Cajun\, et Zakaria Bendaoud à la basse. Le premier autodidacte de génie et le second de formation pianistique classique forment avec Khaled et Zak un quatuor boulversant. 
URL:https://lemelville.fr/accueil/evenements/lazhar-zennou/
LOCATION:Le Melville\, 28 Rue Jean Mermoz\, Paris\, 75008\, France
ATTACH;FMTTYPE=image/png:https://lemelville.fr/wp-content/uploads/2023/09/Lazhar-Zennou.png
END:VEVENT
BEGIN:VEVENT
DTSTART;TZID=Europe/Paris:20231027T190000
DTEND;TZID=Europe/Paris:20231027T230000
DTSTAMP:20260425T144250
CREATED:20230921T150641Z
LAST-MODIFIED:20230921T150653Z
UID:10000369-1698433200-1698447600@lemelville.fr
SUMMARY:Tobrouk
DESCRIPTION:Tobrouk est un duo de Jazz Ethno et Musique latine\, mêlant piano et percussions.  Antoine Dumas\, au piano et Elliot Frésil aux percussions (Derbouka/Cajon) vous invitent au voyage des Caraïbes au Moyen Orient 
URL:https://lemelville.fr/accueil/evenements/tobrouk/
LOCATION:Le Melville\, 28 Rue Jean Mermoz\, Paris\, 75008\, France
ATTACH;FMTTYPE=image/png:https://lemelville.fr/wp-content/uploads/2023/09/tobrouk.png
END:VEVENT
BEGIN:VEVENT
DTSTART;TZID=Europe/Paris:20231028T190000
DTEND;TZID=Europe/Paris:20231028T230000
DTSTAMP:20260425T144250
CREATED:20230921T151139Z
LAST-MODIFIED:20230921T151139Z
UID:10000370-1698519600-1698534000@lemelville.fr
SUMMARY:Carlos Napoles Quartet
DESCRIPTION:Les rythmes cubain envahissent le Melville le Samedi avec CARLOS NAPOLES QUARTET. C’est festif et ça swing !  \nCarlos Napoles Quartet\, c’est une formation musicale cubaine fruit de la fusion de rythmes afro-caribéens et cubains. C’est l’espérance et la fête !  \nUn voyage musical qui part de la musique cubaine actuelle en passant par la salsa\, la rumba\, le boléro\, le chachacha et le son cubain.  \nCarlos Napoles Y Calle Esperanza est surtout une aventure humaine toujours en interaction avec un publique qui aime la danse et les couleurs latines de l’Amérique du sud\, Porto Rico\, Colombie\, Venezuela\, Brésil\, Cuba… 
URL:https://lemelville.fr/accueil/evenements/carlos-napoles-quartet/
LOCATION:Le Melville\, 28 Rue Jean Mermoz\, Paris\, 75008\, France
ATTACH;FMTTYPE=image/png:https://lemelville.fr/wp-content/uploads/2023/09/carlos-napoles-quartet.png
END:VEVENT
BEGIN:VEVENT
DTSTART;TZID=Europe/Paris:20231031T190000
DTEND;TZID=Europe/Paris:20231031T230000
DTSTAMP:20260425T144250
CREATED:20230921T152436Z
LAST-MODIFIED:20230921T152436Z
UID:10000371-1698778800-1698793200@lemelville.fr
SUMMARY:Julia Richard Trio
DESCRIPTION:Chanteuse depuis son plus jeune âge\, Julia est devenue aussi contrebassiste au détour d’un couloir de conservatoire en 2019 lorsque l’un de ses professeurs lui proposa quelques cours. Il ne lui laissa que 30 secondes pour répondre. Elle ne se douta pas un instant que ce « oui » instinctif qu’elle donna\, démarrerait une histoire d’amour mais aussi de travail acharnée. Depuis elle n’a cessé de travailler son instrument\, allant jusqu’à 10 heures par jour\, et moins d’une année après avoir commencé\, elle est admise au Conservatoire Regional de Paris en cursus jazz.Franco-mexicaine\, son univers se  \ndéfinit par un mélange intelligent de musique latine\, d’influences jazz telles que Esperanza Spalding\, Veronica Swift\, Paul Chambers\, Monk\, d’un univers pop où elle emprunte aussi bien à Supertramp\, à Sting\, qu’à Stevie Wonder. Par le passé\, la  chanson française a aussi inspiré son voyage (Edith Piaf\, Serge Gainsbourg\, Barbara) ainsi que le rock (Led Zepplin\, Pink Floyd) et c’est avec une ancienne formation qu’elle a notamment pu jouer à la Boule Noire\, ou encore au Réservoir à Paris.  \nC’est donc via toutes ces influences qu’elle entretient aujourd’hui un style presque indéfinissable dont le liant est sa voix. 
URL:https://lemelville.fr/accueil/evenements/julia-richard-trio/
LOCATION:Le Melville\, 28 Rue Jean Mermoz\, Paris\, 75008\, France
ATTACH;FMTTYPE=image/png:https://lemelville.fr/wp-content/uploads/2023/09/julia-richard.png
END:VEVENT
END:VCALENDAR