BEGIN:VCALENDAR
VERSION:2.0
PRODID:-//Le Melville - ECPv6.15.17//NONSGML v1.0//EN
CALSCALE:GREGORIAN
METHOD:PUBLISH
X-ORIGINAL-URL:https://lemelville.fr/accueil
X-WR-CALDESC:Évènements pour Le Melville
REFRESH-INTERVAL;VALUE=DURATION:PT1H
X-Robots-Tag:noindex
X-PUBLISHED-TTL:PT1H
BEGIN:VTIMEZONE
TZID:Europe/Paris
BEGIN:DAYLIGHT
TZOFFSETFROM:+0100
TZOFFSETTO:+0200
TZNAME:CEST
DTSTART:20220327T010000
END:DAYLIGHT
BEGIN:STANDARD
TZOFFSETFROM:+0200
TZOFFSETTO:+0100
TZNAME:CET
DTSTART:20221030T010000
END:STANDARD
BEGIN:DAYLIGHT
TZOFFSETFROM:+0100
TZOFFSETTO:+0200
TZNAME:CEST
DTSTART:20230326T010000
END:DAYLIGHT
BEGIN:STANDARD
TZOFFSETFROM:+0200
TZOFFSETTO:+0100
TZNAME:CET
DTSTART:20231029T010000
END:STANDARD
BEGIN:DAYLIGHT
TZOFFSETFROM:+0100
TZOFFSETTO:+0200
TZNAME:CEST
DTSTART:20240331T010000
END:DAYLIGHT
BEGIN:STANDARD
TZOFFSETFROM:+0200
TZOFFSETTO:+0100
TZNAME:CET
DTSTART:20241027T010000
END:STANDARD
END:VTIMEZONE
BEGIN:VEVENT
DTSTART;TZID=Europe/Paris:20231101T203000
DTEND;TZID=Europe/Paris:20231101T230000
DTSTAMP:20260425T131439
CREATED:20231008T082709Z
LAST-MODIFIED:20240611T100324Z
UID:10000391-1698870600-1698879600@lemelville.fr
SUMMARY:Square Noon
DESCRIPTION:Square Noon\, c’est Alexandre\, Axel et Arthur\, qui vitalisent leur musique comme aux premières heures du jazz. La joie communicative de ces trois amis de promo de l’Imep (Paris College of Music) fait vibrer le Melville tous les mercredis.
URL:https://lemelville.fr/accueil/evenements/square-noon-9/
LOCATION:Le Melville\, 28 Rue Jean Mermoz\, Paris\, 75008\, France
CATEGORIES:Jazz Standard
ATTACH;FMTTYPE=image/png:https://lemelville.fr/wp-content/uploads/2023/10/square-noon.png
END:VEVENT
BEGIN:VEVENT
DTSTART;TZID=Europe/Paris:20231102T080000
DTEND;TZID=Europe/Paris:20231102T170000
DTSTAMP:20260425T131439
CREATED:20230926T083958Z
LAST-MODIFIED:20240611T095614Z
UID:10000372-1698912000-1698944400@lemelville.fr
SUMMARY:Olivier Franc Trio
DESCRIPTION:Olivier Franc: Saxophoniste Soprano\,  prix Sidney Bechet de l’académie du jazz\, joue sur le saxophone personnel de Sidney Bechet. Olivier est le fils de René Franc\, clarinettiste des orchestres de Pierre Braslavsky et d’André Réwéliotty qui accompagnèrent Sidney Bechet. Olivier débute sa carrière au début des années 1970 avant de fonder en 1976 sa propre formation. En 1979\, il reçoit le Prix Sidney Bechet de l’Académie puis obtient le Prix Musiciens Français du Hot Club de France en 1997\, pour son disque “Swing Folies” et en 2012\, pour son disque “Ellington Mood”. Il est aujourd’hui reconnu dans le monde entier comme étant le meilleur disciple de Sidney Bechet\, comme en témoigne son invitation par Wynton Marsalis sur la grande scène de Jazz in Marciac ou ses prestations à New York comme à la Nouvelle Orléans .   \nTout en restant fidèle au style et à l’esprit de la musique de Sidney Bechet\, Olivier Franc propose une musique nouvelle et personnelle avec des compositions originales. Depuis 2006\, il a le privilège de jouer sur le saxophone personnel de Sidney Bechet. En 2015\, il se produit à l’Olympia et en 2019 au Victoria Hall de Genève\, deux concerts salués par des standing ovations.   \n  \nOlivier Franc : trompette  \nThomas Racine : batterie  \nJean-Baptiste Franc : piano 
URL:https://lemelville.fr/accueil/evenements/olivier-franc-trio/
CATEGORIES:Swing
ATTACH;FMTTYPE=image/png:https://lemelville.fr/wp-content/uploads/2023/09/Affiche-Olivier-Franc-Trio-e1695717794652.png
END:VEVENT
BEGIN:VEVENT
DTSTART;TZID=Europe/Paris:20231103T190000
DTEND;TZID=Europe/Paris:20231103T233000
DTSTAMP:20260425T131439
CREATED:20231006T145910Z
LAST-MODIFIED:20231006T145910Z
UID:10000373-1699038000-1699054200@lemelville.fr
SUMMARY:Arlet Feuillard Latin jazz Ensemble
DESCRIPTION:Pianiste de formation classique\, Arlet Feuillard commence également les percussions très jeune en pratiquant le Gwo Ka (musique traditionnelle Guadeloupéenne). Après avoir notamment étudié la musique classique à l’école de musique du Lamentin (Guadeloupe)\, au CRR de Paris et au Conservatoire Royal de Bruxelles \, il décide finalement de se consacrer au jazz et aux musiques traditionnelles caribéennes\, tant au piano qu’au percussions.  \nIl accompagne des artistes comme Franck Nicolas\, Max Cilla\, Jüde\, ainsi que quelques ensembles de salsa.  \nTrès attiré par les musiques latines\, c’est tout naturellement qu’Arlet nous présente cette formation et ce répertoire issu de rythmiques afro-brésiliennes et afro-latines.\nEntre latin jazz et musiques traditionnelles\, laissez-vous embarquer dans cet univers haut en couleurs
URL:https://lemelville.fr/accueil/evenements/arlet-feuillard-latin-jazz-ensemble/
LOCATION:Le Melville\, 28 Rue Jean Mermoz\, Paris\, 75008\, France
ATTACH;FMTTYPE=image/png:https://lemelville.fr/wp-content/uploads/2023/10/Arlet-Feuillard-Latin-jazz-Ensemble.png
END:VEVENT
BEGIN:VEVENT
DTSTART;TZID=Europe/Paris:20231104T190000
DTEND;TZID=Europe/Paris:20231104T233000
DTSTAMP:20260425T131439
CREATED:20231006T150058Z
LAST-MODIFIED:20240611T101342Z
UID:10000374-1699124400-1699140600@lemelville.fr
SUMMARY:Caravan Jazz
DESCRIPTION:Une soirée pleine de peps avec un répertoire de standards de Jazz et de Bossa nova brésilienne\, en quartet piano / basse / batterie / voix. Le tout en laissant une large place à l’improvisation et à l’échange avec le public ! Eleonore Langellier\, vocaliste Jazz à l’énergie communicative est accompagnée du très talentueux Vally Sullimann au piano\, d’Emmanuel Sunee à la basse et Tom Peyron à la batterie. Ensemble ils apporteront une couleur Be-bop frénétique à la soirée.
URL:https://lemelville.fr/accueil/evenements/caravan-jazz-2/
LOCATION:Le Melville\, 28 Rue Jean Mermoz\, Paris\, 75008\, France
CATEGORIES:Vocal Standard Jazz
ATTACH;FMTTYPE=image/png:https://lemelville.fr/wp-content/uploads/2023/09/caravan-2.png
END:VEVENT
BEGIN:VEVENT
DTSTART;TZID=Europe/Paris:20231107T190000
DTEND;TZID=Europe/Paris:20231107T233000
DTSTAMP:20260425T131439
CREATED:20231006T150301Z
LAST-MODIFIED:20240611T100253Z
UID:10000375-1699383600-1699399800@lemelville.fr
SUMMARY:Georgie Brown et Léo Labarrière
DESCRIPTION:Un duo d’une douceur infinie ! La voix chaude et précise de Georgie est merveilleusement portée par le toucher délicat de Léo au piano. Un duo d’une douceur infinie pour ce mardi soir au Melville. Après avoir obtenu son diplôme d’études générales de musique avec Berklee College of Music\, Georgie a étudié pendant une année au Cours Florent Musique. Elle se produit régulièrement et suscite une critique enthousiaste\, saluant le talent de cette jeune artiste. 
URL:https://lemelville.fr/accueil/evenements/georgie-brown-et-leo-labarriere/
CATEGORIES:Vocal Standard Jazz
ATTACH;FMTTYPE=image/png:https://lemelville.fr/wp-content/uploads/2023/10/Georgie-Brown-et-Leo-Labarriere.png
END:VEVENT
BEGIN:VEVENT
DTSTART;TZID=Europe/Paris:20231108T190000
DTEND;TZID=Europe/Paris:20231108T233000
DTSTAMP:20260425T131439
CREATED:20231006T150447Z
LAST-MODIFIED:20240611T103059Z
UID:10000376-1699470000-1699486200@lemelville.fr
SUMMARY:Tom Peyron Trio
DESCRIPTION:Ce groupe réunit trois musiciens et amis de longue date\, habitués de la scène jazz parisienne.   \nIls interprètent des standards du great american songbook\, un répertoire autour duquel ils peuvent créer et interagir librement dans l’instant.   \nSwing\, tradition et lâcher prise sont les maîtres-mots qui définissent ce trio. 
URL:https://lemelville.fr/accueil/evenements/tom-peyron-trio/
CATEGORIES:Jazz Standard
ATTACH;FMTTYPE=image/png:https://lemelville.fr/wp-content/uploads/2023/10/tom-peyron.png
END:VEVENT
BEGIN:VEVENT
DTSTART;TZID=Europe/Paris:20231109T190000
DTEND;TZID=Europe/Paris:20231109T233000
DTSTAMP:20260425T131439
CREATED:20231006T203042Z
LAST-MODIFIED:20231006T203042Z
UID:10000377-1699556400-1699572600@lemelville.fr
SUMMARY:Lazhar ZENNOU
DESCRIPTION:Lazhar ZENNOU à la guitare chante ses déchirantes mélodies arabo-andalouses\, acompagné de Rachid Belharbi au piano\, Khaled Sifi au Cajun\, et Zakaria Bendaoud à la basse. Le premier autodidacte de génie et le second de formation pianistique classique forment avec Khaled et Zak un quatuor boulversant. 
URL:https://lemelville.fr/accueil/evenements/lazhar-zennou-2/
ATTACH;FMTTYPE=image/png:https://lemelville.fr/wp-content/uploads/2023/09/Lazhar-Zennou.png
END:VEVENT
BEGIN:VEVENT
DTSTART;TZID=Europe/Paris:20231111T190000
DTEND;TZID=Europe/Paris:20231111T233000
DTSTAMP:20260425T131439
CREATED:20231006T204312Z
LAST-MODIFIED:20231006T204312Z
UID:10000379-1699729200-1699745400@lemelville.fr
SUMMARY:Paris Latino
DESCRIPTION:Salsa caliente avec le Quatuor Paris Latino dans l’écrin du Melville ! Ce jeudi\, le restaurant gastronomique club de Jazz se fait latino pour une soirée festive au son de salsa et de rythmes cubains. Le Quaturo Paris Latino\, avec José Palomo (chant et Guitare)\, Guillermo Benavides (chant et contrebasse)\, Manuel Anoyvega (chant et Piano) et Nicolas Anoyvega (Saxo) viennent faire vibrer les bois et velour du Melville. Ca va swinguer ! 
URL:https://lemelville.fr/accueil/evenements/paris-latino-2/
ATTACH;FMTTYPE=image/png:https://lemelville.fr/wp-content/uploads/2023/09/paris-latino.png
END:VEVENT
BEGIN:VEVENT
DTSTART;TZID=Europe/Paris:20231114T203000
DTEND;TZID=Europe/Paris:20231114T230000
DTSTAMP:20260425T131439
CREATED:20231029T222954Z
LAST-MODIFIED:20231029T222954Z
UID:10000393-1699993800-1700002800@lemelville.fr
SUMMARY:Stellere Barton
DESCRIPTION:Stellere Nathalie Barton a grandi aux Usa.\nImmergée dés son plus jeune age dans la culture américaine\,\nElle vit à Jacksonville\, en Caroline du Nord où elle se tourne vers le chant.\nProgressivement imprégnée par diverses influences comme le jazz\, le blues\, le gospel et la soul\,elle trouve son identité artistique.\nQuand elle rentre à Paris\, Stellere chante dans plusieurs clubs de jazz\noù elle va rencontrer de nombreux musiciens dont elle va s’entourer.\nElle joue dans divers formations .\nStellere Nathalie et son Quartet se sont déjà produit sur de nombreux festivals comme le festival Jazz aux Capucins\,Jazz à Toute Heure\,jazz de Mars ………\nSa musique \,mélange de compositions originales et de reprises soigneusement choisis oscille entre morceaux de soul au groove imparable et standards de blues\nDes compositions émerge un subtil mélange entre la soul et le jazz.\nStellere est dotée d’un timbre de voix assez chaud qui envoute dès les premières notes.
URL:https://lemelville.fr/accueil/evenements/stellere-barton/
ATTACH;FMTTYPE=image/png:https://lemelville.fr/wp-content/uploads/2023/10/Affiche-Stellere-Barton.png
END:VEVENT
BEGIN:VEVENT
DTSTART;TZID=Europe/Paris:20231115T190000
DTEND;TZID=Europe/Paris:20231115T233000
DTSTAMP:20260425T131439
CREATED:20231006T204928Z
LAST-MODIFIED:20231006T204928Z
UID:10000381-1700074800-1700091000@lemelville.fr
SUMMARY:Square Noon
DESCRIPTION:Square Noon\, c’est Alexandre\, Axel et Arthur\, qui vitalisent leur musique comme aux premières heures du jazz. La joie communicative de ces trois amis de promo de l’Imep (Paris College of Music) fait vibrer le Melville tous les mercredis.
URL:https://lemelville.fr/accueil/evenements/square-noon-6/
ATTACH;FMTTYPE=image/png:https://lemelville.fr/wp-content/uploads/2023/10/square-noon.png
END:VEVENT
BEGIN:VEVENT
DTSTART;TZID=Europe/Paris:20231117T180000
DTEND;TZID=Europe/Paris:20231117T233000
DTSTAMP:20260425T131439
CREATED:20231006T205654Z
LAST-MODIFIED:20240611T153954Z
UID:10000383-1700244000-1700263800@lemelville.fr
SUMMARY:Victor Demange Trio
DESCRIPTION:Victor Demange est un pianiste au style original qui a su se faire une place sur la scène française. Régulièrement invité dans les festivals\, il compte plusieurs collaborations prestigieuses comme notamment Bob Baldori\, le pianiste qui a accompagné Chuck Berry pendant plus de 40 ans ou encore Fabrice Eulry\, pianiste français spécialiste du piano stride.  Accompagné de ses deux musiciens de marque\, Mat Le Rouge au saxophone et Thomas Racine à la batterie\, il propose un style swing\, blues & boogie inspiré du vieux jazz de la Nouvelle Orléans. Il vous étonnera avec un répertoire varié allant de standards à des réarrangements de musique classique toujours dans un style de vieux jazz américain. 
URL:https://lemelville.fr/accueil/evenements/victor-demange-trio/
CATEGORIES:Stride, Be-Bop
ATTACH;FMTTYPE=image/png:https://lemelville.fr/wp-content/uploads/2023/09/victor-demange.png
END:VEVENT
BEGIN:VEVENT
DTSTART;TZID=Europe/Paris:20231118T190000
DTEND;TZID=Europe/Paris:20231118T233000
DTSTAMP:20260425T131439
CREATED:20231006T205854Z
LAST-MODIFIED:20231006T205854Z
UID:10000384-1700334000-1700350200@lemelville.fr
SUMMARY:Super Son Heroes
DESCRIPTION:C’est un pur son latino américain\, de la salsa\, du rythme et de la danse – assurée. On trépigne d’impatience. 
URL:https://lemelville.fr/accueil/evenements/super-son-heroes-2/
ATTACH;FMTTYPE=image/png:https://lemelville.fr/wp-content/uploads/2023/09/super-son-hero.png
END:VEVENT
BEGIN:VEVENT
DTSTART;TZID=Europe/Paris:20231122T190000
DTEND;TZID=Europe/Paris:20231122T233000
DTSTAMP:20260425T131439
CREATED:20231006T212034Z
LAST-MODIFIED:20240611T100324Z
UID:10000386-1700679600-1700695800@lemelville.fr
SUMMARY:Square Noon
DESCRIPTION:Square Noon\, c’est Alexandre\, Axel et Arthur\, qui vitalisent leur musique comme aux premières heures du jazz. La joie communicative de ces trois amis de promo de l’Imep (Paris College of Music) fait vibrer le Melville tous les mercredis.
URL:https://lemelville.fr/accueil/evenements/square-noon-7/
CATEGORIES:Jazz Standard
ATTACH;FMTTYPE=image/png:https://lemelville.fr/wp-content/uploads/2023/10/square-noon.png
END:VEVENT
BEGIN:VEVENT
DTSTART;TZID=Europe/Paris:20231123T190000
DTEND;TZID=Europe/Paris:20231123T230000
DTSTAMP:20260425T131439
CREATED:20231006T212444Z
LAST-MODIFIED:20231006T212444Z
UID:10000387-1700766000-1700780400@lemelville.fr
SUMMARY:Loretta’s
DESCRIPTION:Après un premier set dédié aux musiques Old-Time et Bluegrass de l’Est américain\, le trio Loretta descendra la grande rivière de la Country Music jusqu’à ses rives jazz avec un deuxième set Western Swing.  
URL:https://lemelville.fr/accueil/evenements/lorettas/
ATTACH;FMTTYPE=image/png:https://lemelville.fr/wp-content/uploads/2023/10/Lorettas.png
END:VEVENT
BEGIN:VEVENT
DTSTART;TZID=Europe/Paris:20231124T190000
DTEND;TZID=Europe/Paris:20231124T230000
DTSTAMP:20260425T131439
CREATED:20231006T213314Z
LAST-MODIFIED:20240611T100513Z
UID:10000388-1700852400-1700866800@lemelville.fr
SUMMARY:Flamenco avec Jorge Castaneda
DESCRIPTION:Soirée andalouse au Melville avec Jorge Castaneda\, Sabrina Llanos et Anita Hernandez. Le plus pur du flamenca\, guitare chant et danse… \n\n\nJorge Castañeda\, (né en 1979). Sa vie musicale a commencé en 1988 en jouant à l’âge de huit ans. Il a étudié la guitare classique dans des universités de musique : « Uniwersytet muzyczny im. Bacewiczów » et à « Uniwersytet Muzyczny im. Fryderyka Chopina » en Pologne. Enfin\, il étudie à la “Staatlische Musik Hochschule für Musik und Darstellende Kunst” à Stuttgart (Allemagne). \nJorge a suivi des cours avec : Francisco Javier Jimeno\, Jesús Pimentel\, Jose Luis Balao\, Antonio Soto\, Gerardo Núñez Agustin de la Fuente et Juan Manuel Cañizares. À Jerez de La Frontera et dans la province de Cadix\, Jorge a partagé la scène avec les artistes de flamenco suivants : Jesús Pimentel\, Marta Moreno\, David “El Gamba”\, Gloria la Cuca\, Juanillorro\, Pescailla de Jerez\, Antonio Sanlúcar\, Ana Galan\, Wilo del Puerto\, Gema la Cantarota\, Torrán\, Simon el Rubio\, Pepe Alconchel\, Beatriz Morales et María Martinez. Jorge a également été le deuxième guitariste dans l’ensemble de Agustin de la Fuente (“Agustin y su Gente”). Jorge a accompagné chant et danse en concert à de nombreuses reprises dans les « Peñas Flamencas » suivants : « Perro de Paterna » (Guadalcacin-Jerez)\, « Los Cernícalos » (Jerez)\, « La Zúa » (Jerez )\, « Puerto Lucero » (Sanlúcar de Barrameda)\, « El Mirabrás » (Fernán Núñez-Córdoba) et « La Petenera » (Paterna de la Rivera) et « XXXVI Concurso Nacional de Cante Flamenco » à Benalup-Casas Viejas. Jorge a également joué des concerts avec le chanteur Antonio Soria à « The Flamenco Studio Diana Reyes » à Sydney\, en Australie. Jorge a aussi joué en tant que soliste avec l’orchestre “Filharmonia Swiętokrzyska” en Pologne avec Jesús Pimentel : « Almudaina\, concierto para dos guitarras flamencas y orquesta sinfónica ». \nAnita Hernandez est danseuse\, chorégraphe et chanteuse de flamenco. \nElle fait ses premiers pas de danse à Paris avec Lina Sotomayor\, puis poursuis sa formation en Espagne à la prestigieuse Academie « Amor de Dios » de Madrid\, ainsi qu’à Séville et à Jerez de la Frontera\, auprès d’Artistes de renom : \nManuel et Antonio Reyes Maya\, Marta Jimenez\, Guadalupe Torres\, Antonio Canales\, Angel Rojas\, El Oruco\, Alejandro Rodriguez. \n  \nAnnabelle Richefeu danse depuis son plus jeune âge. Tout d’abord initiée à la danse rythmique et à la danse classique\, elle renoue\, à l’âge de 9 ans\, avec ses origines espagnoles en débutant le flamenco. A 13 ans\, elle est diplômée par la Scène française et par la Fédération française de danse et part alors en Espagne se former aux côtés de prestigieux danseurs tels que Maria Magdalena\, Andrés Peña\, Domingo Ortega\, La Truco\, Marco Flores…  
URL:https://lemelville.fr/accueil/evenements/castaneda/
CATEGORIES:Flamenco,Vocal Standard Jazz
ATTACH;FMTTYPE=image/png:https://lemelville.fr/wp-content/uploads/2023/10/Castaneda-Hernandez-Richefeu.png
END:VEVENT
BEGIN:VEVENT
DTSTART;TZID=Europe/Paris:20231125T190000
DTEND;TZID=Europe/Paris:20231125T233000
DTSTAMP:20260425T131439
CREATED:20231110T145625Z
LAST-MODIFIED:20231110T145625Z
UID:10000408-1700938800-1700955000@lemelville.fr
SUMMARY:Paris Latino
DESCRIPTION:Salsa caliente avec le Quatuor Paris Latino dans l’écrin du Melville ! Ce jeudi\, le restaurant gastronomique club de Jazz se fait latino pour une soirée festive au son de salsa et de rythmes cubains. Le Quaturo Paris Latino\, avec José Palomo (chant et Guitare)\, Guillermo Benavides (chant et contrebasse)\, Manuel Anoyvega (chant et Piano) et Nicolas Anoyvega (Saxo) viennent faire vibrer les bois et velour du Melville. Ca va swinguer ! 
URL:https://lemelville.fr/accueil/evenements/paris-latino-3/
ATTACH;FMTTYPE=image/png:https://lemelville.fr/wp-content/uploads/2023/09/paris-latino.png
END:VEVENT
BEGIN:VEVENT
DTSTART;TZID=Europe/Paris:20231128T190000
DTEND;TZID=Europe/Paris:20231128T230000
DTSTAMP:20260425T131439
CREATED:20231006T204622Z
LAST-MODIFIED:20231022T163141Z
UID:10000380-1701198000-1701212400@lemelville.fr
SUMMARY:Blue Moon
DESCRIPTION:Quand des amoureux de Miles Davis\, de Chet Baker et de John Coltrane se rencontrent\, cela devient Blue Moon\, un groupe de musiciens heureux de partager leurs passions  \nJonathan Orland : sax   \nBernard Faulon : piano  \nHenry Kisiel : contrebasse  \nJean Bardy : trompette   \nFred Marques : guitare 
URL:https://lemelville.fr/accueil/evenements/blue-moon/
ATTACH;FMTTYPE=image/png:https://lemelville.fr/wp-content/uploads/2023/10/blue-moon.png
END:VEVENT
BEGIN:VEVENT
DTSTART;TZID=Europe/Paris:20231129T190000
DTEND;TZID=Europe/Paris:20231129T233000
DTSTAMP:20260425T131439
CREATED:20231006T213658Z
LAST-MODIFIED:20240611T100324Z
UID:10000389-1701284400-1701300600@lemelville.fr
SUMMARY:Square Noon
DESCRIPTION:Square Noon\, c’est Alexandre\, Axel et Arthur\, qui vitalisent leur musique comme aux premières heures du jazz. La joie communicative de ces trois amis de promo de l’Imep (Paris College of Music) fait vibrer le Melville tous les mercredis.
URL:https://lemelville.fr/accueil/evenements/square-noon-8/
CATEGORIES:Jazz Standard
ATTACH;FMTTYPE=image/png:https://lemelville.fr/wp-content/uploads/2023/10/square-noon.png
END:VEVENT
BEGIN:VEVENT
DTSTART;TZID=Europe/Paris:20231130T190000
DTEND;TZID=Europe/Paris:20231130T233000
DTSTAMP:20260425T131439
CREATED:20231006T213857Z
LAST-MODIFIED:20231006T213857Z
UID:10000390-1701370800-1701387000@lemelville.fr
SUMMARY:Lyannaj
DESCRIPTION:De Malavoi et Edith Lefel\, en passant par Mario Canonge ou encore Fernand Donatien\, C’est un voyage vers les classiques épurés de la musique antillaise. On attend cela avec enthousiasme. 
URL:https://lemelville.fr/accueil/evenements/lyannaj/
ATTACH;FMTTYPE=image/png:https://lemelville.fr/wp-content/uploads/2023/10/Lyannaj.png
END:VEVENT
END:VCALENDAR