BEGIN:VCALENDAR
VERSION:2.0
PRODID:-//Le Melville - ECPv6.15.17//NONSGML v1.0//EN
CALSCALE:GREGORIAN
METHOD:PUBLISH
X-WR-CALNAME:Le Melville
X-ORIGINAL-URL:https://lemelville.fr/accueil
X-WR-CALDESC:Évènements pour Le Melville
REFRESH-INTERVAL;VALUE=DURATION:PT1H
X-Robots-Tag:noindex
X-PUBLISHED-TTL:PT1H
BEGIN:VTIMEZONE
TZID:Europe/Paris
BEGIN:DAYLIGHT
TZOFFSETFROM:+0100
TZOFFSETTO:+0200
TZNAME:CEST
DTSTART:20230326T010000
END:DAYLIGHT
BEGIN:STANDARD
TZOFFSETFROM:+0200
TZOFFSETTO:+0100
TZNAME:CET
DTSTART:20231029T010000
END:STANDARD
BEGIN:DAYLIGHT
TZOFFSETFROM:+0100
TZOFFSETTO:+0200
TZNAME:CEST
DTSTART:20240331T010000
END:DAYLIGHT
BEGIN:STANDARD
TZOFFSETFROM:+0200
TZOFFSETTO:+0100
TZNAME:CET
DTSTART:20241027T010000
END:STANDARD
BEGIN:DAYLIGHT
TZOFFSETFROM:+0100
TZOFFSETTO:+0200
TZNAME:CEST
DTSTART:20250330T010000
END:DAYLIGHT
BEGIN:STANDARD
TZOFFSETFROM:+0200
TZOFFSETTO:+0100
TZNAME:CET
DTSTART:20251026T010000
END:STANDARD
END:VTIMEZONE
BEGIN:VEVENT
DTSTART;TZID=Europe/Paris:20240501T203000
DTEND;TZID=Europe/Paris:20240501T230000
DTSTAMP:20260423T053450
CREATED:20240325T195032Z
LAST-MODIFIED:20240325T202557Z
UID:10000494-1714595400-1714604400@lemelville.fr
SUMMARY:Julia Richard Trio
DESCRIPTION:Chanteuse depuis son plus jeune âge\, Julia est devenue aussi contrebassiste au détour d’un couloir de conservatoire en 2019 lorsque l’un de ses professeurs lui proposa quelques cours. Il ne lui laissa que 30 secondes pour répondre. Elle ne se douta pas un instant que ce « oui » instinctif qu’elle donna\, démarrerait une histoire d’amour mais aussi de travail acharnée. Depuis elle n’a cessé de travailler son instrument\, allant jusqu’à 10 heures par jour\, et moins d’une année après avoir commencé\, elle est admise au Conservatoire Regional de Paris en cursus jazz.Franco-mexicaine\, son univers se  \ndéfinit par un mélange intelligent de musique latine\, d’influences jazz telles que Esperanza Spalding\, Veronica Swift\, Paul Chambers\, Monk\, d’un univers pop où elle emprunte aussi bien à Supertramp\, à Sting\, qu’à Stevie Wonder. Par le passé\, la  chanson française a aussi inspiré son voyage (Edith Piaf\, Serge Gainsbourg\, Barbara) ainsi que le rock (Led Zepplin\, Pink Floyd) et c’est avec une ancienne formation qu’elle a notamment pu jouer à la Boule Noire\, ou encore au Réservoir à Paris.  \nC’est donc via toutes ces influences qu’elle entretient aujourd’hui un style presque indéfinissable dont le liant est sa voix. 
URL:https://lemelville.fr/accueil/evenements/julia-richard-trio-2/
LOCATION:Le Melville\, 28 Rue Jean Mermoz\, Paris\, 75008\, France
ATTACH;FMTTYPE=image/png:https://lemelville.fr/wp-content/uploads/2023/09/julia-richard.png
END:VEVENT
BEGIN:VEVENT
DTSTART;TZID=Europe/Paris:20240502T203000
DTEND;TZID=Europe/Paris:20240502T203000
DTSTAMP:20260423T053450
CREATED:20240325T202937Z
LAST-MODIFIED:20240325T202937Z
UID:10000495-1714681800-1714681800@lemelville.fr
SUMMARY:Donato Isnard Labaye - Brésil et Cap Vert
DESCRIPTION:Musique brésilienne et cap verdienne avec ce trio formidable. Matheus Donato est l’un des meilleurs cavaquinhistes (il joue sur un très rare cavaquinho à six cordes).  Timothée Isnard nous a habitué à ses déchirantes mélodies cap verdiennes qu’il interprète à la guitare et au chant. Ils seront accompagnés ce soir de Romain Labaye à la contrebasse.  \nMatheus Donato : cavaquino  \nRomain Labaye : basse  \nTimothée Isnard : guitare\, chant  \n 
URL:https://lemelville.fr/accueil/evenements/donato-isnard-labaye-bresil-et-cap-vert/
LOCATION:Le Melville\, 28 Rue Jean Mermoz\, Paris\, 75008\, France
ATTACH;FMTTYPE=image/png:https://lemelville.fr/wp-content/uploads/2024/03/Donato-Isnard-Labaye-Affiche.png
END:VEVENT
BEGIN:VEVENT
DTSTART;TZID=Europe/Paris:20240504T203000
DTEND;TZID=Europe/Paris:20240504T233000
DTSTAMP:20260423T053450
CREATED:20240419T185146Z
LAST-MODIFIED:20240611T153954Z
UID:10000501-1714854600-1714865400@lemelville.fr
SUMMARY:Victor Demange
DESCRIPTION:Du blues\, du boogie\, du stride. Ça va swinguer ! \nVictor Demange est un pianiste au style original qui a su se faire une place sur la scène française. Régulièrement invité dans les festivals\, il compte plusieurs collaborations prestigieuses comme notamment Bob Baldori\, le pianiste qui a accompagné Chuck Berry pendant plus de 40 ans ou encore Fabrice Eulry\, pianiste français spécialiste du piano stride.\nAccompagné de ses deux musiciens de marque\, Mat Le Rouge au saxophone et Thomas Racine à la batterie\, il propose un style swing\, blues & boogie inspiré du vieux jazz de la Nouvelle Orléans. Il vous étonnera avec un répertoire varié allant de standards à des réarrangements de musique classique toujours dans un style de vieux jazz américain. \nVictor Demange : piano\nMat Le Rouge : sax\nSimon Boyer : batterie
URL:https://lemelville.fr/accueil/evenements/victor-demange-4/
LOCATION:Le Melville\, 28 Rue Jean Mermoz\, Paris\, 75008\, France
CATEGORIES:Stride, Be-Bop,Swing
ATTACH;FMTTYPE=image/png:https://lemelville.fr/wp-content/uploads/2024/04/Victor-Demange-Trio-Boyer-Affiche-1.png
END:VEVENT
BEGIN:VEVENT
DTSTART;TZID=Europe/Paris:20240507T203000
DTEND;TZID=Europe/Paris:20240507T230000
DTSTAMP:20260423T053450
CREATED:20240325T203156Z
LAST-MODIFIED:20240506T130524Z
UID:10000497-1715113800-1715122800@lemelville.fr
SUMMARY:Delahaye & Vigne
DESCRIPTION:Le pianiste Rémi Delahaye et le saxophoniste Samir Vigne proposent avec beaucoup de talent\, d’émotion et de swing un voyage musical autour de grands standards du jazz et de compositions. \n 
URL:https://lemelville.fr/accueil/evenements/duvigneau-midon-2/
LOCATION:Le Melville\, 28 Rue Jean Mermoz\, Paris\, 75008\, France
ATTACH;FMTTYPE=image/png:https://lemelville.fr/wp-content/uploads/2024/03/delahaye-et-vigne-1.png
END:VEVENT
BEGIN:VEVENT
DTSTART;TZID=Europe/Paris:20240508T203000
DTEND;TZID=Europe/Paris:20240508T233000
DTSTAMP:20260423T053450
CREATED:20240325T203304Z
LAST-MODIFIED:20240611T100324Z
UID:10000498-1715200200-1715211000@lemelville.fr
SUMMARY:Square Noon
DESCRIPTION:Square Noon\, c’est Alexandre\, Axel et Arlo\, qui vitalisent leur musique comme aux premières heures du jazz. La joie communicative de ces trois amis de promo de l’Imep (Paris College of Music) fait vibrer le Melville tous les mois. \nAlexandre Lombard-Buffet : piano \nAxel Allwright : batterie \nArlo Lardé : contrebasse\, basse
URL:https://lemelville.fr/accueil/evenements/square-noon-17/
LOCATION:Le Melville\, 28 Rue Jean Mermoz\, Paris\, 75008\, France
CATEGORIES:Jazz Standard
ATTACH;FMTTYPE=image/png:https://lemelville.fr/wp-content/uploads/2024/01/Square-Noon.png
END:VEVENT
BEGIN:VEVENT
DTSTART;TZID=Europe/Paris:20240509T203000
DTEND;TZID=Europe/Paris:20240509T233000
DTSTAMP:20260423T053450
CREATED:20231214T083649Z
LAST-MODIFIED:20240611T094800Z
UID:10000417-1715286600-1715297400@lemelville.fr
SUMMARY:Castañeda\, La Armenia\, Junquerito - Flamenco
DESCRIPTION:Jorge Castañeda – guitare \nSa vie musicale a commencé en 1988 en jouant à l’âge de huit ans. Il a étudié la guitare classique dans des universités de musique : « Uniwersytet muzyczny im. Bacewiczów » et à « Uniwersytet Muzyczny im. Fryderyka Chopina » en Pologne. Enfin\, il étudie à la “Staatlische Musik Hochschule für Musik und Darstellende Kunst” à Stuttgart (Allemagne).\nIl a participé en tant que soliste à de nombreux festivals de guitare\, entre autres : Wrocławskie Towarzystwo Gitarowe (Pologne) International Guitar Festival à Minsk et Gomel (Biélorussie)\, « Guitar Sommer Festival » à Wrocław (Pologne)\, « XII Nieustajacy Festiwal Gitarowy w Lublinie » à Lublin (Pologne)\, I Festival – Concours international de guitare à Kijev (Ukraine)\, I Festival de guitare de Varsovie (Pologne)\, « XII Kulturfestival » à Beyrouth et Byblos (Liban)\, Rotenburger Gitarrenwoche à Rotenburg (Allemagne)\, « Festival Cultiral de Mayo » à Guadalajara (Mexique)\, Zweite Reutlinger Gitarrennacht (Allemagne) et au Festival de Guitare de Varsovie (Pologne). \n  \nLori la Armenia – Danse\n   \n“Comme une valse entre rage et grâce\, sa danse est subtile et envoûtante. Sans nuances inutiles\, sans formes périlleusement gratuites\, Lori Bagdassarian dite « La Armenia » transforme le corps et la danse à ce qu’il faut pour rester en suspens.”  \n Julian Demoraga\n  \n« Flamenca » initiée au coeur du triangle d’or Jerez-Sevilla-Lebrija\, c’est Mercedes Ruiz et Manuela Carpio qui la propulsent sur le devant des tablaos Andalous et elle remporte le Premier Prix Concours por Bulerias des mains de José Galvan .\nEn 2008 elle intègre la Compagnie Irina Brook à Paris . Depuis la rencontre entre jeu et danse est fusionnelle et elle se révèle en tant que comédienne affirmée dans Pan et Somewhere la Mancha.\nDès lors elle signe les chorégraphies pour Les Amants de Séville  de T.Petitgirard \, Gariné\, Opéra bouffe de Gérald Papasian \, Carmen de Jacques Malaterre\,  de Kendji pour The Voice\, Sangre de Michel Albertini\, Tres Flamencas \, Fiesta flamenca pour Casa Planète au Cirque Romanes.\nDe ses propres créations Estampas\, Cantame\,  Vivencias est présentée  au Festival Arte Flamenco de Mont de Marsan et notamment jouée au Zénith de Paris et à la Philharmonie de Yerevan et ouvre un dialogue musical  entre duduk \, violon Tzigane et flamenco \, en hommage à son histoire de vie qui a forgé sa personnalité flamenca.   \nParmi ses nombreuses collaboration artistiques on distingue ses performances  au sein de la formation  ClickHere qui fusionne electro et flamenco\, son rôle dans Les Garçons et guillaume à table  de Guillaume Gallienne et ses récentes collaborations avec Ruben Molina pour Nuit Flamenco.  \n  \n  \n  \nJuan Manuel Junquera  – chant \nJuan Manuel Junquera\, issu d’une famille éminemment flamenca suit la pure tradition gitane. Originaire d’Arcos de la Frontera\, Daniel Barba Moreno a suivi l’enseignement de Manolo Caro\, Manuel Parilla\, Manolo Sanlucar\, et autres maestros. Tous se produisent régulièrement en Espagne et en France dans les différents styles du fl amenco traditionnel
URL:https://lemelville.fr/accueil/evenements/jorge-castaneda/
LOCATION:Le Melville\, 28 Rue Jean Mermoz\, Paris\, 75008\, France
CATEGORIES:Flamenco
ATTACH;FMTTYPE=image/png:https://lemelville.fr/wp-content/uploads/2023/12/Castaneda-La-Armenia-Junquerito-Affiche.png
END:VEVENT
BEGIN:VEVENT
DTSTART;TZID=Europe/Paris:20240510T203000
DTEND;TZID=Europe/Paris:20240510T233000
DTSTAMP:20260423T053450
CREATED:20240326T092037Z
LAST-MODIFIED:20240326T092037Z
UID:10000499-1715373000-1715383800@lemelville.fr
SUMMARY:Zoot Daniels & the Zooters
DESCRIPTION:Retrouvez l’ambiance festive et dansante des petites formations Swing des années 1930/40 avec Zoot Daniels ! \nFou chantant adepte du « scat » dans la lignée de Cab Calloway\, Ella Fitzgerald\, Mel Tormé\, et aussi talentueux crooner\, Zoot Daniels accompagné de ses fidèles Zooters vous invitent à voyager dans le temps ! \nClaquez des doigts et tapez du pied avec eux au rythme des standards de Duke Ellington\, Cole Porter\, Benny Goodman\, Woody Herman\, Slim Gaillard\, Irving Berlin\, et beaucoup d’autres… \nDaniel ZOOT : clarinette\, chant \nStéphane COMMECY : batterie \nDenis DESSALIEN : contrebasse \nPascal VENTURINI : guitare
URL:https://lemelville.fr/accueil/evenements/zoot-daniels-the-zooters/
LOCATION:Le Melville\, 28 Rue Jean Mermoz\, Paris\, 75008\, France
ATTACH;FMTTYPE=image/png:https://lemelville.fr/wp-content/uploads/2024/03/Zoot-Affiche.png
END:VEVENT
BEGIN:VEVENT
DTSTART;TZID=Europe/Paris:20240511T210000
DTEND;TZID=Europe/Paris:20240511T233000
DTSTAMP:20260423T053450
CREATED:20240325T203046Z
LAST-MODIFIED:20240611T094932Z
UID:10000496-1715461200-1715470200@lemelville.fr
SUMMARY:Carlos Napoles Quartet
DESCRIPTION:Les rythmes cubain envahissent le Melville le Samedi avec CARLOS NAPOLES QUARTET. C’est festif et ça swing !  \nCarlos Napoles Quartet\, c’est une formation musicale cubaine fruit de la fusion de rythmes afro-caribéens et cubains. C’est l’espérance et la fête !  \nUn voyage musical qui part de la musique cubaine actuelle en passant par la salsa\, la rumba\, le boléro\, le chachacha et le son cubain.  \nCarlos Napoles Y Calle Esperanza est surtout une aventure humaine toujours en interaction avec un publique qui aime la danse et les couleurs latines de l’Amérique du sud\, Porto Rico\, Colombie\, Venezuela\, Brésil\, Cuba… 
URL:https://lemelville.fr/accueil/evenements/carlos-napoles-quartet-3/
LOCATION:Le Melville\, 28 Rue Jean Mermoz\, Paris\, 75008\, France
ATTACH;FMTTYPE=image/png:https://lemelville.fr/wp-content/uploads/2023/09/carlos-napoles-quartet.png
END:VEVENT
BEGIN:VEVENT
DTSTART;TZID=Europe/Paris:20240514T203000
DTEND;TZID=Europe/Paris:20240514T233000
DTSTAMP:20260423T053450
CREATED:20240219T093257Z
LAST-MODIFIED:20240221T102416Z
UID:10000481-1715718600-1715729400@lemelville.fr
SUMMARY:Tribute to crooners
DESCRIPTION:A l’occasion du 25 ème anniversaire de la disparition de Franck Sinanatra\, le Melville rend un hommage aux crooners des deux sexes avec : \nMatthieu Boré : chant\nEllen Birath : chant\nStephen Binet : piano\nAnne Shrestha : contrebasse\nVincent Touchard : batterie
URL:https://lemelville.fr/accueil/evenements/tribute-to-crooners/
LOCATION:Le Melville\, 28 Rue Jean Mermoz\, Paris\, 75008\, France
ATTACH;FMTTYPE=image/png:https://lemelville.fr/wp-content/uploads/2024/02/LM-Sinatras-Tribute-v2-1.png
END:VEVENT
BEGIN:VEVENT
DTSTART;TZID=Europe/Paris:20240516T203000
DTEND;TZID=Europe/Paris:20240516T233000
DTSTAMP:20260423T053450
CREATED:20240419T182754Z
LAST-MODIFIED:20240419T205436Z
UID:10000502-1715891400-1715902200@lemelville.fr
SUMMARY:Du fado au Melville - Joana Pereira
DESCRIPTION:  \nLe fado est\, encore aujourd’hui\, difficile à définir dans son sens littéral\, certains disent qu’il vient du latin fatum\, qui signifie destin\, d’autres de la combinaison de deux notes de musique\, le fa et le do. Ce qui est certain\, c’est qu’il est le résultat de la rencontre de différentes cultures pour nous apporter un son unique\, ce qui explique qu’il soit considéré comme une musique urbaine\, certains disent la plus ancienne. Le fado est certes portugais\, mais il appartient aussi à ceux qui l’écoutent. Chanté par un chanteur de fado\, généralement accompagné de la guitare portugaise et de la viole de fado\, le fado nous raconte des histoires et nous fait voyager.  \n  \nJoana Pereira : chant  \nPhilipe De Sousa : guitare portugaise  \nHélder Jardim : viole portugaise 
URL:https://lemelville.fr/accueil/evenements/du-fado-au-melville-joana-pereira/
LOCATION:Le Melville\, 28 Rue Jean Mermoz\, Paris\, 75008\, France
ATTACH;FMTTYPE=image/png:https://lemelville.fr/wp-content/uploads/2024/04/Joana-Pereira-Affiche.png
END:VEVENT
BEGIN:VEVENT
DTSTART;TZID=Europe/Paris:20240517T203000
DTEND;TZID=Europe/Paris:20240517T233000
DTSTAMP:20260423T053450
CREATED:20240419T183247Z
LAST-MODIFIED:20240611T100513Z
UID:10000503-1715977800-1715988600@lemelville.fr
SUMMARY:Galawesh & Friends
DESCRIPTION:Galawesh rejoint Square noon pour entraîner les garçons vers le R’nB et la Soul.\nSquare Noon\, c’est Alexandre Lombard-Buffet\, Axel Allright et Arthur Cayuelas\, qui vitalisent leur musique comme aux premières heures du jazz.\nLa joie communicative de ces amis de promo de l’Imep (Paris College of Music) fait vibrer le Melville sur des rythme Soul et R’nB
URL:https://lemelville.fr/accueil/evenements/galawesh-friends-5/
LOCATION:Le Melville\, 28 Rue Jean Mermoz\, Paris\, 75008\, France
CATEGORIES:Vocal Standard Jazz
ATTACH;FMTTYPE=image/png:https://lemelville.fr/wp-content/uploads/2023/09/Galawesh.png
END:VEVENT
BEGIN:VEVENT
DTSTART;TZID=Europe/Paris:20240518T210000
DTEND;TZID=Europe/Paris:20240518T233000
DTSTAMP:20260423T053450
CREATED:20240419T185044Z
LAST-MODIFIED:20240419T185044Z
UID:10000504-1716066000-1716075000@lemelville.fr
SUMMARY:Swing That !
DESCRIPTION:SWING THAT ! rend hommage au swing populaire  \n De la Nouvelle-Orléans aux comédies musicales en passant par les succès de Nat King Cole ou de Benny Goodman\, on a tous quelque part en tête ces jolies mélodies qui nous font claquer des doigts et nous racontent de belles histoires.  \nSWING THAT rend hommage à ce répertoire\, en distillant avec amour une sélection d’airs in french ou en anglais qui vous ferons fredonner certains passages à coup sûr…  \n… et pourquoi pas danser puisque Swing That a aussi pour vocation d’accompagner les bals-swing\, redevenus très en vogue à Paris.  \nGeorges Wolfaardt : contrebasse  \nCesar Pastre : piano  \nRobert Fish : clarinette\, sax t\,   \nDavid Lesprit clarinette\, sax s\, chant. 
URL:https://lemelville.fr/accueil/evenements/swing-that-2/
LOCATION:Le Melville\, 28 Rue Jean Mermoz\, Paris\, 75008\, France
ATTACH;FMTTYPE=image/png:https://lemelville.fr/wp-content/uploads/2024/01/Swing-That.png
END:VEVENT
BEGIN:VEVENT
DTSTART;TZID=Europe/Paris:20240521T210000
DTEND;TZID=Europe/Paris:20240521T233000
DTSTAMP:20260423T053450
CREATED:20240419T191246Z
LAST-MODIFIED:20240419T191319Z
UID:10000505-1716325200-1716334200@lemelville.fr
SUMMARY:Sarah Kay Trio
DESCRIPTION:Entre tourment et béatitude\, les compositions de la pianiste s’écoutent tel un recueil de réflexions sur le monde qui l’entoure\, mêlant poésie contemplative et fragments d’autobiographie. Puisant son inspiration autant dans le jazz que dans la new soul ou le rock anglais\, avec une palette d’influences qui va de Tigran Hamasyan à King Crimson\, en passant par l’incontournable Bill Evans\, Sarah Kay vous invite à prendre part à ce voyage introspectif mis en musique\, entrelaçant mélodies aériennes et rythmiques ébouillantées.  \nSarah Kay – Piano Simon Prudhomme – Batterie Léo Debroise – Contrebasse \n 
URL:https://lemelville.fr/accueil/evenements/sarah-kay-trio/
LOCATION:Le Melville\, 28 Rue Jean Mermoz\, Paris\, 75008\, France
ATTACH;FMTTYPE=image/png:https://lemelville.fr/wp-content/uploads/2024/04/Sarah-Kay-Affiche.png
END:VEVENT
BEGIN:VEVENT
DTSTART;TZID=Europe/Paris:20240522T203000
DTEND;TZID=Europe/Paris:20240522T233000
DTSTAMP:20260423T053450
CREATED:20240419T195543Z
LAST-MODIFIED:20240419T195543Z
UID:10000507-1716409800-1716420600@lemelville.fr
SUMMARY:Aurore Voilqué - "Juste une parenthèse"
DESCRIPTION:Aurore Voilqué se produit avec le trio de son nouvel album.  \nSebastien Giniaux et Fabricio Nicolas Garcia l’entourent pour interpreter des chansons originales composées pour pour elle !  \n Un disque qui sortira le 11 Octobre prochain chez Label Ouest.  \nOn a hâte de vous faire découvrir ce programme tout particulier.  \n  \nAurore Voilqué : violon  \nSebastien Giniaux : guitare  \nFabricio Nicolas Garcia : contrebasse  \n 
URL:https://lemelville.fr/accueil/evenements/aurore-voilque-juste-une-parenthese/
LOCATION:Le Melville\, 28 Rue Jean Mermoz\, Paris\, 75008\, France
ATTACH;FMTTYPE=image/png:https://lemelville.fr/wp-content/uploads/2024/04/Aurore-Voilque-Trio-Affiche.png
END:VEVENT
BEGIN:VEVENT
DTSTART;TZID=Europe/Paris:20240523T210000
DTEND;TZID=Europe/Paris:20240523T233000
DTSTAMP:20260423T053450
CREATED:20240420T065930Z
LAST-MODIFIED:20240420T065930Z
UID:10000515-1716498000-1716507000@lemelville.fr
SUMMARY:Gashka
DESCRIPTION:Gashka vous invite à un voyage musical joyeux et nostalgique au cœur des Balkans\, sur des rythmes endiablés \, avec ses mélodies russes\, hongroises \, moldaves \, klezmers\, et bien sûr tziganes !  \n  \nVelizar Assenov :  violon  \nHenry Kisiel :  contrebasse  \nGheorghe Ciumasu : accordéon  \nSamuel Maquin :  clarinette 
URL:https://lemelville.fr/accueil/evenements/gashka/
LOCATION:Le Melville\, 28 Rue Jean Mermoz\, Paris\, 75008\, France
ATTACH;FMTTYPE=image/png:https://lemelville.fr/wp-content/uploads/2024/04/Gashka-Affiche.png
END:VEVENT
BEGIN:VEVENT
DTSTART;TZID=Europe/Paris:20240524T203000
DTEND;TZID=Europe/Paris:20240524T233000
DTSTAMP:20260423T053450
CREATED:20240419T195640Z
LAST-MODIFIED:20240419T195640Z
UID:10000508-1716582600-1716593400@lemelville.fr
SUMMARY:Rémi Toulon Trio
DESCRIPTION:Rémi Toulon s’est frotté au Jazz sous toutes ses formes\, son insatiable appétit musical l’a amené à participer à plus d’une vingtaine d’albums et à multiplier les rencontres en tant que pianiste\, compositeur ou arrangeur.  \n  \nC’est en 2011 qu’il enregistre l’album NOVEMBRE et remporte avec son trio le 1er prix du trophée International d’orchestres organisé par le festival Jazz à Montauban. Le trio devient vite habitué des clubs et festivals\, en tant que groupe defendant sa propre musique ou en tant que rythmique au service de divers solistes ou chanteurs.  \nL’album QUIETLY (2014)\, sélectionné par FIP et France Musique\, est salué dès sa sortie comme « Révélation » par Jazzman/Jazz magazine.   \nAvec cette même rythmique\, plus soudée que jamais\, Rémi Toulon signe ADAGIORINHO (2017) et THE CRAVE (2022) qui explorent en quintet la frontière ténue entre le Jazz et ses musiques cousines du brésil et des Caraïbes.  \nDistillant une musique généreuse avec un plaisir de jouer évident\, Rémi Toulon défend une musique à la fois personnelle et ancrée dans la grande tradition du Jazz.   \n« Rémi Toulon\, musicien français éclectique et surdoué »   \nFrance Musique   \n  \n“Impossible de rester impassible devant un tel sens du swing\, devant une joie de jouer aussi débordante! »   \nTSF JAZZ  \n  \n“Ils ont une façon\, par leurs arrangements\, de réinventer l’art du trio jazz à chaque morceau\, qui est tout à fait réjouissante. »   \nJazzman/Jazzmag  \n 
URL:https://lemelville.fr/accueil/evenements/remi-toulon-trio-3/
LOCATION:Le Melville\, 28 Rue Jean Mermoz\, Paris\, 75008\, France
ATTACH;FMTTYPE=image/png:https://lemelville.fr/wp-content/uploads/2023/12/Remi-Toulon-Trio.png
END:VEVENT
BEGIN:VEVENT
DTSTART;TZID=Europe/Paris:20240525T210000
DTEND;TZID=Europe/Paris:20240525T233000
DTSTAMP:20260423T053450
CREATED:20240419T195727Z
LAST-MODIFIED:20240611T103059Z
UID:10000509-1716670800-1716679800@lemelville.fr
SUMMARY:Caravan jazz
DESCRIPTION:Une soirée pleine de peps avec un répertoire de standards de Jazz et de Bossa nova brésilienne\, en quartet piano / basse / batterie / voix. Le tout en laissant une large place à l’improvisation et à l’échange avec le public ! Eleonore Langellier\, vocaliste Jazz à l’énergie communicative est accompagnée du très talentueux Vally Sullimann au piano\, d’Emmanuel Sunee à la basse et Tom Peyron à la batterie. Ensemble ils apporteront une couleur Be-bop frénétique à la soirée.
URL:https://lemelville.fr/accueil/evenements/caravan-jazz-6/
LOCATION:Le Melville\, 28 Rue Jean Mermoz\, Paris\, 75008\, France
CATEGORIES:Jazz Standard,Vocal Standard Jazz
ATTACH;FMTTYPE=image/png:https://lemelville.fr/wp-content/uploads/2023/09/caravan-2.png
END:VEVENT
BEGIN:VEVENT
DTSTART;TZID=Europe/Paris:20240528T203000
DTEND;TZID=Europe/Paris:20240528T233000
DTSTAMP:20260423T053450
CREATED:20240419T200311Z
LAST-MODIFIED:20240419T200311Z
UID:10000510-1716928200-1716939000@lemelville.fr
SUMMARY:Links Trio
DESCRIPTION:Premier album : ‘Oh My God!’  \nLe Links Trio s’inspire profondément des racines de la culture afro-américaine au travers de la formation orgue-guitare-batterie\, embrassant à la fois les éléments profanes du blues\, du jazz ou bien encore des couleurs des Caraïbes…  \nArthur Links : guitar\nClément Simon : organ\nClément Brajtman : drums 
URL:https://lemelville.fr/accueil/evenements/links-trio/
LOCATION:Le Melville\, 28 Rue Jean Mermoz\, Paris\, 75008\, France
ATTACH;FMTTYPE=image/png:https://lemelville.fr/wp-content/uploads/2024/04/links-Trio-Affiche.png
END:VEVENT
BEGIN:VEVENT
DTSTART;TZID=Europe/Paris:20240529T203000
DTEND;TZID=Europe/Paris:20240529T233000
DTSTAMP:20260423T053450
CREATED:20240419T200555Z
LAST-MODIFIED:20240419T200555Z
UID:10000511-1717014600-1717025400@lemelville.fr
SUMMARY:Léo Labarrière 5tet - "Minuit dans Paris"
DESCRIPTION:Dans son premier EP « Minuit Dans Paris »\, Léo Labarrière nous présentait son univers unique et envoûtant. La beauté nocturne de ce projet laissait déjà transparaître une grande sensibilité et une vraie maturité d’écriture et de composition. . Pianiste de Jazz\, il se nourrit cependant beaucoup de musique classique et contemporaine. On découvre dans ses singles « Rosa’s Song »\, « Time For Love »\, ou encore « Nastia »\, tout trois enregistrés avec un quatuor à cordes\, sa passion de l’écriture classique et de l’arrangement. C’est avec ce même quatuor qu’il enregistre son deuxième projet « Perspective ». Cette oeuvre en 4 parties définit encore plus ce nouveau monde musical propre à Léo Labarrière\, toujours accompagné de son quintet qu’il admire et qu’il affectionne.  \n  \n– Léo Labarrière\, piano  \n– Alice Chahbazian\, chant  \n– Ilies Damnati\, trompette  \n– Adrien Legleye\, basse  \n– Joseph Roth\, batterie
URL:https://lemelville.fr/accueil/evenements/leo-labarriere-5tet-minuit-dans-paris/
LOCATION:Le Melville\, 28 Rue Jean Mermoz\, Paris\, 75008\, France
ATTACH;FMTTYPE=image/png:https://lemelville.fr/wp-content/uploads/2024/04/Leo-Labarrere-5tet-Affiche.png
END:VEVENT
BEGIN:VEVENT
DTSTART;TZID=Europe/Paris:20240530T203000
DTEND;TZID=Europe/Paris:20240530T203000
DTSTAMP:20260423T053450
CREATED:20240419T200653Z
LAST-MODIFIED:20240611T101341Z
UID:10000512-1717101000-1717101000@lemelville.fr
SUMMARY:Larry Gillespie Trio
DESCRIPTION:Larry Gillespie (Trompette et vocal) qui a joué dans le big band de Ray Charles\, de Woody Herman\, ainsi qu’avec nombre de musiciens français et internationaux est de retour en France après son premier séjour dans les années 90. Son French trio joue principalement le Jazz West Coast des années 50 et 60 dont Chet Baker et Art Pepper sont parmi les illustres représentants\, mais aussi des arrangements et des compositions de Laurent Katz . Un jazz toujours mélodique qui swingue intensément.   \nLarry Gillespie : trompette\, chant  \nLaurent Katz : piano   \nJean Pierre Rebillard : contrebasse 
URL:https://lemelville.fr/accueil/evenements/larry-gillespie-trio-2/
LOCATION:Le Melville\, 28 Rue Jean Mermoz\, Paris\, 75008\, France
CATEGORIES:Vocal Standard Jazz
ATTACH;FMTTYPE=image/png:https://lemelville.fr/wp-content/uploads/2024/01/Larry-Gillespie-Trio.png
END:VEVENT
BEGIN:VEVENT
DTSTART;TZID=Europe/Paris:20240531T210000
DTEND;TZID=Europe/Paris:20240531T233000
DTSTAMP:20260423T053450
CREATED:20240419T200859Z
LAST-MODIFIED:20240419T200859Z
UID:10000513-1717189200-1717198200@lemelville.fr
SUMMARY:Alex Freiman and the Hot Sauce 
DESCRIPTION:  \nLe groupe dynamique dirigé par le talentueux Alex Freiman\, Alex Freiman & The Hot Sauce\, se distingue par son mélange éclectique de Jazz\, de Soul et de Funk. Inspiré par des maîtres du jazz tels que Wes Montgomery et Grant Green\, ainsi que des légendes du funk comme James Brown\, le groupe a forgé un son sophistiqué et organique\, s’inscrivant globalement dans l’art du Feel Good Music. En fusionnant habilement diverses influences\, le groupe forge un chemin musical unique et prometteur\, capturant l’essence du Jazz\, du Funk et de la Soul tout en offrant une expérience sonore exceptionnelle. Le noyau du groupe\,autour d’Alex Freiman – Guitariste Chanteur- est composé de César Poirier au saxophone\, Clément Simon à l’orgue et Stéfano Lucchini à la batterie. Une unité musicale cohérente qui donne vie à la vision artistique distinctive d’Alex Freiman\, compositeur.  \n  \nAlex Freiman (Guitare)\, Compositeur\, Chanteur\, Leader  \nCésar Poirier (Saxophone)  \nClément Simon (Orgue)  \nStéfano Lucchini (Batterie) 
URL:https://lemelville.fr/accueil/evenements/alex-freiman-and-the-hot-sauce/
LOCATION:Le Melville\, 28 Rue Jean Mermoz\, Paris\, 75008\, France
ATTACH;FMTTYPE=image/png:https://lemelville.fr/wp-content/uploads/2024/04/Alex-Freiman-Affiche.png
END:VEVENT
END:VCALENDAR