BEGIN:VCALENDAR
VERSION:2.0
PRODID:-//Le Melville - ECPv6.15.17//NONSGML v1.0//EN
CALSCALE:GREGORIAN
METHOD:PUBLISH
X-WR-CALNAME:Le Melville
X-ORIGINAL-URL:https://lemelville.fr/accueil
X-WR-CALDESC:Évènements pour Le Melville
REFRESH-INTERVAL;VALUE=DURATION:PT1H
X-Robots-Tag:noindex
X-PUBLISHED-TTL:PT1H
BEGIN:VTIMEZONE
TZID:Europe/Paris
BEGIN:DAYLIGHT
TZOFFSETFROM:+0100
TZOFFSETTO:+0200
TZNAME:CEST
DTSTART:20230326T010000
END:DAYLIGHT
BEGIN:STANDARD
TZOFFSETFROM:+0200
TZOFFSETTO:+0100
TZNAME:CET
DTSTART:20231029T010000
END:STANDARD
BEGIN:DAYLIGHT
TZOFFSETFROM:+0100
TZOFFSETTO:+0200
TZNAME:CEST
DTSTART:20240331T010000
END:DAYLIGHT
BEGIN:STANDARD
TZOFFSETFROM:+0200
TZOFFSETTO:+0100
TZNAME:CET
DTSTART:20241027T010000
END:STANDARD
BEGIN:DAYLIGHT
TZOFFSETFROM:+0100
TZOFFSETTO:+0200
TZNAME:CEST
DTSTART:20250330T010000
END:DAYLIGHT
BEGIN:STANDARD
TZOFFSETFROM:+0200
TZOFFSETTO:+0100
TZNAME:CET
DTSTART:20251026T010000
END:STANDARD
END:VTIMEZONE
BEGIN:VEVENT
DTSTART;TZID=Europe/Paris:20240801T203000
DTEND;TZID=Europe/Paris:20240801T233000
DTSTAMP:20260423T011052
CREATED:20240420T081612Z
LAST-MODIFIED:20240611T134422Z
UID:10000536-1722544200-1722555000@lemelville.fr
SUMMARY:Carte blanche à Square Noon
DESCRIPTION:Du 30 juillet au 8 août\, Carte blanche à Square Noon. \nCes amis du Melville font la prog ! \nSquare Noon\, c’est Alexandre\, Axel et Arlo\, qui vitalisent leur musique comme aux premières heures du jazz. La joie communicative de ces trois amis de promo de l’Imep (Paris College of Music) fait vibrer le Melville tous les mois. \nAlexandre Lombard-Buffet : piano \nAxel Allwright : batterie \nArlo Lardé : contrebasse\, basse
URL:https://lemelville.fr/accueil/evenements/carte-blanche-a-square-noon-3/
LOCATION:Le Melville\, 28 Rue Jean Mermoz\, Paris\, 75008\, France
CATEGORIES:Jazz Standard
ATTACH;FMTTYPE=image/png:https://lemelville.fr/wp-content/uploads/2024/04/Carte-Blanche-Square-Noon-Affiche-3.png
END:VEVENT
BEGIN:VEVENT
DTSTART;TZID=Europe/Paris:20240802T203000
DTEND;TZID=Europe/Paris:20240802T233000
DTSTAMP:20260423T011052
CREATED:20240420T081657Z
LAST-MODIFIED:20240611T134422Z
UID:10000538-1722630600-1722641400@lemelville.fr
SUMMARY:Carte blanche à Square Noon
DESCRIPTION:Du 30 juillet au 8 août\, Carte blanche à Square Noon. \nCes amis du Melville font la prog ! \nSquare Noon\, c’est Alexandre\, Axel et Arlo\, qui vitalisent leur musique comme aux premières heures du jazz. La joie communicative de ces trois amis de promo de l’Imep (Paris College of Music) fait vibrer le Melville tous les mois. \nAlexandre Lombard-Buffet : piano \nAxel Allwright : batterie \nArlo Lardé : contrebasse\, basse
URL:https://lemelville.fr/accueil/evenements/carte-blanche-a-square-noon-5/
LOCATION:Le Melville\, 28 Rue Jean Mermoz\, Paris\, 75008\, France
CATEGORIES:Jazz Standard
ATTACH;FMTTYPE=image/png:https://lemelville.fr/wp-content/uploads/2024/04/Carte-Blanche-Square-Noon-Affiche-3.png
END:VEVENT
BEGIN:VEVENT
DTSTART;TZID=Europe/Paris:20240803T210000
DTEND;TZID=Europe/Paris:20240803T233000
DTSTAMP:20260423T011052
CREATED:20240420T082057Z
LAST-MODIFIED:20240611T132214Z
UID:10000541-1722718800-1722727800@lemelville.fr
SUMMARY:Manigua
DESCRIPTION:Comme souvent le samedi\, le son de la salsa envahit Le Melville. Ce sextet à l’énergie débordante nous emmènera\, cette fois\, vers Porto Rico dans les parfums du rhum et les rythmes fous. \nLes chemins de ces musiciens se croisent après avoir participé activement au mouvement salsa à Paris. Cette passion pour la salsa les a amenés à partager et fusionner leurs pratiques musicales. La diversité de leurs origines\, de leurs formations et de leurs expériences fait de cette union musicale une expérience enrichissante où la salsa et le folklore colombien avec des touches de latin jazz\, sont les protagonistes. Dans cette occasion\, réunis avec Manigua ils transmettent la passion pour ce genre musical au public du Melville et continuent à maintenir la culture salsa vivante et actuelle. \nJosue Omana : trompette \nMartin Fuenmayor : chant contrebasse \nJulian Jimenez : piano \nNestor Sanz : percussion \nJim Lopez : percussion \nHolmann Reyes : trombonne
URL:https://lemelville.fr/accueil/evenements/manigua/
LOCATION:Le Melville\, 28 Rue Jean Mermoz\, Paris\, 75008\, France
ATTACH;FMTTYPE=image/png:https://lemelville.fr/wp-content/uploads/2024/04/Manigua-Affiche.png
END:VEVENT
BEGIN:VEVENT
DTSTART;TZID=Europe/Paris:20240806T203000
DTEND;TZID=Europe/Paris:20240806T233000
DTSTAMP:20260423T011052
CREATED:20240420T081634Z
LAST-MODIFIED:20240611T134422Z
UID:10000537-1722976200-1722987000@lemelville.fr
SUMMARY:Carte blanche à Square Noon
DESCRIPTION:Du 30 juillet au 8 août\, Carte blanche à Square Noon. \nCes amis du Melville font la prog ! \nSquare Noon\, c’est Alexandre\, Axel et Arlo\, qui vitalisent leur musique comme aux premières heures du jazz. La joie communicative de ces trois amis de promo de l’Imep (Paris College of Music) fait vibrer le Melville tous les mois. \nAlexandre Lombard-Buffet : piano \nAxel Allwright : batterie \nArlo Lardé : contrebasse\, basse
URL:https://lemelville.fr/accueil/evenements/carte-blanche-a-square-noon-4/
LOCATION:Le Melville\, 28 Rue Jean Mermoz\, Paris\, 75008\, France
CATEGORIES:Jazz Standard
ATTACH;FMTTYPE=image/png:https://lemelville.fr/wp-content/uploads/2024/04/Carte-Blanche-Square-Noon-Affiche-2.png
END:VEVENT
BEGIN:VEVENT
DTSTART;TZID=Europe/Paris:20240807T203000
DTEND;TZID=Europe/Paris:20240807T233000
DTSTAMP:20260423T011052
CREATED:20240420T081913Z
LAST-MODIFIED:20240611T134422Z
UID:10000540-1723062600-1723073400@lemelville.fr
SUMMARY:Carte blanche à Square Noon
DESCRIPTION:Du 30 juillet au 8 août\, Carte blanche à Square Noon. \nCes amis du Melville font la prog ! \nSquare Noon\, c’est Alexandre\, Axel et Arlo\, qui vitalisent leur musique comme aux premières heures du jazz. La joie communicative de ces trois amis de promo de l’Imep (Paris College of Music) fait vibrer le Melville tous les mois. \nAlexandre Lombard-Buffet : piano \nAxel Allwright : batterie \nArlo Lardé : contrebasse\, basse
URL:https://lemelville.fr/accueil/evenements/carte-blanche-a-square-noon-6/
LOCATION:Le Melville\, 28 Rue Jean Mermoz\, Paris\, 75008\, France
CATEGORIES:Jazz Standard
ATTACH;FMTTYPE=image/png:https://lemelville.fr/wp-content/uploads/2024/04/Carte-Blanche-Square-Noon.png
END:VEVENT
BEGIN:VEVENT
DTSTART;TZID=Europe/Paris:20240808T203000
DTEND;TZID=Europe/Paris:20240808T233000
DTSTAMP:20260423T011052
CREATED:20240420T081814Z
LAST-MODIFIED:20240611T134422Z
UID:10000539-1723149000-1723159800@lemelville.fr
SUMMARY:Carte blanche à Square Noon
DESCRIPTION:Du 30 juillet au 8 août\, Carte blanche à Square Noon. \nCes amis du Melville font la prog ! \nSquare Noon\, c’est Alexandre\, Axel et Arlo\, qui vitalisent leur musique comme aux premières heures du jazz. La joie communicative de ces trois amis de promo de l’Imep (Paris College of Music) fait vibrer le Melville tous les mois. \nAlexandre Lombard-Buffet : piano \nAxel Allwright : batterie \nArlo Lardé : contrebasse\, basse
URL:https://lemelville.fr/accueil/evenements/carte-blanche-a-square-noon-copy-copy/
LOCATION:Le Melville\, 28 Rue Jean Mermoz\, Paris\, 75008\, France
CATEGORIES:Jazz Standard
ATTACH;FMTTYPE=image/png:https://lemelville.fr/wp-content/uploads/2024/04/Carte-Blanche-Square-Noon-Affiche.png
END:VEVENT
BEGIN:VEVENT
DTSTART;TZID=Europe/Paris:20240828T203000
DTEND;TZID=Europe/Paris:20240828T233000
DTSTAMP:20260423T011052
CREATED:20240707T201202Z
LAST-MODIFIED:20240828T165849Z
UID:10000569-1724877000-1724887800@lemelville.fr
SUMMARY:Simon Chivallon
DESCRIPTION:Les 28 et 29 août\, Simon “fait chanter son piano” au Melville pour deux dates exceptionnelles : \nSimon Chivallon est un pianiste de jazz originaire de la région Bordelaise. Suite à des études au conservatoire puis au pôle supérieur de Paris d’où il sort diplômé en 2015\, il se consacre entièrement à la scène en tant que sideman et leader. Il est présent sur de nombreux disques et se produit dans les clubs parisiens mais aussi à l’étranger (Chine\, Antilles\, Europe de l’est\, Espagne\, New York\, Los Angeles….) Il sort en 2017 un premier disque\, «Flying Wolf » dont la presse ne tarit pas d’éloges\, et un second disque en trio\, «&#160;light blue»\, en mars 2021. On a pu l’entendre aux côtés de Baptiste Herbin\, Rick Margitza\, Dayna Stephens\, Simon Moullier\, Gaël Horellou\, Géraud Portal\, Julien Alour\, Sylvain Gontard et bien d’autres…   \nSimon Chivallon : piano \nAlexis Valet : vibraphone \nDamien Varaillon : contrebasse \n 
URL:https://lemelville.fr/accueil/evenements/simon-chivallon-3/
LOCATION:Le Melville\, 28 Rue Jean Mermoz\, Paris\, 75008\, France
CATEGORIES:Jazz Standard
ATTACH;FMTTYPE=image/png:https://lemelville.fr/wp-content/uploads/2024/07/Simon-Chivallon-Solo-Affiche-NF-1.png
END:VEVENT
BEGIN:VEVENT
DTSTART;TZID=Europe/Paris:20240829T203000
DTEND;TZID=Europe/Paris:20240829T233000
DTSTAMP:20260423T011052
CREATED:20240707T200831Z
LAST-MODIFIED:20240712T160555Z
UID:10000570-1724963400-1724974200@lemelville.fr
SUMMARY:Simon Chivallon
DESCRIPTION:Les 28 et 29 août\, Simon “fait chanter son piano” au Melville pour deux dates exceptionnelles : \nSimon Chivallon est un pianiste de jazz originaire de la région Bordelaise. Suite à des études au conservatoire puis au pôle supérieur de Paris d’où il sort diplômé en 2015\, il se consacre entièrement à la scène en tant que sideman et leader. Il est présent sur de nombreux disques et se produit dans les clubs parisiens mais aussi à l’étranger (Chine\, Antilles\, Europe de l’est\, Espagne\, New York\, Los Angeles….) Il sort en 2017 un premier disque\, «Flying Wolf » dont la presse ne tarit pas d’éloges\, et un second disque en trio\, «&#160;light blue»\, en mars 2021. On a pu l’entendre aux côtés de Baptiste Herbin\, Rick Margitza\, Dayna Stephens\, Simon Moullier\, Gaël Horellou\, Géraud Portal\, Julien Alour\, Sylvain Gontard et bien d’autres…   \nSimon Chivallon : piano \nStéphane Adsuar : batterie \nClément Daldosso : contrebasse \n 
URL:https://lemelville.fr/accueil/evenements/simon-chivallon-2/
LOCATION:Le Melville\, 28 Rue Jean Mermoz\, Paris\, 75008\, France
CATEGORIES:Jazz Standard
ATTACH;FMTTYPE=image/png:https://lemelville.fr/wp-content/uploads/2024/07/Simon-Chivallon-Solo-Affiche-NF-1.png
END:VEVENT
BEGIN:VEVENT
DTSTART;TZID=Europe/Paris:20240830T203000
DTEND;TZID=Europe/Paris:20240830T233000
DTSTAMP:20260423T011052
CREATED:20240711T103732Z
LAST-MODIFIED:20240711T103732Z
UID:10000571-1725049800-1725060600@lemelville.fr
SUMMARY:Julien Routtier 4tet
DESCRIPTION:Julien Routtier Quartet est une formation de jazz français formé en 2022 à Dammarie les Lys\,\ndont le répertoire est essentiellement constitué de compositions originales de Julien\nRouttier\, le créateur du projet. Les membres du groupe sont tous issus du Centre des\nMusiques Didier Lockwood. \nLes compositions\, profondes et riches\, s’inscrivent dans le registre du Spiritual Jazz\, inspirées\nen grande partie de Monk\, de Mingus ou de Coltrane\, et se nourrissent de diverses\ninfluences comme le bebop\, le hard bop\, le post bop\, l’Avant-garde jazz…”  \nJulien Routtier : piano  \n Ethan Denis : contrebasse  \n Abdelbari Fannush : saxophone ténor  \n Guillaume Jaboulay : batterie  \n 
URL:https://lemelville.fr/accueil/evenements/julien-routtier-4tet-2/
LOCATION:Le Melville\, 28 Rue Jean Mermoz\, Paris\, 75008\, France
CATEGORIES:Jazz Standard
ATTACH;FMTTYPE=image/png:https://lemelville.fr/wp-content/uploads/2024/07/Julien-Routtier-Quartet-Affiche-NF-1.png
END:VEVENT
BEGIN:VEVENT
DTSTART;TZID=Europe/Paris:20240831T210000
DTEND;TZID=Europe/Paris:20240831T233000
DTSTAMP:20260423T011052
CREATED:20240707T210738Z
LAST-MODIFIED:20240807T171505Z
UID:10000592-1725138000-1725147000@lemelville.fr
SUMMARY:Quiproquo
DESCRIPTION:Entre samba et bossa\, Quiproquo ne manquent ni de bonne humeur ni de fantaisie. Issus de l’atelier de musique brésilienne du conservatoire Nadia et Lili Boulanger\, ces musiciens partagent le même enthousiasme pour cette musique ; celle qui secoue tout un peuple en le faisant chanter les mains levées au ciel : samba ! Quiproquo c’est surtout un jeune groupe débordant d’énergie qui ne demande qu’à jouer pour votre plaisir. Alors que vous aimiez chanter\, sourire ou danser\, le Brésil vous attend au Melville avec Quirpoquo. \n  \nLouison Camio : chant\nNaomi Guetta : piano\nElsa Lokoye : basse\nTitouan Vandenborght : batterie
URL:https://lemelville.fr/accueil/evenements/quiproquo/
LOCATION:Le Melville\, 28 Rue Jean Mermoz\, Paris\, 75008\, France
CATEGORIES:Latin Bossa Nova,Soul
ATTACH;FMTTYPE=image/png:https://lemelville.fr/wp-content/uploads/2024/07/Quiproquo-Affiche-NF.png
END:VEVENT
END:VCALENDAR