BEGIN:VCALENDAR
VERSION:2.0
PRODID:-//Le Melville - ECPv6.15.17//NONSGML v1.0//EN
CALSCALE:GREGORIAN
METHOD:PUBLISH
X-ORIGINAL-URL:https://lemelville.fr/accueil
X-WR-CALDESC:Évènements pour Le Melville
REFRESH-INTERVAL;VALUE=DURATION:PT1H
X-Robots-Tag:noindex
X-PUBLISHED-TTL:PT1H
BEGIN:VTIMEZONE
TZID:Europe/Paris
BEGIN:DAYLIGHT
TZOFFSETFROM:+0100
TZOFFSETTO:+0200
TZNAME:CEST
DTSTART:20240331T010000
END:DAYLIGHT
BEGIN:STANDARD
TZOFFSETFROM:+0200
TZOFFSETTO:+0100
TZNAME:CET
DTSTART:20241027T010000
END:STANDARD
BEGIN:DAYLIGHT
TZOFFSETFROM:+0100
TZOFFSETTO:+0200
TZNAME:CEST
DTSTART:20250330T010000
END:DAYLIGHT
BEGIN:STANDARD
TZOFFSETFROM:+0200
TZOFFSETTO:+0100
TZNAME:CET
DTSTART:20251026T010000
END:STANDARD
BEGIN:DAYLIGHT
TZOFFSETFROM:+0100
TZOFFSETTO:+0200
TZNAME:CEST
DTSTART:20260329T010000
END:DAYLIGHT
BEGIN:STANDARD
TZOFFSETFROM:+0200
TZOFFSETTO:+0100
TZNAME:CET
DTSTART:20261025T010000
END:STANDARD
END:VTIMEZONE
BEGIN:VEVENT
DTSTART;TZID=Europe/Paris:20250301T210000
DTEND;TZID=Europe/Paris:20250301T233000
DTSTAMP:20260422T165040
CREATED:20250215T162410Z
LAST-MODIFIED:20250215T162410Z
UID:10000787-1740862800-1740871800@lemelville.fr
SUMMARY:Carlos Napoles Quartet
DESCRIPTION:L’univers festif de la musique cubaine avec Carlos Nàpoles se présente au Melville ! Une fusion envoûtante de rythmes afro-caribéens et cubains\, où la salsa\, la rumba et le chachacha vous emmènent dans une aventure musicale vibrante à travers l’Amérique latine. \nCarlos Napolès 4tet est une formation musicale cubaine fruit de la fusion de rythmes afro-caribéens et cubains. C’est l’espérance et la fête ! Un voyage musical qui part de la musique cubaine actuelle en passant par la salsa\, la rumba\, le boléro\, le chachacha et le son cubain.\nCarlos Nàpoles Y Calle Esperanza est surtout une aventure humaine toujours en interaction avec un publique qui aime la danse et les couleurs latines de l’Amérique du sud\, Porto Rico\, Colombie\, Venezuela\, Brésil\, Cuba… \nCarlos Napoles : Guitare chant\nFrédéric Locarni : Piano\nJose Antonio Vallejo : percussion\nFelix Tocas : basse
URL:https://lemelville.fr/accueil/evenements/carlos-napoles-quartet-4/
LOCATION:Le Melville\, 28 Rue Jean Mermoz\, Paris\, 75008\, France
CATEGORIES:Latin Salsa
ATTACH;FMTTYPE=image/png:https://lemelville.fr/wp-content/uploads/2025/02/Carlos-Napoles-Quartet-Affiche-Nouvelle-NF-1.png
END:VEVENT
BEGIN:VEVENT
DTSTART;TZID=Europe/Paris:20250304T203000
DTEND;TZID=Europe/Paris:20250304T233000
DTSTAMP:20260422T165040
CREATED:20250117T105524Z
LAST-MODIFIED:20250225T115921Z
UID:10000723-1741120200-1741131000@lemelville.fr
SUMMARY:Gautier Montegu Trio
DESCRIPTION:L’univers envoûtant de Gautier Montegu Trio est inspiré par les légendes du jazz comme Nat King Cole et Oscar Peterson. Une fusion vibrante entre tradition et modernité qui t’emmènera dans un tourbillon de sonorités intemporelles. \nGautier Montegu Trio \nTout droit sorti du CMDL (Centre de Musique Didier Lockwood)\, le trio mené par Gautier Montegu puise ses racines aussi bien chez les fondateurs du jazz que chez ceux qui l’ont fait évoluer au fil des décennies. De Nat King Cole à Gerald Clayton\, en passant par Oscar Peterson et Bill Evans\, il rend hommage à un jazz en mouvement perpétuel qui ne se fige jamais. \nGautier Montegu : piano\nEwan Douard : batterie\nRayan Besançon : contrebasse
URL:https://lemelville.fr/accueil/evenements/gautier-montegu-trio-3/
LOCATION:Le Melville\, 28 Rue Jean Mermoz\, Paris\, 75008\, France
CATEGORIES:Jazz Standard
ATTACH;FMTTYPE=image/png:https://lemelville.fr/wp-content/uploads/2025/01/Gautier-Montegu-Trio-NF.png
END:VEVENT
BEGIN:VEVENT
DTSTART;TZID=Europe/Paris:20250305T203000
DTEND;TZID=Europe/Paris:20250305T230000
DTSTAMP:20260422T165040
CREATED:20250225T091510Z
LAST-MODIFIED:20250225T091510Z
UID:10000794-1741206600-1741215600@lemelville.fr
SUMMARY:Alexis Valet & Noé Huchard Trio
DESCRIPTION:Alexis Valet\, Noé Huchard et Clément Daldosso revisitent le Great American Songbook au Melville. Malgré l’absence de batterie\, leur swing enflamme la scène avec leur trio vibraphone-piano-contrebasse. Une performance musicale étincelante qui vaut le détour. \nAlexis Valet et Noé Huchard  reviennent au Melville pour interpréter le répertoire du Great American Songbook. Avec Clément Daldosso à la contrebasse\, leur swing nous fait oublier l’absence de Batterie. Les trois complices font briller par leur musique cette formation rare\, vibraphone\, piano et contrebasse. \nClement Daldosso : contrebasse\nAlexis Valet : vibraphone\nNoé Huchard : piano
URL:https://lemelville.fr/accueil/evenements/alexis-valet-noe-huchard-trio/
LOCATION:Le Melville\, 28 Rue Jean Mermoz\, Paris\, 75008\, France
CATEGORIES:Jazz Standard
ATTACH;FMTTYPE=image/png:https://lemelville.fr/wp-content/uploads/2025/02/Valet-Huchard-Trio-Affiche-NF.png
END:VEVENT
BEGIN:VEVENT
DTSTART;TZID=Europe/Paris:20250306T203000
DTEND;TZID=Europe/Paris:20250306T230000
DTSTAMP:20260422T165040
CREATED:20250126T111306Z
LAST-MODIFIED:20250126T111306Z
UID:10000761-1741293000-1741302000@lemelville.fr
SUMMARY:La vuelta
DESCRIPTION:LA VUELTA réinvente la musique cubaine avec des rythmes exotiques comme le danzón et le cha cha cha. Ces genres influencent la naissance de la “salsa”. Il était temps de leur rendre hommage. \nLA VUELTA explore et revisite le répertoire instrumental cubain du début du siècle dernier : danzón\, danza\, cha cha cha\, autant de genres\nmusicaux peu connus\, rarement interprétés et qui constituent pourtant le terreau de ce qu’on a\, plus tard\, communément appelé la « salsa »  \nCyrille Maillard : Timbales\nClaire Meynadier : Piano\nEric Konnert : Congas\nEmmanuel Paillardon : Basse\nEmilie Laroubine : Flûte
URL:https://lemelville.fr/accueil/evenements/la-vuelta-3/
LOCATION:Le Melville\, 28 Rue Jean Mermoz\, Paris\, 75008\, France
CATEGORIES:Latin Jazz
ATTACH;FMTTYPE=image/png:https://lemelville.fr/wp-content/uploads/2025/01/La-Vuelta-Affiche-NF.png
END:VEVENT
BEGIN:VEVENT
DTSTART;TZID=Europe/Paris:20250307T210000
DTEND;TZID=Europe/Paris:20250307T230000
DTSTAMP:20260422T165040
CREATED:20250118T140144Z
LAST-MODIFIED:20250118T140144Z
UID:10000730-1741381200-1741388400@lemelville.fr
SUMMARY:Gautier Montegu Trio
DESCRIPTION:C’est un vibrant voyage dans l’univers du jazz avec le trio de Gautier Montegu qui nous est proposé. Un hommage au plus grands du jazz comme Nat King Cole et Bill Evans. \nTout droit sorti du CMDL (Centre de Musique Didier Lockwood)\, le trio mené par Gautier Montegu puise ses racines aussi bien chez les fondateurs du jazz que chez ceux qui l’ont fait évoluer au fil des décennies. De Nat King Cole à Gerald Clayton\, en passant par Oscar Peterson et Bill Evans\, il rend hommage à un jazz en mouvement perpétuel qui ne se fige jamais. \nGautier Montegu : piano\nEwan Douard : batterie\nRayan Besançon : contrebasse
URL:https://lemelville.fr/accueil/evenements/gautier-montegu-trio-4/
LOCATION:Le Melville\, 28 Rue Jean Mermoz\, Paris\, 75008\, France
CATEGORIES:Jazz Standard
ATTACH;FMTTYPE=image/png:https://lemelville.fr/wp-content/uploads/2025/01/Gautier-Montegu-Trio-NF-1.png
END:VEVENT
BEGIN:VEVENT
DTSTART;TZID=Europe/Paris:20250308T210000
DTEND;TZID=Europe/Paris:20250308T233000
DTSTAMP:20260422T165040
CREATED:20250126T124711Z
LAST-MODIFIED:20250126T124711Z
UID:10000770-1741467600-1741476600@lemelville.fr
SUMMARY:Rumba Paname
DESCRIPTION:Arlet Feuillard\, pianiste et percussionniste guadeloupéen\, magnifie les rythmes caribéens. Passé du classique au jazz\, il enflamme la scène aux côtés d’artistes tels que Franck Nicolas. En salsa ou latin jazz\, sa musique latine envoûte grâce à son talent et son énergie. \nPianiste de formation classique\, Arlet Feuillard commence également les percussions très jeune en pratiquant le Gwo Ka (musique traditionnelle Guadeloupéenne). Après avoir notamment étudié la musique classique à l’école de musique du Lamentin (Guadeloupe)\, au CRR de Paris et au Conservatoire Royal de Bruxelles \, il décide finalement de se consacrer au jazz et aux musiques traditionnelles caribéennes\, tant au piano qu’au percussions.  \nIl accompagne des artistes comme Franck Nicolas\, Max Cilla\, Jüde\, ainsi que quelques ensembles de salsa.  \nTrès attiré par les musiques latines\, c’est tout naturellement qu’Arlet nous présente cette formation et ce répertoire issu de rythmiques afro-brésiliennes et afro-latines.\nEntre latin jazz et musiques traditionnelles\, laissez-vous embarquer dans cet univers haut en couleurs  \nArlet Feuillard : congas\nJonathan Meyer : basse\nSamy Babiker : bongas\nDavid Lesprit : chant\, sax\nLaurène Le Barazer : chant\, percussions
URL:https://lemelville.fr/accueil/evenements/rumba-paname-2/
LOCATION:Le Melville\, 28 Rue Jean Mermoz\, Paris\, 75008\, France
CATEGORIES:Latin Jazz
ATTACH;FMTTYPE=image/png:https://lemelville.fr/wp-content/uploads/2025/01/Rumba-Paname-Affiche-NF-2.png
END:VEVENT
BEGIN:VEVENT
DTSTART;TZID=Europe/Paris:20250311T203000
DTEND;TZID=Europe/Paris:20250311T233000
DTSTAMP:20260422T165040
CREATED:20250118T144657Z
LAST-MODIFIED:20250126T124900Z
UID:10000732-1741725000-1741735800@lemelville.fr
SUMMARY:French Masters
DESCRIPTION:Antoine Dessane et Clément Griffault fusionnent musique classique française et jazz dans « French Masters ». En revisitant les grands compositeurs français avec des poèmes inédits et des standards de jazz\, ils rendent accessible et vibrant l’héritage musical à un large public. Un projet fusionnant cultures et valeurs humanistes. \nAprès avoir étudié la musique Classique et le Jazz au Conservatoire de Paris\, Antoine Dessane a décidé de créer le projet « French Masters » avec le pianiste Clément Griffault où les grandes œuvres des compositeurs Français sont revisitées et adaptées aux standards de jazz.    \nLes standards\, principalement issus des comédies musicales américaines\, sont des chansons\, similaires aux airs d’opéra.  C’est lorsque la population Afro-américaine s’est emparé de ces chansons que sont nés ce qu’on appelle les standards de jazz.  \nDans un processus similaire\, nous avons adapté les œuvres instrumentales des maîtres français pour la voix en les agrémentant de poèmes inédits dont l’histoire tisse un récit imaginaire inspiré par l’atmosphère de chaque œuvre.  \nCette démarche à un double but : tout d’abord rendre hommage à la musique française mais aussi de démocratiser notre héritage musical afin de le rendre accessible au grand public par l’intermédiaire de la chanson.  \nC’est la raison pour laquelle les poèmes\, composés par Antoine Dessane\, sont majoritairement en langue anglaise : afin de diffuser à l’international l’héritage musical de nos ancêtres.  \nC’est à l’âge d’or de la musique française Classique que nous rendons hommage à travers les œuvres d’Erik SATIE\, Maurice RAVEL\, Claude DEBUSSY\, Gabriel FAURE\, etc.  \nIl est de notoriété publique que les compositeurs américains\, tout genre confondu\, ont puisés sans réserve dans le patrimoine français pour alimenter leur inspiration.  \nDans cette continuité\, nous avons décidé de faire une place aux compositeurs américains de comédies musicales se situant entre la musique Classique et le Jazz tels que George GERSHWIN\, Richard RODGERS\, Cole PORTER\, etc.   \nSi la musique a le pouvoir d’adoucir les mœurs\, elle a également le pouvoir de rassembler les peuples et de faire passer des messages. Rassembler\, émouvoir et œuvrer pour la culture sont les maître-mots de ce projet.  \nRendre possible la rencontre entre différents cercles français et anglophones\, sensibiliser la jeunesse à notre héritage culturel et transmettre des idées humanistes à travers la musique et la poésie sont les objectifs de notre spectacle.  \nAntoine Dessanne : chant\nClément Griffault : piano\nGilles Naturel : contrebasse
URL:https://lemelville.fr/accueil/evenements/french-masters/
LOCATION:Le Melville\, 28 Rue Jean Mermoz\, Paris\, 75008\, France
CATEGORIES:Jazz Standard
ATTACH;FMTTYPE=image/png:https://lemelville.fr/wp-content/uploads/2025/01/French-Masters-Affiche-NF.png
END:VEVENT
BEGIN:VEVENT
DTSTART;TZID=Europe/Paris:20250312T203000
DTEND;TZID=Europe/Paris:20250312T233000
DTSTAMP:20260422T165040
CREATED:20250118T145216Z
LAST-MODIFIED:20250118T145216Z
UID:10000733-1741811400-1741822200@lemelville.fr
SUMMARY:Larry Browne Project
DESCRIPTION:Larry Browne\, l’Américain à Paris\, fusionne jazz et feeling avec sa voix et sa trompette. Sa musique\, un cocktail exquis d’énergie et de tendresse\, revisite les classiques et célèbre la nouveauté. Accompagné de Zoé Sédano et Octave Potier\, la soirée s’annonce vibrante ! \nEncouragé par Mark Murphy et Jimmy Scott et inspiré par Joe Williams\,\nNat King Cole et Clark Terry\, Larry Browne est un Américain à Paris\,\nqui vit le jazz à travers son chant et sa trompette. Ancien membre des\nVoice Messengers\, ayant enregistré plusieurs disques à son nom\n(«Swing Bean» produit par Jimmy Scott\, «Sweet & Lovely»\, «Leap\nYear»\, «South Sound»\, «Likeness» dit Lawrence Edwin)\, il propose des\nconcerts dans des formules variées à Paris et ailleurs.\nIl puise dans le répertoire des standards américains\, du blues à la\nbossa nova en passant par les ballades\, mais sait se renouveler en\npermanence : arrangements inédits de morceaux choisis\, compositions\npersonnelles\, improvisations\, énergie\, humour et tendresse sont au\nrendez-vous.\nIl se produit ce soir avec Zoé Sédano au piano et Octave Potier à la\ncontrebasse\, partenaires de jeu très complices et engagés\, participant\npar ailleurs à divers projets et formations sur la scène musicale\nparisienne.\nBonne humeur\, swing\, belles mélodies\, arrangements pêchus et bonne\nambiance garantis pour ce concert qui promet d’être exceptionnel ! \nLarry Browne : chant\, trompette\nZoé Sédano : piano\nOctave Potier : contrebasse
URL:https://lemelville.fr/accueil/evenements/larry-browne-project/
LOCATION:Le Melville\, 28 Rue Jean Mermoz\, Paris\, 75008\, France
CATEGORIES:Jazz Standard
ATTACH;FMTTYPE=image/png:https://lemelville.fr/wp-content/uploads/2025/01/Larry-Browne-Affiche-NF.png
END:VEVENT
BEGIN:VEVENT
DTSTART;TZID=Europe/Paris:20250313T210000
DTEND;TZID=Europe/Paris:20250313T230000
DTSTAMP:20260422T165040
CREATED:20250118T151020Z
LAST-MODIFIED:20250118T151020Z
UID:10000735-1741899600-1741906800@lemelville.fr
SUMMARY:Lazhar Zenou
DESCRIPTION:Dans un quatuor envoûtant\, Lazhar Zennou chante et joue de la guitare aux côtés de Rachid Belharbi au piano\, Khaled Sifi au cajun\, et Zakaria Bendaoud à la basse. Ce mélange de talents crée des mélodies arabo-andalouses à couper le souffle ! \nLazhar Zennou à la guitare\, chante ses déchirantes mélodies arabo-andalouse\, accompagné de Rachid Belharbi au piano\, Khaled Sifi au cajun\, et Zakaria Bendaoud à la basse. Le premier\, autodidacte de génie et le second\, de formation pianistique classique forment avec Khaled et Zak un quatuor bouleversant. \nLazhar Zennou : Chant\, Guitare\nRachid Belharbi : Piano\nKhaled Sifi : Cajun\nZakaria Bendaoud : Basse
URL:https://lemelville.fr/accueil/evenements/lazhar-zenou/
LOCATION:Le Melville\, 28 Rue Jean Mermoz\, Paris\, 75008\, France
CATEGORIES:Arabo-andalou
ATTACH;FMTTYPE=image/png:https://lemelville.fr/wp-content/uploads/2025/01/Lazhar-Zennou-Affiche-NF-1.png
END:VEVENT
BEGIN:VEVENT
DTSTART;TZID=Europe/Paris:20250314T210000
DTEND;TZID=Europe/Paris:20250314T233000
DTSTAMP:20260422T165040
CREATED:20250119T085609Z
LAST-MODIFIED:20250119T085609Z
UID:10000752-1741986000-1741995000@lemelville.fr
SUMMARY:SWING THAT !
DESCRIPTION:De la Nouvelle-Orléans aux comédies musicales\, Swing That revisite les classiques du jazz avec passion. Des mélodies qui vous feront taper du pied et reprendre en chœur\, le tout pour vous faire swinguer lors des bals-swing à Paris. \nDe la Nouvelle-Orléans aux comédies musicales en passant par les succès de Nat King Cole ou de Benny Goodman\, on a tous quelque part en tête ces jolies mélodies qui nous font claquer des doigts et nous racontent de belles histoires.  \nSWING THAT rend hommage à ce répertoire\, en distillant avec amour une sélection d’airs in french ou en anglais qui vous ferons fredonner certains passages à coup sûr…  \n… et pourquoi pas danser puisque Swing That a aussi pour vocation d’accompagner les bals-swing\, redevenus très en vogue à Paris.  \nGeorges Wolfaardt : contrebasse\nMatthieu Meyer : piano\nBilly Collins : guitare\nDavid Lesprit : clarinette\, sax s\, chant.
URL:https://lemelville.fr/accueil/evenements/swing-that-3/
LOCATION:Le Melville\, 28 Rue Jean Mermoz\, Paris\, 75008\, France
CATEGORIES:Swing
ATTACH;FMTTYPE=image/png:https://lemelville.fr/wp-content/uploads/2025/01/SWING-THAT-Meyer-Affiche-NF.png
END:VEVENT
BEGIN:VEVENT
DTSTART;TZID=Europe/Paris:20250315T210000
DTEND;TZID=Europe/Paris:20250315T233000
DTSTAMP:20260422T165040
CREATED:20250121T164659Z
LAST-MODIFIED:20250121T164659Z
UID:10000756-1742072400-1742081400@lemelville.fr
SUMMARY:Quiproquo
DESCRIPTION:Quiproquo\, groupe du conservatoire Nadia et Lili Boulanger\, insuffle toute sa vitalité dans la musique brésilienne entre samba et bossa. Avec Mona Faruel\, Naomi Guetta\, Elsa Lokoye et Titouan Vandenborght\, préparez-vous à vous laisser emporter par leurs rythmes endiablés au Mel \nEntre samba et bossa\, Quiproquo ne manque ni de bonne humeur ni de fantaisie. Issus de l’atelier de musique brésilienne du conservatoire Nadia et Lili Boulanger\, ces musiciens partagent le même enthousiasme pour cette musique ; celle qui secoue tout un peuple en le faisant chanter les mains levées au ciel : samba ! Quiproquo c’est surtout un jeune groupe débordant d’énergie qui ne demande qu’à jouer pour votre plaisir. Alors que vous aimiez chanter\, sourire ou danser\, le Brésil vous attend au Melville avec Quiproquo !  \nChant: Mona Faruel\nPiano: Naomi Guetta\nBasse: Elsa Lokoye\nBatterie: Titouan Vandenborght
URL:https://lemelville.fr/accueil/evenements/quiproquo-3/
LOCATION:Le Melville\, 28 Rue Jean Mermoz\, Paris\, 75008\, France
CATEGORIES:Latin Bossa-Nova
ATTACH;FMTTYPE=image/png:https://lemelville.fr/wp-content/uploads/2025/01/Quiproquo-Affiche-NF.png
END:VEVENT
BEGIN:VEVENT
DTSTART;TZID=Europe/Paris:20250318T203000
DTEND;TZID=Europe/Paris:20250318T230000
DTSTAMP:20260422T165040
CREATED:20250303T213201Z
LAST-MODIFIED:20250303T213201Z
UID:10000815-1742329800-1742338800@lemelville.fr
SUMMARY:Tom Peyron Trio
DESCRIPTION:Trois compères de la scène jazz parisienne s’unissent pour revisiter les classiques du Great American Songbook. Dans l’instant\, ils s’amusent à swinger et à improviser\, mêlant tradition et liberté. Avec Tom à la batterie\, Gustave à la guitare et Slim à la basse\, le trio promet des performances vibrantes \nCe groupe réunit trois musiciens et amis de longue date\, habitués de la scène jazz parisienne.\nIls interprètent des standards du great american songbook\, un répertoire autour duquel ils peuvent créer et interagir librement dans l’instant.\nSwing\, tradition et lâcher prise sont les maîtres-mots qui définissent ce trio. \nTom  Peyron  : batterie\nGustave  Reichert  : guitare\nGabriel Sauzay : basse
URL:https://lemelville.fr/accueil/evenements/tom-peyron-trio-4/
LOCATION:Le Melville\, 28 Rue Jean Mermoz\, Paris\, 75008\, France
CATEGORIES:Jazz Standard
ATTACH;FMTTYPE=image/png:https://lemelville.fr/wp-content/uploads/2025/03/Tom-Peyron-Trio-250318-Affiche-NF.png
END:VEVENT
BEGIN:VEVENT
DTSTART;TZID=Europe/Paris:20250319T203000
DTEND;TZID=Europe/Paris:20250319T233000
DTSTAMP:20260422T165040
CREATED:20250118T154042Z
LAST-MODIFIED:20250118T154042Z
UID:10000738-1742416200-1742427000@lemelville.fr
SUMMARY:Isabelle Seleskovitch Trio
DESCRIPTION:Isabelle Seleskovitch vous conduira dans l’âge d’or du jazz et des divas avec son trio. Sur scène\, sa voix suave se mêle au piano envoûtant de Laurent Marode et à la contrebasse envoûtante de Denis Dessallien. Un cocktail musical raffiné. \nLe trio d’Isabelle Seleskovitch avec Laurent Marode (piano) et Denis Dessallien (contrebasse) est le tout premier band que la chanteuse crée à ses débuts sur la scène parisienne. Il fait revivre l’esprit du jazz et de ses icônes\, à l’âge d’or des comédies musicales\, des divas et des clubs mythiques. Standards de l’American Songbook\, compositions originales mais aussi chanson française et italienne : la voix suave d’Isabelle se prête aux plus belles mélodies.\nUne soirée sous le signe de l’élégance et du swing !  \nIsabelle Seleskovitch : voix\nLaurent Marode : piano\nDenis Dessallien : contrebasse
URL:https://lemelville.fr/accueil/evenements/isabelle-seleskovitch-trio-2/
LOCATION:Le Melville\, 28 Rue Jean Mermoz\, Paris\, 75008\, France
CATEGORIES:Vocal Jazz
ATTACH;FMTTYPE=image/png:https://lemelville.fr/wp-content/uploads/2025/01/Isabelle-Seleskovitch-Trio-Affiche-NF.png
END:VEVENT
BEGIN:VEVENT
DTSTART;TZID=Europe/Paris:20250320T203000
DTEND;TZID=Europe/Paris:20250320T230000
DTSTAMP:20260422T165040
CREATED:20250126T124749Z
LAST-MODIFIED:20250126T124749Z
UID:10000771-1742502600-1742511600@lemelville.fr
SUMMARY:Ellen Birath et Matthieu Boré
DESCRIPTION:Plonge dans une soirée envoûtante de jazz revisité avec Matthieu Boré\, le ‘French Crooner’\, et Ellen Birath\, la chanteuse suédoise envoûtante. Un mélange de crooner classique et de voix captivante\, accompagnés par un talentueux groupe. Une expérience musicale à la fois intime \nMatthieu Boré et Ellen Birath nous entraînent dans une délicieuse soirée de standards\, voix contrebasse. Les crooner classique revisités par ce duo exceptionnel.  \nMatthieu Boré\, on l’appelle aussi le ‘French Crooner’ est chanteur\, pianiste et compositeur. Il démocratise le jazz\, le rendant à nouveau populaire\, abordable\, tout en demeurant de grande qualité et généreux. Mêlant les univers jazz\, rock\, blues\, il convoque les standards qu’il revisite avec une extrême sensibilité.  \nEllen Birath\, chanteuse de jazz suédoise\, enchante par sa voix envoûtante et sa présence captivante. Alliant swing\, blues et modernité\, elle explore des émotions universelles avec une touche nordique singulière. Sur scène\, son authenticité transporte le public dans un univers à la fois intime et vibrant.  \nMatthieu Boré : chant\nEllen Birath : chant\nStephen Binet : piano\nAnne Shrestha : contrebasse\nVincent Touchard : batterie
URL:https://lemelville.fr/accueil/evenements/ellen-birath-et-matthieu-bore-2/
LOCATION:Le Melville\, 28 Rue Jean Mermoz\, Paris\, 75008\, France
CATEGORIES:Jazz Standard
ATTACH;FMTTYPE=image/png:https://lemelville.fr/wp-content/uploads/2025/01/Helene-Birath-Matthieu-Bore-Affiche-NF-2.png
END:VEVENT
BEGIN:VEVENT
DTSTART;TZID=Europe/Paris:20250321T210000
DTEND;TZID=Europe/Paris:20250321T233000
DTSTAMP:20260422T165040
CREATED:20250217T172200Z
LAST-MODIFIED:20250217T172200Z
UID:10000789-1742590800-1742599800@lemelville.fr
SUMMARY:The Blakettes
DESCRIPTION:Plonge dans l’univers survolté du groupe de jazz The Art Blakey Women’s Band\, formé par 4 passionnées de Bebop et Hardbop. Les Blakettes revisient les classiques des années 50-60 avec fougue et talent\, rendant un vibrant hommage aux icônes du jazz.  \n“The Blakettes ” est un groupe de Jazz Bebop\, Hardbop\, crée par 4 femmes éperdument mordues pour ce jazz Américain né dans les années 50 et 60 sur la côte est des Etats-Unis d’Amérique. The Blakettes honorent les pères et mères fondateurs de cette musique tant énergique que romantique. Grace à la multitude de compositeurs\, arrangeurs et interprètes de cette époque\, The Blakettes piochent\, revisitent et cuisinent un répertoire riche et vivant. Elles invitent à faire un voyage au coeur du jazz 60’s en rendant hommage avec passion à ses créateurs : Art Blakey\, Wayne Shorter\, Charles Mingus\, Cedar Walton\, Pharoa Sanders\, Horace Silver et bien d’autres …  \nVirginie Daïde : sax ténor\nValérie Benzaquine : piano\nElisabeth Keledjia : drums\nMoïra Montier-Dauriac :contrebasse.
URL:https://lemelville.fr/accueil/evenements/the-blakettes/
LOCATION:Le Melville\, 28 Rue Jean Mermoz\, Paris\, 75008\, France
CATEGORIES:Jazz Standard
ATTACH;FMTTYPE=image/png:https://lemelville.fr/wp-content/uploads/2025/02/Blakettes-2-Affiche-NF-1.png
END:VEVENT
BEGIN:VEVENT
DTSTART;TZID=Europe/Paris:20250326T203000
DTEND;TZID=Europe/Paris:20250326T230000
DTSTAMP:20260422T165040
CREATED:20250210T105350Z
LAST-MODIFIED:20250210T105350Z
UID:10000777-1743021000-1743030000@lemelville.fr
SUMMARY:Nicholas Thomas Quartet
DESCRIPTION:Le Nicholas Thomas Quartet\, encensé par la critique pour l’album “Plays Hank Jones”\, promet un concert inoubliable au Melville. Avec Nicholas Thomas au vibraphone\, Hiroshi Murayama au piano\, Michel Rosciglione à la contrebasse et Mourad Benhammou à la batterie\, attendez-vous au meilleur ! \nAprès avoir été couronné par le Choc JazzMagazine et la Sélection du journal Le Monde avec son album “Plays Hank Jones” le Nicholas Thomas Quartet présentera sur la scène du Melville un répertoire constitué de compositions originales et de standards. \nNicholas Thomas : Vibraphone\nMourad Benhammou: Batterie\nHiroshi Murayama: Piano\nMichel Rosciglione: Contrebasse
URL:https://lemelville.fr/accueil/evenements/nicholas-thomas-quartet/
LOCATION:Le Melville\, 28 Rue Jean Mermoz\, Paris\, 75008\, France
CATEGORIES:Jazz Standard
ATTACH;FMTTYPE=image/png:https://lemelville.fr/wp-content/uploads/2025/02/Nicholas-Thomas-Affiche-NF.png
END:VEVENT
BEGIN:VEVENT
DTSTART;TZID=Europe/Paris:20250327T203000
DTEND;TZID=Europe/Paris:20250327T230000
DTSTAMP:20260422T165040
CREATED:20250118T171348Z
LAST-MODIFIED:20250118T171348Z
UID:10000746-1743107400-1743116400@lemelville.fr
SUMMARY:Irundi 4tet
DESCRIPTION:Un quartet brésilien enflammé\, fusionnant musique brésilienne et choro classique. Samba\, bossa nova\, baião – un cocktail exotique de sons joyeux et puissants. Avec Caio Marcio\, Matheus Donato\, Miguel Couto et Darcy Gomes\, la tradition populaire prend vie ! \nComposé par Caio Marcio Santos à la guitare\, Matheus Donato au Cavaquinho\, Miguel Couto à la batterie et Darcy Gomes à la basse\, notre quartet allie la richesse de la musique brésilienne à une solide formation du choro\, la musique classique du Brésil. Nous mêlons avec passion samba\, bossa nova\, baião et choro\, tout en restant profondément ancrés dans la tradition de la musique populaire\, très puissante et joyeuse. \nCaio Marcio : guitare\nMatheus Donato : cavaquinho\nMiguel Couto : batterie\nDarcy Gomes : basse
URL:https://lemelville.fr/accueil/evenements/irundi-4tet-2/
LOCATION:Le Melville\, 28 Rue Jean Mermoz\, Paris\, 75008\, France
CATEGORIES:World Latin Jazz
ATTACH;FMTTYPE=image/png:https://lemelville.fr/wp-content/uploads/2025/01/Irundi-4tet-Affiche-NF.png
END:VEVENT
BEGIN:VEVENT
DTSTART;TZID=Europe/Paris:20250328T210000
DTEND;TZID=Europe/Paris:20250328T233000
DTSTAMP:20260422T165040
CREATED:20250122T085556Z
LAST-MODIFIED:20250122T085556Z
UID:10000758-1743195600-1743204600@lemelville.fr
SUMMARY:WETTRE PROJECT
DESCRIPTION:L’étoile du saxo norvégien Peter Wettre débarque avec son quartet au Melville le 28 mars! Un voyage trépidant entre Broadway et le jazz afro-américain des 60s/70s\, avec Franck Amsallem\, Viktor Nyberg et Philippe Maniez. Une soirée jazz qui promet d’enflamer le Melville. \nC’est l’étoile du saxophone ténor de la scène jazz Norvégienne! Le 28 mars\, Le Melville accueille le saxophoniste Peter Wettre et son quartet parisien. Il sera constitué de Franck Amsallem\, pianiste et arrangeur dont la carrière a marqué les deux côtés de l’Atlantique; Viktor Nyberg\, bassiste suédois immanquable de la scène française et européenne depuis son arrivée à Paris en 2011; et Philippe Maniez\, batteur illustre et accompagnateur des plus grands noms du jazz français actuel. La musique de Petter Wettre et son quartet est une invitation au voyage\, où le grand répertoire de Broadway et des compositeurs du jazz (Monk\, Gerschwin\, Porter) fréquente la musique originale de Petter Wettre\, inspirée de la musique afro-américaine des années 60 et 70. \nPetter Wettre : sax\nFranck Amsallem : piano\nViktor Nyberg : bass\nPhillipe Maniez : drums
URL:https://lemelville.fr/accueil/evenements/wettre-project/
LOCATION:Le Melville\, 28 Rue Jean Mermoz\, Paris\, 75008\, France
CATEGORIES:Jazz Standard
ATTACH;FMTTYPE=image/png:https://lemelville.fr/wp-content/uploads/2025/01/Pette-Wettre-Affiche-NF-1.png
END:VEVENT
BEGIN:VEVENT
DTSTART;TZID=Europe/Paris:20250329T210000
DTEND;TZID=Europe/Paris:20250329T233000
DTSTAMP:20260422T165040
CREATED:20250126T120240Z
LAST-MODIFIED:20250126T120240Z
UID:10000768-1743282000-1743291000@lemelville.fr
SUMMARY:COCO CANELA
DESCRIPTION:Coco Canela\, c’est l’énergie cubaine à Paris! Trois musiciennes cubaines et deux françaises passionnées de musique cubaine se rassemblent pour partager leur culture. Teresa à la flûte\, Addys au chant\, Claire au piano\, Clara aux percussions et Monica à la basse vous embarquent dans un voyage musical ensoleillé. \nCoco Canela est la rencontre de trois musiciennes cubaines installées à Paris\, animées par l’envie de partager leur culture dans cette merveilleuse ville.   \nDeux hermanas françaises partageant cette passion commune pour la musique Cubaine rejoignent le projet.  \nTeresa Labrada :  Flûte traversière et chœurs\nAddys Lugo : Chant\nClaire Lamothe : Piano\nClara Noll : Percussions et chœurs\nMonica Lopez : Basse
URL:https://lemelville.fr/accueil/evenements/coco-canela/
LOCATION:Le Melville\, 28 Rue Jean Mermoz\, Paris\, 75008\, France
CATEGORIES:Latin Salsa
ATTACH;FMTTYPE=image/png:https://lemelville.fr/wp-content/uploads/2025/01/Coco-Canella-Affiche-NF-2.png
END:VEVENT
END:VCALENDAR