BEGIN:VCALENDAR
VERSION:2.0
PRODID:-//Le Melville - ECPv6.15.17//NONSGML v1.0//EN
CALSCALE:GREGORIAN
METHOD:PUBLISH
X-ORIGINAL-URL:https://lemelville.fr/accueil
X-WR-CALDESC:Évènements pour Le Melville
REFRESH-INTERVAL;VALUE=DURATION:PT1H
X-Robots-Tag:noindex
X-PUBLISHED-TTL:PT1H
BEGIN:VTIMEZONE
TZID:Europe/Paris
BEGIN:DAYLIGHT
TZOFFSETFROM:+0100
TZOFFSETTO:+0200
TZNAME:CEST
DTSTART:20240331T010000
END:DAYLIGHT
BEGIN:STANDARD
TZOFFSETFROM:+0200
TZOFFSETTO:+0100
TZNAME:CET
DTSTART:20241027T010000
END:STANDARD
BEGIN:DAYLIGHT
TZOFFSETFROM:+0100
TZOFFSETTO:+0200
TZNAME:CEST
DTSTART:20250330T010000
END:DAYLIGHT
BEGIN:STANDARD
TZOFFSETFROM:+0200
TZOFFSETTO:+0100
TZNAME:CET
DTSTART:20251026T010000
END:STANDARD
BEGIN:DAYLIGHT
TZOFFSETFROM:+0100
TZOFFSETTO:+0200
TZNAME:CEST
DTSTART:20260329T010000
END:DAYLIGHT
BEGIN:STANDARD
TZOFFSETFROM:+0200
TZOFFSETTO:+0100
TZNAME:CET
DTSTART:20261025T010000
END:STANDARD
END:VTIMEZONE
BEGIN:VEVENT
DTSTART;TZID=Europe/Paris:20250801T210000
DTEND;TZID=Europe/Paris:20250801T233000
DTSTAMP:20260422T094002
CREATED:20250602T182853Z
LAST-MODIFIED:20250602T182853Z
UID:10000912-1754082000-1754091000@lemelville.fr
SUMMARY:Montegu & Grey
DESCRIPTION:Gautier Montegu\, virtuose jazz formé à Paris\, et Angela Grey\, chanteuse soul de NY\, s’unissent pour revisiter le Great American Songbook. Entre ballades mélancoliques et swing envoûtant\, leur musique captivante touche l’âme et enchante les amateurs de jazz. \nGautier Montegu est un jeune virtuose formé à l’IMEP (Paris College of Music) et au Conservatoire de Paris qui développe un goût immodéré pour une musique ancrée dans la tradition du jazz.   \nAngela Grey est une chanteuse originaire de New-York qui s’est produite dans des clubs réputés de la ville comme The Bitter End\, Club Groove\, Clubroom at the Soho Grand Hotel et Birdland Jazz Club. \nFormée au chant classique dès son plus jeune âge\, elle a depuis découvert et affiné sa voix soul naturelle\, que l’on peut comparer à celles de Norah Jones\, Eartha Kitt\, ou Dinah Washington. \nRécemment\, Angela Grey a participé à des projets menés par de grands producteurs tels que Gabe Valle\, Tommy McCormick\, Joe Carrel ou encore le multi-récompensé aux Grammy Eduardo de la Paz. \nMaintenant basée à Paris\, elle se produit en trio ou en quartet dans les clubs de sa ville d’adoption. Le public peut y découvrir la tonalité soul de ses interprétations du Great American Songbook\, ainsi que des chansons pop qu’elle aime revisiter d’une touche de jazz. \nEntre ballades mélancoliques\, swing intime et Standards du Great American Song Book\, Gautier et Angela naviguent avec aisance et élégance !  \nGautier Montegu  : piano\nAngela Grey : chant
URL:https://lemelville.fr/accueil/evenements/montegu-grey/
LOCATION:Le Melville\, 28 Rue Jean Mermoz\, Paris\, 75008\, France
CATEGORIES:Jazz Standard
ATTACH;FMTTYPE=image/png:https://lemelville.fr/wp-content/uploads/2025/06/Montegu-Grey-Affiche-NF.png
END:VEVENT
BEGIN:VEVENT
DTSTART;TZID=Europe/Paris:20250802T210000
DTEND;TZID=Europe/Paris:20250802T233000
DTSTAMP:20260422T094002
CREATED:20250527T132512Z
LAST-MODIFIED:20250527T132512Z
UID:10000903-1754168400-1754177400@lemelville.fr
SUMMARY:Gautier Montegu Trio
DESCRIPTION:Le trio de Gautier Montegu\, formé au CMDL\, puise son inspiration chez les légendes du jazz comme Nat King Cole et Oscar Peterson\, tout en gardant une touche moderne avec Gerald Clayton et Bill Evans. Un hommage vibrant à l’évolution constante du jazz. \nGautier Montegu Trio \nTout droit sorti du CMDL (Centre de Musique Didier Lockwood)\, le trio mené par Gautier Montegu puise ses racines aussi bien chez les fondateurs du jazz que chez ceux qui l’ont fait évoluer au fil des décennies. De Nat King Cole à Gerald Clayton\, en passant par Oscar Peterson et Bill Evans\, il rend hommage à un jazz en mouvement perpétuel qui ne se fige jamais. \nGautier Montegu  : piano\nRayan Besançon  : contrebasse\nGuillaume Leguerinel : batterie
URL:https://lemelville.fr/accueil/evenements/gautier-montegu-trio-6/
LOCATION:Le Melville\, 28 Rue Jean Mermoz\, Paris\, 75008\, France
CATEGORIES:Jazz Standard
ATTACH;FMTTYPE=image/png:https://lemelville.fr/wp-content/uploads/2025/05/Gautier-Montegu-Trio-NF-2.png
END:VEVENT
BEGIN:VEVENT
DTSTART;TZID=Europe/Paris:20250805T203000
DTEND;TZID=Europe/Paris:20250805T230000
DTSTAMP:20260422T094002
CREATED:20250527T211656Z
LAST-MODIFIED:20250527T211656Z
UID:10000908-1754425800-1754434800@lemelville.fr
SUMMARY:Square Noon
DESCRIPTION:Trois amis talentueux\, Alexandre\, Axel et Arlo\, mettent le feu au Melville avec leur jazz envoûtant. Leur complicité est contagieuse\, transportant le public dans un tourbillon d’énergie et d’enthousiasme.  \nTrois amis\, Alexandre\, Axel et Arlo\, enflamment le Melville avec leur musique jazz. La complicité de ces musiciens\, amis de l’Imep\, est palpable. Ensemble ils transportent dans un univers vibrant et plein d’enthousisame. Alexandre au piano\, Axel à la batterie et Arlo à la basse\, un trio explosif à découvrir ! \nAlexandre Lombard-Buffet : piano\nAxel Allwright : batterie\nArlo Lardet : contrebasse
URL:https://lemelville.fr/accueil/evenements/square-noon-32/
LOCATION:Le Melville\, 28 Rue Jean Mermoz\, Paris\, 75008\, France
CATEGORIES:Jazz Standard
ATTACH;FMTTYPE=image/png:https://lemelville.fr/wp-content/uploads/2025/05/Square-Noon-Nouvelle-version-NF.png
END:VEVENT
BEGIN:VEVENT
DTSTART;TZID=Europe/Paris:20250806T203000
DTEND;TZID=Europe/Paris:20250806T230000
DTSTAMP:20260422T094002
CREATED:20250527T130332Z
LAST-MODIFIED:20250527T130332Z
UID:10000898-1754512200-1754521200@lemelville.fr
SUMMARY:Square Noon
DESCRIPTION:Trois compères\, Alexandre\, Axel et Arlo\, mettent le Melville en ébullition avec leur jazz enivrant. La fusion de ces virtuoses de l’Imep crée une ambiance survoltée. Laissez-vous emporter par Alexandre au piano\, Axel à la batterie et Arlo à la basse dans un tourbillon musical enivrant \nTrois amis\, Alexandre\, Axel et Arlo\, enflamment le Melville avec leur musique jazz. La complicité de ces musiciens\, amis de l’Imep\, est palpable. Ensemble ils transportent dans un univers vibrant et plein d’enthousisame. Alexandre au piano\, Axel à la batterie et Arlo à la basse\, un trio explosif à découvrir ! \nAlexandre Lombard-Buffet : piano\nAxel Allwright : batterie\nArlo Lardet : contrebasse
URL:https://lemelville.fr/accueil/evenements/square-noon-30/
LOCATION:Le Melville\, 28 Rue Jean Mermoz\, Paris\, 75008\, France
CATEGORIES:Jazz Standard
ATTACH;FMTTYPE=image/png:https://lemelville.fr/wp-content/uploads/2025/03/Square-Noon-Nouvelle-version-NF-2.png
END:VEVENT
BEGIN:VEVENT
DTSTART;TZID=Europe/Paris:20250807T203000
DTEND;TZID=Europe/Paris:20250807T230000
DTSTAMP:20260422T094002
CREATED:20250527T130401Z
LAST-MODIFIED:20250527T130401Z
UID:10000899-1754598600-1754607600@lemelville.fr
SUMMARY:Square Noon
DESCRIPTION:Trois compères\, Alexandre\, Axel et Arlo\, mettent le Melville en ébullition avec leur jazz enivrant. La fusion de ces virtuoses de l’Imep crée une ambiance survoltée. Laissez-vous emporter par Alexandre au piano\, Axel à la batterie et Arlo à la basse dans un tourbillon musical enivrant \nTrois amis\, Alexandre\, Axel et Arlo\, enflamment le Melville avec leur musique jazz. La complicité de ces musiciens\, amis de l’Imep\, est palpable. Ensemble ils transportent dans un univers vibrant et plein d’enthousisame. Alexandre au piano\, Axel à la batterie et Arlo à la basse\, un trio explosif à découvrir ! \nAlexandre Lombard-Buffet : piano\nAxel Allwright : batterie\nArlo Lardet : contrebasse
URL:https://lemelville.fr/accueil/evenements/square-noon-31/
LOCATION:Le Melville\, 28 Rue Jean Mermoz\, Paris\, 75008\, France
CATEGORIES:Jazz Standard
ATTACH;FMTTYPE=image/png:https://lemelville.fr/wp-content/uploads/2025/03/Square-Noon-Nouvelle-version-NF-2.png
END:VEVENT
BEGIN:VEVENT
DTSTART;TZID=Europe/Paris:20250808T210000
DTEND;TZID=Europe/Paris:20250808T233000
DTSTAMP:20260422T094002
CREATED:20250527T205550Z
LAST-MODIFIED:20250527T205550Z
UID:10000906-1754686800-1754695800@lemelville.fr
SUMMARY:Antoine Dessane Organ Trio
DESCRIPTION:L’orgue Hammond\, maestro du Jazz\, fusionne les styles musicaux et enflamme les scènes. Antoine Dessane et ses compères nous embarquent dans une escapade envoûtante à travers l’histoire de la musique afro-américaine. Un voyage temporel enivrant entre Jazz\, poésie et improvisation. 🎶 \nL’orgue tient une place unique dans le Jazz et créé des passerelles entre les genres : Gospel\, Pop\, Rock et Funk. \nC’est l’orgue Hammond qui s’imposera à l’église comme dans les clubs et les studios d’enregistrement\, apportant tout une gamme de jeux percussifs et de textures voluptueuses grâce à sa variété de timbre. \nA travers les standards de diverses époques\, la voix d’Antoine Dessane nous conte l’histoire de la musique afro-américaine et de son charme atemporel. \nAccompagné du talentueux Fady Farah à l’orgue et du fameux Lionnel Boccara à la batterie\, Antoine Dessane vous invite à voyager dans le temps avec le Jazz\, la poésie et l’improvisation. \nAntoine Dessane : chant\nFady  Farah : orgue\nLionel Boccara : batterie
URL:https://lemelville.fr/accueil/evenements/antoine-dessane-organ-trio/
LOCATION:Le Melville\, 28 Rue Jean Mermoz\, Paris\, 75008\, France
CATEGORIES:Jazz Standard
ATTACH;FMTTYPE=image/png:https://lemelville.fr/wp-content/uploads/2025/05/Dessane-Organ-Trio-Affiche-Nf-1.png
END:VEVENT
BEGIN:VEVENT
DTSTART;TZID=Europe/Paris:20250809T210000
DTEND;TZID=Europe/Paris:20250809T233000
DTSTAMP:20260422T094002
CREATED:20250527T211102Z
LAST-MODIFIED:20250527T211102Z
UID:10000907-1754773200-1754782200@lemelville.fr
SUMMARY:Antoine Dessane & Friends
DESCRIPTION:Venez vibrer au son du jazz vocal au Melville avec Antoine Dessane et son quartet envoûtant ! Accompagné par des virtuoses du piano\, de la contrebasse et de la batterie\, plongez dans l’univers des grands standards du Great American Songbook revisités avec passion et dynamisme.  \nLe Melville vous propose une soirée jazz vocale où les grands standards du Great American Songbook sont à l’honneur. \nAvec la célèbre formation chant\, piano\, contrebasse et batterie\, immortalisé notamment par Frank Sinatra et Sara Vaughan\, Antoine Dessane vous invite à venir apprécier le son unique du quartet avec voix. \nAccompagné par le talentueux Camille Prenant au piano\, Tom Guillois\, jeune prodige de la contrebasse et de l’unique David Paycha à la batterie\, pilier du fameux “Zoot Collectif”\, ensemble composé des meilleurs musiciens de jazz de la nouvelle génération\, d’un label et d’un studio d’enregistrement produisant les talents de la scène jazz parisienne actuelle. \nAu programme des standards teintés de poésie new yorkaise\, de Blues et de Swing ponctués par des ballades sentimentales et des solos endiablés. \nAntoine Dessane  : chant\nCamille Prenant  : piano\nTom Guillois : contrebasse\nDavid Paycha : batterie
URL:https://lemelville.fr/accueil/evenements/antoine-dessane-friends/
LOCATION:Le Melville\, 28 Rue Jean Mermoz\, Paris\, 75008\, France
CATEGORIES:Jazz Standard
ATTACH;FMTTYPE=image/png:https://lemelville.fr/wp-content/uploads/2025/05/Dessane-Friends-Affiche-NF.png
END:VEVENT
BEGIN:VEVENT
DTSTART;TZID=Europe/Paris:20250829T210000
DTEND;TZID=Europe/Paris:20250829T233000
DTSTAMP:20260422T094002
CREATED:20250527T213416Z
LAST-MODIFIED:20250527T213416Z
UID:10000909-1756501200-1756510200@lemelville.fr
SUMMARY:Duvigneau & Midon
DESCRIPTION:Thomas Duvigneau\, pianiste de jazz formé aux Pays-Bas\, enflamme les scènes parisiennes avec son style influencé par ses voyages autour du monde. De l’Amérique à l’Inde\, en passant par Israël\, il crée des ambiances uniques.  \nThomas Duvigneau vous propose une soirée piano jazz basée sur les grands standards de l’american songbook.\nDiplômé en 2005 du Conservatoire Royal de La Haye aux Pays-Bas\, il s’installe a Paris et se produit régulièrement dans les clubs de jazz les plus prestigieux.\nSa musique est influencée par ses nombreux voyages et rencontres\, aux USA\, en Europe\, Inde\, Népal où il enseigne au conservatoire de Kathmandu\, Serbie\, Thaïlande et en Israël avec le Batteur légendaire Billy Cobham.\nIl se produit aujourd’hui régulièrement à Paris avec notamment Lukmil Perez\, Gabriel Pierre\, Gabriel Midon\, Gilles Naturel\, Sara Miette\, Ilana Bens etc… \nThomas Duvigneau : piano\nGabriel Midon : contrebasse
URL:https://lemelville.fr/accueil/evenements/duvigneau-midon-6/
LOCATION:Le Melville\, 28 Rue Jean Mermoz\, Paris\, 75008\, France
CATEGORIES:Jazz Standard
ATTACH;FMTTYPE=image/png:https://lemelville.fr/wp-content/uploads/2025/05/Duvigneau-et-Midon-Affiche-NF.png
END:VEVENT
BEGIN:VEVENT
DTSTART;TZID=Europe/Paris:20250830T210000
DTEND;TZID=Europe/Paris:20250830T233000
DTSTAMP:20260422T094002
CREATED:20250527T214258Z
LAST-MODIFIED:20250527T214258Z
UID:10000910-1756587600-1756596600@lemelville.fr
SUMMARY:Delahaye & Vigne
DESCRIPTION:Rémi Delahaye et Samir Vigne forment un duo piano/saxo exceptionnel dans un voyage musical jazz plein de talent\, d’émotion et de swing. Un spectacle rare à ne pas manquer pour les amateurs de belles harmonies et de standards envoûtants. 🎹🎷🎶 \nLes duos de piano et de saxophone sont rares et celui-ci mérite vraiment le déplacement. Le pianiste Rémi Delahaye et le saxophoniste Samir Vigne proposent avec beaucoup de talent\, d’émotion et de swing un voyage musical autour de grands standards du jazz et de compositions. \nRémi Delahaye : piano\nSamir Vigne : sax
URL:https://lemelville.fr/accueil/evenements/delahaye-vigne/
LOCATION:Le Melville\, 28 Rue Jean Mermoz\, Paris\, 75008\, France
CATEGORIES:Jazz Standard
ATTACH;FMTTYPE=image/png:https://lemelville.fr/wp-content/uploads/2025/05/Delahaye-Vigne-Affiche-NF.png
END:VEVENT
END:VCALENDAR