BEGIN:VCALENDAR
VERSION:2.0
PRODID:-//Le Melville - ECPv6.15.17//NONSGML v1.0//EN
CALSCALE:GREGORIAN
METHOD:PUBLISH
X-WR-CALNAME:Le Melville
X-ORIGINAL-URL:https://lemelville.fr/accueil
X-WR-CALDESC:Évènements pour Le Melville
REFRESH-INTERVAL;VALUE=DURATION:PT1H
X-Robots-Tag:noindex
X-PUBLISHED-TTL:PT1H
BEGIN:VTIMEZONE
TZID:Europe/Paris
BEGIN:DAYLIGHT
TZOFFSETFROM:+0100
TZOFFSETTO:+0200
TZNAME:CEST
DTSTART:20240331T010000
END:DAYLIGHT
BEGIN:STANDARD
TZOFFSETFROM:+0200
TZOFFSETTO:+0100
TZNAME:CET
DTSTART:20241027T010000
END:STANDARD
BEGIN:DAYLIGHT
TZOFFSETFROM:+0100
TZOFFSETTO:+0200
TZNAME:CEST
DTSTART:20250330T010000
END:DAYLIGHT
BEGIN:STANDARD
TZOFFSETFROM:+0200
TZOFFSETTO:+0100
TZNAME:CET
DTSTART:20251026T010000
END:STANDARD
BEGIN:DAYLIGHT
TZOFFSETFROM:+0100
TZOFFSETTO:+0200
TZNAME:CEST
DTSTART:20260329T010000
END:DAYLIGHT
BEGIN:STANDARD
TZOFFSETFROM:+0200
TZOFFSETTO:+0100
TZNAME:CET
DTSTART:20261025T010000
END:STANDARD
END:VTIMEZONE
BEGIN:VEVENT
DTSTART;TZID=Europe/Paris:20250902T203000
DTEND;TZID=Europe/Paris:20250902T230000
DTSTAMP:20260422T081746
CREATED:20250701T083610Z
LAST-MODIFIED:20250701T083610Z
UID:10000932-1756845000-1756854000@lemelville.fr
SUMMARY:Montegu Solo
DESCRIPTION:Gautier Montegu\, virtuose formé à l’IMEP et au Conservatoire de Paris\, est un talent du jazz ! Entre ballades mélancoliques et swing envoûtant\, il séduit par son élégance et son amour pour le Great American Song Book. Une pépite à découvrir absolument ! 🎶✨ \nGautier Montegu est un jeune virtuose formé à l’IMEP (Paris College of Music) et au Conservatoire de Paris qui développe un goût immodéré pour une musique ancrée dans la tradition du jazz.   \nEntre ballades mélancoliques\, swing intime et Standards du Great American Song Book\, il navigue avec aisance et élégance !  \nGautier Montegu : Piano
URL:https://lemelville.fr/accueil/evenements/montegu-solo-2/
LOCATION:Le Melville\, 28 Rue Jean Mermoz\, Paris\, 75008\, France
CATEGORIES:Jazz Standard
ATTACH;FMTTYPE=image/png:https://lemelville.fr/wp-content/uploads/2025/07/Montegu-Solo-Affiche-NF.png
END:VEVENT
BEGIN:VEVENT
DTSTART;TZID=Europe/Paris:20250903T203000
DTEND;TZID=Europe/Paris:20250903T230000
DTSTAMP:20260422T081746
CREATED:20250714T105441Z
LAST-MODIFIED:20250714T105441Z
UID:10000948-1756931400-1756940400@lemelville.fr
SUMMARY:Melville Mode Swing
DESCRIPTION:Daniel John Martin\, virtuose du jazz\, fait revivre l’héritage de Django Reinhardt et Stéphane Grappelli. Au Melville\, il met en avant la jeune génération de musiciens passionnés par le jazz “manouche”. Une immersion captivante dans la French touch musicale\, alliant émotion et authenticité. \nDepuis de nombreuses années\, Daniel John\, Martin sillonne les scènes de jazz\, en France et à l’étranger\, en partageant des moments uniques avec des musiciens animés par la même passion : l’héritage vivant de Django Reinhardt et Stéphane Grappelli. Qu’ils soient guitaristes\, violonistes ou contrebassistes\, tous vibrent au son de cette musique acoustique si singulière\, forgée par le génie du célèbre duo parisien.\nC’est dans cet esprit de transmission et de passion qu’est née l’envie de proposer ces soirées dédiées à ce que l’on appelle aujourd’hui le jazz « manouche » ou « gypsy ». Daniel John Martin présente donc\, chaque premier mercredi du mois au Melville\, les talents d’une nouvelle génération\, brillamment engagée dans cette tradition musicale.\nUn moment de partage\, d’émotion et d’authenticité\, porté par cette « French touch » qui fait toute la magie du genre. \nDaniel John Martin : violon\nAdrien Tarraga : guitare\nJulien  Cattiaux : guitare
URL:https://lemelville.fr/accueil/evenements/melville-mode-swing/
LOCATION:Le Melville\, 28 Rue Jean Mermoz\, Paris\, 75008\, France
CATEGORIES:Manouche,Swing
ATTACH;FMTTYPE=image/png:https://lemelville.fr/wp-content/uploads/2025/07/DJM-Melville-Mode-Swing-250903-Affiche-NF.png
END:VEVENT
BEGIN:VEVENT
DTSTART;TZID=Europe/Paris:20250904T203000
DTEND;TZID=Europe/Paris:20250904T230000
DTSTAMP:20260422T081746
CREATED:20250924T074620Z
LAST-MODIFIED:20250924T074620Z
UID:10000915-1757017800-1757026800@lemelville.fr
SUMMARY:Alexis Valet invite Richard Sears
DESCRIPTION:Le vibraphoniste Alexis Valet s’associe au talentueux pianiste américain Richard Sears pour revisiter les standards du jazz. Un duo explosif à ne pas manquer ! \nLe Melville accueille le vibraphoniste Alexis Valet et son quartet d’exception ! Avec Malte Arndal à la batterie\, Yoni Zelnik à la contrebasse\, et Richard Sears en invité spécial au piano\, attendez-vous à un show époustouflant mêlant standards du Great American Songbook et compositions originales. \nAlexis Valet : vibraphone\nRichard Sears : piano\nYoni Zelnik : basse\nMalte Arndal : batterie
URL:https://lemelville.fr/accueil/evenements/alexis-valet-invite-richard-sears-2/
LOCATION:Le Melville\, 28 Rue Jean Mermoz\, Paris\, 75008\, France
CATEGORIES:Jazz Standard
END:VEVENT
BEGIN:VEVENT
DTSTART;TZID=Europe/Paris:20250905T210000
DTEND;TZID=Europe/Paris:20250905T230000
DTSTAMP:20260422T081746
CREATED:20250701T094102Z
LAST-MODIFIED:20250701T094318Z
UID:10000935-1757106000-1757113200@lemelville.fr
SUMMARY:Antoine Laudière quartet
DESCRIPTION:Arrangeur et fondateur du groupe de jazz vocal Shades créé en 2016\, Antoine Laudière est un guitariste aux multiples facettes.\n\n\n\n\n\n\n\n\n\n\n\nÉternel amoureux des chansons au travers des groupes qu’il crée\, c’est résolument un musicien dont la mélodie est au centre de sa musique\, qu’elle soit instrumentale ou chantée.Le Trio\, puis quartet formé récemment autour des compositions du guitariste résument à merveille l’essence mélodique de la musique d’Antoine Laudière. \nEntouré de trois musiciens de grands talents\, le premier album de ce nouveau quartet est un subtil mélange de toute la musique et des rencontres faites par Antoine au cours des dix dernières années. \nBien plus qu’un concert de jazz\, les quatre musiciens brisent les codes stylistiques de cette musique en la rendant même inclassable et unique : du jazz\, de la chanson (sans chanteur) ? \nUn grand moment de musique en perspective… \n\n\n\n\n\n\nAntoine Laudière : guitare\n\n\n\n\n\n\n\n\n\n\nGabriel Westphal : batterie\nArthur Henn : contrebasse\nIllyes Ferfera : sax
URL:https://lemelville.fr/accueil/evenements/antoine-laudiere-quartet/
LOCATION:Le Melville\, 28 Rue Jean Mermoz\, Paris\, 75008\, France
CATEGORIES:Jazz Standard
ATTACH;FMTTYPE=image/png:https://lemelville.fr/wp-content/uploads/2025/07/Antoine-Laudiere-4tet-Affiche-NF.png
END:VEVENT
BEGIN:VEVENT
DTSTART;TZID=Europe/Paris:20250906T210000
DTEND;TZID=Europe/Paris:20250906T233000
DTSTAMP:20260422T081746
CREATED:20250705T132516Z
LAST-MODIFIED:20250824T104718Z
UID:10000945-1757192400-1757201400@lemelville.fr
SUMMARY:Caravan Jazz
DESCRIPTION:Plongez dans une soirée jazz et bossa nova dynamique avec Eleonore Langellier et son quartet talentueux. Laisse-toi emporter par l’énergie communicative et les improvisations endiablées tout en échangeant avec les artistes. Un show Be-bop frénétique en perspective ! 🎶🎹🥁 \nUne soirée pleine de peps avec un répertoire de standards de Jazz et de Bossa nova brésilienne\, en quartet piano / basse / batterie / voix. Le tout en laissant une large place à l’improvisation et à l’échange avec le public ! Eleonore Langellier\, vocaliste Jazz à l’énergie communicative apportera une couleur Be-bop frénétique à la soirée. \nEléonore Langelier : chant\nFabricio Nicola-Garci : contrebasse\nDamien Argentieri : piano\nTom Peyron : batterie
URL:https://lemelville.fr/accueil/evenements/caravan-jazz-10/
LOCATION:Le Melville\, 28 Rue Jean Mermoz\, Paris\, 75008\, France
CATEGORIES:Vocal Jazz
ATTACH;FMTTYPE=image/png:https://lemelville.fr/wp-content/uploads/2025/07/Caravan-Jazz-EL-Affiche-NF.png
END:VEVENT
BEGIN:VEVENT
DTSTART;TZID=Europe/Paris:20250909T203000
DTEND;TZID=Europe/Paris:20250909T230000
DTSTAMP:20260422T081746
CREATED:20250701T112942Z
LAST-MODIFIED:20250701T112942Z
UID:10000941-1757449800-1757458800@lemelville.fr
SUMMARY:Ode Trio
DESCRIPTION:Fondé par Ohane Dourian en 2017\, Ode Trio\, avec Gabriel et Paul\, séduit par sa musique jazz envoûtante. Ensemble\, ces trois artistes talentueux issus du Conservatoire de Boulogne-Billancourt\, offrent un répertoire enflammé de mélodies populaires françaises et internationales. \nOde trio c’est l’histoire de trois musiciens poètes.\nOhane\, Gabriel et Paul se sont rencontrés au Conservatoire de Boulogne-Billancourt en 2015. Vainqueurs du concours international Léopold Bellan en 2017 \, ils ont depuis développé leur art du trio à travers un répertoire de musiques populaires françaises et internationales.\nUne symbiose musicale lyrique et entraînante qui sonde les cœurs et suscite des émotions.\nLeur répertoire se base sur des chansons françaises célèbres jouées dans un style 100% jazz. Préparez-vous à entendre les musiques de Piaf\, Brassens\, Aznavour\, Brel\, ou encore Stromae ou Alicia Keys\, comme vous ne les avez jamais entendues. \nGabriel Ferrari : batterie\nPaul Herry-Pasmanian : contrebasse\nOhane Dourian : piano
URL:https://lemelville.fr/accueil/evenements/ode-trio/
LOCATION:Le Melville\, 28 Rue Jean Mermoz\, Paris\, 75008\, France
CATEGORIES:Jazz Standard
ATTACH;FMTTYPE=image/png:https://lemelville.fr/wp-content/uploads/2025/07/Ode-Trio-Affiche-NF-1.png
END:VEVENT
BEGIN:VEVENT
DTSTART;TZID=Europe/Paris:20250910T203000
DTEND;TZID=Europe/Paris:20250910T230000
DTSTAMP:20260422T081746
CREATED:20250331T122918Z
LAST-MODIFIED:20250824T103131Z
UID:10000849-1757536200-1757545200@lemelville.fr
SUMMARY:Pamina Beroff
DESCRIPTION:La chanteuse Pamina Beroff\, le pianiste Daniel Gassin et le contrebassiste Joachim Govin se retrouvent autour d’un répertoire qui leur est cher. \nLe trio explorera les grands standards du Great American Songbook\, ces mélodies intemporelles qui ont façonné l’histoire du jazz. \nLe programme s’ouvre également à des chansons plus récentes\, signées notamment Billy Joel et Carole King\, où se mêlent modernité et héritage. \nUne soirée intime\, où la voix\, le piano et la contrebasse dialoguent avec finesse et émotion. \nPamina Beroff : chant \nDaniel Yassin : piano \nJoachim Govin : contrebasse
URL:https://lemelville.fr/accueil/evenements/galina-shcherbakova/
LOCATION:Le Melville\, 28 Rue Jean Mermoz\, Paris\, 75008\, France
CATEGORIES:Vocal Jazz
ATTACH;FMTTYPE=image/png:https://lemelville.fr/wp-content/uploads/2025/03/Pamina-Beroff-250910-Affiche-NF.png
END:VEVENT
BEGIN:VEVENT
DTSTART;TZID=Europe/Paris:20250911T203000
DTEND;TZID=Europe/Paris:20250911T230000
DTSTAMP:20260422T081746
CREATED:20250901T134131Z
LAST-MODIFIED:20250901T134131Z
UID:10000961-1757622600-1757631600@lemelville.fr
SUMMARY:Remi Toulon Trio
DESCRIPTION:Rémi Toulon\, pianiste et compositeur jazz éclectique\, enchaîne les albums et collaborations musicales avec passion. Salué par la critique pour sa créativité et son sens du swing\, il explore les liens entre jazz\, musique brésilienne et caribéenne. Sa musique généreuse et envoûtante touche au plus profond. \nRémi Toulon s’est frotté au Jazz sous toutes ses formes\, son insatiable appétit musical l’a amené à participer à plus d’une vingtaine d’albums et à multiplier les rencontres en tant que pianiste\, compositeur ou arrangeur. \nC’est en 2011 qu’il enregistre l’album NOVEMBRE et remporte avec son trio le 1er prix du trophée International d’orchestres organisé par le festival Jazz à Montauban. Le trio devient vite habitué des clubs et festivals\, en tant que groupe defendant sa propre musique ou en tant que rythmique au service de divers solistes ou chanteurs.\nL’album QUIETLY (2014)\, sélectionné par FIP et France Musique\, est salué dès sa sortie comme « Révélation » par Jazzman/Jazz magazine.\nAvec cette même rythmique\, plus soudée que jamais\, Rémi Toulon signe ADAGIORINHO (2017) et THE CRAVE (2022) qui explorent en quintet la frontière ténue entre le Jazz et ses musiques cousines du brésil et des Caraïbes. \nDistillant une musique généreuse avec un plaisir de jouer évident\, Rémi Toulon défend une musique à la fois personnelle et ancrée dans la grande tradition du Jazz.  \n« Rémi Toulon\, musicien français éclectique et surdoué »\nFrance Musique  \n“Impossible de rester impassible devant un tel sens du swing\, devant une joie de jouer aussi débordante! »\nTSF JAZZ \n“Ils ont une façon\, par leurs arrangements\, de réinventer l’art du trio jazz à chaque morceau\, qui est tout à fait réjouissante. »\nJazzman/Jazzmag  \nRémi Toulon : piano\nYoni Zelnik : contrebasse\nDonald Kontomanou : batterie
URL:https://lemelville.fr/accueil/evenements/remi-toulon-trio-5/
LOCATION:Le Melville\, 28 Rue Jean Mermoz\, Paris\, 75008\, France
CATEGORIES:Jazz Standard
ATTACH;FMTTYPE=image/png:https://lemelville.fr/wp-content/uploads/2025/09/Remi-Toulon-Trio-Affiche-NF.png
END:VEVENT
BEGIN:VEVENT
DTSTART;TZID=Europe/Paris:20250912T210000
DTEND;TZID=Europe/Paris:20250912T233000
DTSTAMP:20260422T081746
CREATED:20250701T102937Z
LAST-MODIFIED:20250701T102937Z
UID:10000938-1757710800-1757719800@lemelville.fr
SUMMARY:Victor Demange
DESCRIPTION:Le pianiste Victor Demange\, accompagné de ses talentueux compères\, offre un cocktail musical pétillant mêlant swing\, boogie et blues. De la Nouvelle Orléans à Chuck Berry\, il revisite avec brio standards et classiques dans un pur style jazz américain. Une expérience envoûtante à ne pas manquer ! \nVictor Demange est un pianiste virtuose au style original qui a su se faire une place sur la scène française. Régulièrement invité dans les festivals\, il compte plusieurs collaborations prestigieuses comme notamment Bob Baldori\, le pianiste qui a accompagné Chuck Berry pendant plus de 40 ans ou encore Fabrice Eulry\, pianiste français spécialiste du piano stride.\nAccompagné de ses deux musiciens de marque\, Mat Le Rouge au saxophone et Erik Maunoury à la batterie\, il propose un style swing\, boogie\, blues inspiré du vieux jazz de la Nouvelle Orléans. Il vous étonnera avec un répertoire varié allant de standards à des réarrangements de musique classique toujours dans un style de vieux jazz américain.  \nVictor Demange : piano\nMathias  Luszpinski (Le Rouge) : sax\nErik Maunoury : batterie
URL:https://lemelville.fr/accueil/evenements/victor-demange-9/
LOCATION:Le Melville\, 28 Rue Jean Mermoz\, Paris\, 75008\, France
CATEGORIES:Boogie,Jazz Standard
ATTACH;FMTTYPE=image/png:https://lemelville.fr/wp-content/uploads/2025/07/Victor-Demange-Maunoury-Affiche-NF.png
END:VEVENT
BEGIN:VEVENT
DTSTART;TZID=Europe/Paris:20250913T210000
DTEND;TZID=Europe/Paris:20250913T233000
DTSTAMP:20260422T081746
CREATED:20250701T103829Z
LAST-MODIFIED:20250824T105001Z
UID:10000939-1757797200-1757806200@lemelville.fr
SUMMARY:MANIGUA
DESCRIPTION:Six passionnés de salsa\, ayant arpenté les pavés parisiens\, s’unissent à Porto Rico pour enflammer les rythmes latinos au son du rhum. Fusion de talents et d’expériences\, leur musique festive et envoûtante mêle salsa\, folklore colombien et latin jazz. Avec Manigua\, ils partagent leur amour de la Salsa. \nCe sextet à l’énergie débordante nous emmènera\, cette fois\, vers Porto Rico dans les parfums du rhum et les rythmes fous. \nLes chemins de ces musiciens se croisent après avoir participé activement au mouvement salsa à Paris. Cette passion pour la salsa les a amenés à partager et fusionner leurs pratiques musicales. La diversité de leurs origines\, de leurs formations et de leurs expériences fait de cette union musicale une expérience enrichissante où la salsa et le folklore colombien avec des touches de latin jazz\, sont les protagonistes. Dans cette occasion\, réunis avec Manigua ils transmettent la passion pour ce genre musical au public du Melville et continuent à maintenir la culture salsa vivante et actuelle. \nJulián Jimenez Ossa : piano\nGuillermo Rojas : percussions\nNestor Alberto Sanz Diaz : percussions\nHolmann Reyes : trombonne\nMartin Fuenmayor : chant\nMiguel Angel Munar Molina : trompette\nEmmanuel Paillardon : contrebasse
URL:https://lemelville.fr/accueil/evenements/manigua-8/
LOCATION:Le Melville\, 28 Rue Jean Mermoz\, Paris\, 75008\, France
CATEGORIES:Latin Jazz,Latin Salsa
ATTACH;FMTTYPE=image/png:https://lemelville.fr/wp-content/uploads/2025/02/Manigua-Affiche-Nf.png
END:VEVENT
BEGIN:VEVENT
DTSTART;TZID=Europe/Paris:20250917T203000
DTEND;TZID=Europe/Paris:20250917T230000
DTSTAMP:20260422T081746
CREATED:20250624T151755Z
LAST-MODIFIED:20250824T105230Z
UID:10000922-1758141000-1758150000@lemelville.fr
SUMMARY:Anastasia 4tet
DESCRIPTION:Anastasia guide le quartet dans un voyage enivrant à travers le jazz vocal et les classiques du Great American Songbook. Des influences de Fitzgerald à Sinatra se mêlent dans des arrangements modernes\, révélant créativité et passion pour l’orchestration. Une immersion captivante dans l’univers musical intemporel. \nGuidé par la voix chaude et profonde d’Anastasia\, le quartet puise son inspiration\, son énergie et son intimité dans la tradition du jazz vocal et les textes envoutants du Great American Songbook. Avec des influences allant de Ella Fitzgerald à Samara Joy\, en passant par Chet Baker\, Sarah Vaughan ou Franck Sinatra\, les musiciens du quartet présentent des arrangements modernes de standards dans lesquels on reconnaît leur créativité et leur amour de l’orchestration. \nGautier Montegu : piano\nGuillaume Leguerinel : batterie\nRayan Besançon : basse\nAnastasia Konstandinidou : chant
URL:https://lemelville.fr/accueil/evenements/anastasia-4tet/
LOCATION:Melville-hors-les-murs Bagatelle\, 42 route de Sèvre à Neully\, Paris\, 75116
CATEGORIES:Jazz,Soul
ATTACH;FMTTYPE=image/png:https://lemelville.fr/wp-content/uploads/2025/06/Anastasia-4tet-Affiche-NF.png
END:VEVENT
BEGIN:VEVENT
DTSTART;TZID=Europe/Paris:20250918T203000
DTEND;TZID=Europe/Paris:20250918T230000
DTSTAMP:20260422T081746
CREATED:20250426T114314Z
LAST-MODIFIED:20250426T114314Z
UID:10000875-1758227400-1758236400@lemelville.fr
SUMMARY:Novu Ponte
DESCRIPTION:La musique envoûtante de Novu Ponte mêle traditions méditerranéennes\, jazz et classique. Guitare\, chant et violoncelle tissent des tableaux vivants de douceur et mélancolie\, portés par une rythmique chaleureuse. Un voyage musical éblouissant\, entre montagnes et méditerranée. \nMélodique et tendre\, toujours chantante\,  la musique de Novu Ponte se nourrit des traditions Méditerranéennes. Elle tisse un pont entre écriture classique et improvisation jazz.\nLa guitare acoustique\, le chant\, dialoguent avec le violoncelle\, créant des tableaux vivants de douceur ou de mélancolie\, portés par une rythmique aux accents du Sud .\nLe groupe joue un répertoire de compositions originales\, émaillé de quelques adaptations allant de Bizet à Duke Ellington. Novu Ponte vous transporte en altitude\, sur un chemin de montagne\, qui serpente et avance entre ruisseaux et cascades.\n « Ce sont des tableaux vivants – danses joyeuse ou promenades solitaires – rythmés par les musiques du sud\, latino américaines ou africaines\, imprégnés des traditions d’ici ou là-bas\, de soleil et d’orages\, de douceur\, de mélancolie. » \nHervé Morisot : guitare\, chant\nHacen Djeghbal : basse\nThomas Ostrowiecki : batterie
URL:https://lemelville.fr/accueil/evenements/novu-ponte/
LOCATION:Le Melville\, 28 Rue Jean Mermoz\, Paris\, 75008\, France
CATEGORIES:Corse,World
ATTACH;FMTTYPE=image/png:https://lemelville.fr/wp-content/uploads/2025/04/Novu-Ponte-Affiche-NF.png
END:VEVENT
BEGIN:VEVENT
DTSTART;TZID=Europe/Paris:20250919T210000
DTEND;TZID=Europe/Paris:20250919T233000
DTSTAMP:20260422T081746
CREATED:20250714T115619Z
LAST-MODIFIED:20250714T115619Z
UID:10000949-1758315600-1758324600@lemelville.fr
SUMMARY:Nicola Sòn\, French Bossanoveur
DESCRIPTION:Les chansons brésiliennes en français depuis les années 1960… \nPlongez dans l’univers unique de Nicola Són\, surnommé par la presse brésilienne il y a quelques années « le plus brésilien des chanteurs français ». À travers ce projet live\, les grands classiques de la musique brésilienne\, et notamment la bossa nova\, sont réinterprétés en français avec élégance et sensibilité. Des années 60 à aujourd’hui\, ce voyage musical célèbre la rencontre des cultures\, mêlant poésie française et rythmes solaires brésiliens\, pour une expérience à la fois intime et envoûtante. \nMiguel Brigido Brandao Couto : batterie\nDaniel Gassin : piano\nDouglas Marcolino : accordéon\nNicola Son : chant\, guitare
URL:https://lemelville.fr/accueil/evenements/nicola-son-french-bossanoveur/
LOCATION:Le Melville\, 28 Rue Jean Mermoz\, Paris\, 75008\, France
CATEGORIES:Latin Bossa Nova,Latin Jazz
ATTACH;FMTTYPE=image/png:https://lemelville.fr/wp-content/uploads/2025/07/Nicola-Son-Affiche-NF.png
END:VEVENT
BEGIN:VEVENT
DTSTART;TZID=Europe/Paris:20250920T210000
DTEND;TZID=Europe/Paris:20250920T233000
DTSTAMP:20260422T081746
CREATED:20250919T162021Z
LAST-MODIFIED:20250919T162021Z
UID:10000978-1758402000-1758411000@lemelville.fr
SUMMARY:El Quinteto de Eli
DESCRIPTION:Elisa\, chanteuse latino\, et Laurent\, compositeur vénézuélien\, fusionnent talents et influences caribéennes pour créer un univers musical unique\, vibrant entre danse et contemplation. Ce soir\, accompagnés de leurs experts rythmiques\, ils emmènent le public dans un voyage envoûtant\, ponctué par la tromp \nElisa Lecuyer\, merveilleuse chanteuse latino américaine et  Laurent Lécuyer\, compositeur pianiste ayant exercé la majeure partie de sa carrière au Venezuela\, accompagné d’une rythmique de référence (Thérèse Henry et Guillermo Rojas) spécialiste des musiques caribéennes et brésiliennes\, développe de nouvelles compositions et arrangements formant un univers singulier empreint de mondes divers\, pont atlantique\, mêlant la danse à une discours musical plein de rebondissements\, dramatique et contemplatif. Miguel Munar les accompagnera ce soir à la trompette \nLaurent Lecuyer : piano\nGuillermo  Rojas : batterie\nMiguel Munar : trompette\nThérèse  Henry : basse\nElisa Lecuyer : chant
URL:https://lemelville.fr/accueil/evenements/el-quinteto-de-eli/
LOCATION:Le Melville\, 28 Rue Jean Mermoz\, Paris\, 75008\, France
CATEGORIES:Latin Bossa Nova,Latin Jazz
END:VEVENT
BEGIN:VEVENT
DTSTART;TZID=Europe/Paris:20250923T203000
DTEND;TZID=Europe/Paris:20250923T230000
DTSTAMP:20260422T081746
CREATED:20250714T124856Z
LAST-MODIFIED:20250824T105316Z
UID:10000954-1758659400-1758668400@lemelville.fr
SUMMARY:Lombard-Buffet Solo
DESCRIPTION:Alexandre Lombard-Buffet\, jeune prodige formé à l’IMEP et au Conservatoire de Paris\, revisite avec passion le jazz classique. De ballades mélancoliques en standards du Great American Song Book\, son piano allie avec finesse swing et élégance. \nAlexandre Lombard-Buffet est un jeune virtuose formé à l’IMEP (Paris College of Music) et au Conservatoire de Paris qui développe un goût immodéré pour une musique ancrée dans la tradition du jazz. \nEntre ballades mélancoliques\, swing intime et Standards du Great American Song Book\, il navigue avec aisance et élégance ! \nAlexandre Lombard-Buffet : piano
URL:https://lemelville.fr/accueil/evenements/lombard-buffet-solo-4/
LOCATION:Le Melville\, 28 Rue Jean Mermoz\, Paris\, 75008\, France
CATEGORIES:Jazz Standard
ATTACH;FMTTYPE=image/png:https://lemelville.fr/wp-content/uploads/2025/06/lombard-buffet-solo-affiche.png
END:VEVENT
BEGIN:VEVENT
DTSTART;TZID=Europe/Paris:20250924T203000
DTEND;TZID=Europe/Paris:20250924T230000
DTSTAMP:20260422T081746
CREATED:20250903T202950Z
LAST-MODIFIED:20250903T202950Z
UID:10000965-1758745800-1758754800@lemelville.fr
SUMMARY:Beatles Jazz Mania
DESCRIPTION:En 1990\, Michel Petrucciani déniche Serge Forté au piano pour un fabuleux duo enregistré. Depuis\, Serge enflamme les festivals avec son talent. Accompagné de Fabien Meissonier à la batterie et Marc-Michel Le Bevillon à la contrebasse\, il revisite les Beatles version Jazz ce soir. \nSerge Forté (piano) a été découvert par Michel Petrucciani en 1990 qui lui proposa d’enregistrer un duo de pianos pour aider au lancement de son premier disque… Il a depuis parcouru toutes les grandes scènes des festivals…\nIl sera accompagné ce soir par 2 stars du Jazz parisien\, Fabien Meissonier à la batterie et Marc-Michel Le Bevillon à la contrebasse et nous emmène dans l’univers des Beatles…\nUne soirée unique où vous pourrez réentendre tous les grands tubes\, de Let it be à Lady Madonna en passant par Hey Jude (et plein d’autres…) via le prisme du Jazz ! \nSerge Forté : piano\nFabien Meissonier : batterie\nMarc-Michel Le Bevillon : contrebasse
URL:https://lemelville.fr/accueil/evenements/beatles-jazz-mania/
LOCATION:Le Melville\, 28 Rue Jean Mermoz\, Paris\, 75008\, France
CATEGORIES:Jazz Standard
ATTACH;FMTTYPE=image/png:https://lemelville.fr/wp-content/uploads/2025/09/Beatles-Jazz-Mania-Affiche-NF-1.png
END:VEVENT
BEGIN:VEVENT
DTSTART;TZID=Europe/Paris:20250925T203000
DTEND;TZID=Europe/Paris:20250925T230000
DTSTAMP:20260422T081746
CREATED:20250714T123854Z
LAST-MODIFIED:20250714T123854Z
UID:10000952-1758832200-1758841200@lemelville.fr
SUMMARY:Joan Minor Quartet
DESCRIPTION:Joan Minor\, star américaine du jazz à Paris\, s’entoure de 3 as de la musique française. Depuis plus de 10 ans\, ce quartet enflamme les scènes d’Europe\, d’Afrique et même de New York avec une fusion unique de jazz\, soul et blues. Joan captive son public avec sa voix authentique et puissante. \nJoan Minor\, américaine vivant à Paris\, est accompagné de 3 musiciens français – Christian Duperray à la basse électrique et contrebasse\, Étienne Brachet à la batterie et Michael Dravigny aux claviers  –   et depuis plus 10 ans\, ce quartet de jazz/ soul/blues joue régulièrement en France\, ainsi qu’aux Etats Unis et en Afrique.   \nLe Joan Minor Quartet conjugue le style américain de Joan avec le talent d’un groupe de français. Grâce à un répertoire aux multiples facettes\, ils ont suscité l’enthousiasme de leur public en Europe comme en Afrique\, mais aussi à New York ! \nBasée à Paris\, Joan\, c’est l’authenticité du jazz américain mélangée à la French Touch de ses 3 musiciens français\, un son pur\, une musique « #nofilter » et une communion chaleureuse entre une artiste et son public. Elle se produit régulièrement dans sa deuxième maison – Las Vegas\, et tourne régulièrement pour le Département d’État américain en Afrique. \nJoan interprète toute la gamme du jazz\, de la soul et du blues\, dans son style énergétique et émotionnel inimitable : un son brut et non filtré unique. \nJoan Minor : chant\nChristian Duperray : contrebasse\nEtienne  Brachet  : batterie\nMichael Dravigny : piano
URL:https://lemelville.fr/accueil/evenements/joan-minor-quartet-2/
LOCATION:Le Melville\, 28 Rue Jean Mermoz\, Paris\, 75008\, France
CATEGORIES:Vocal Jazz
ATTACH;FMTTYPE=image/png:https://lemelville.fr/wp-content/uploads/2025/07/Joan-Minor-Quartet-Affiche-241122.png
END:VEVENT
BEGIN:VEVENT
DTSTART;TZID=Europe/Paris:20250926T210000
DTEND;TZID=Europe/Paris:20250926T233000
DTSTAMP:20260422T081746
CREATED:20250714T124305Z
LAST-MODIFIED:20250714T124305Z
UID:10000953-1758920400-1758929400@lemelville.fr
SUMMARY:Square Noon
DESCRIPTION:Trois amis passionnés de jazz\, Alexandre\, Axel et Arlo\, enflamment le Melville avec leur complicité musicale palpable. Ce trio explosif de l’Imep te transporte dans un univers vibrant et plein d’enthousiasme. Prenez place pour un voyage musical enivrant avec Alexandre au piano\, Axel à la batterie et Arlo à la contrebasse. \nTrois amis\, Alexandre\, Axel et Arlo\, enflamment le Melville avec leur musique jazz. La complicité de ces musiciens\, amis de l’Imep\, est palpable. Ensemble ils transportent dans un univers vibrant et plein d’enthousisame. Alexandre au piano\, Axel à la batterie et Arlo à la basse\, un trio explosif à découvrir ! \nAlexandre Lombard-Buffet : piano\nAxel Allwright : batterie\nArlo Lardé : contrebasse
URL:https://lemelville.fr/accueil/evenements/square-noon-29/
LOCATION:Le Melville\, 28 Rue Jean Mermoz\, Paris\, 75008\, France
CATEGORIES:Jazz Standard
ATTACH;FMTTYPE=image/png:https://lemelville.fr/wp-content/uploads/2025/07/Square-Noon-250625-Affiche-NF.png
END:VEVENT
BEGIN:VEVENT
DTSTART;TZID=Europe/Paris:20250927T210000
DTEND;TZID=Europe/Paris:20250927T233000
DTSTAMP:20260422T081746
CREATED:20250703T204127Z
LAST-MODIFIED:20250703T204127Z
UID:10000944-1759006800-1759015800@lemelville.fr
SUMMARY:Paris Latino
DESCRIPTION:Ce jeudi\, le Melville se transforme en fiesta latina avec le Quatuor Paris Latino ! Au programme : salsa enflammée et rythmes cubains. José\, Guillermo\, Manuel et Nicolas vont enflammer la scène et faire danser tous les amoureux de musique caliente. Ambiance assurée ! 🎶🔥 \nSalsa caliente avec le Quatuor Paris Latino dans l’écrin du Melville ! Ce jeudi\, le restaurant gastronomique club de Jazz se fait latino pour une soirée festive au son de salsa et de rythmes cubain. Le Quaturo Paris Latino\, avec José Palomo (chant et Guitare)\, Guillermo Benavides (chant et contrebass)\, Manuel Anoyvega (chant et Piano) et Nicolas Anoyvega (Saxo) viennet faire vibrer les bois et velour du Melville. Ca va swinguer ! \nJose Palomo : percussions\, chant\nGuillermo Benavides : contrebasse\, chant\nManuel Anoyvega : piano\, chant\nNicolas Anoyvega : sax
URL:https://lemelville.fr/accueil/evenements/paris-latino-13/
LOCATION:Le Melville\, 28 Rue Jean Mermoz\, Paris\, 75008\, France
CATEGORIES:Latin Salsa
ATTACH;FMTTYPE=image/png:https://lemelville.fr/wp-content/uploads/2025/07/Paris-Latino-Affiche-Nf.png
END:VEVENT
END:VCALENDAR