BEGIN:VCALENDAR
VERSION:2.0
PRODID:-//Le Melville - ECPv6.15.17//NONSGML v1.0//EN
CALSCALE:GREGORIAN
METHOD:PUBLISH
X-WR-CALNAME:Le Melville
X-ORIGINAL-URL:https://lemelville.fr/accueil
X-WR-CALDESC:Évènements pour Le Melville
REFRESH-INTERVAL;VALUE=DURATION:PT1H
X-Robots-Tag:noindex
X-PUBLISHED-TTL:PT1H
BEGIN:VTIMEZONE
TZID:Europe/Paris
BEGIN:DAYLIGHT
TZOFFSETFROM:+0100
TZOFFSETTO:+0200
TZNAME:CEST
DTSTART:20240331T010000
END:DAYLIGHT
BEGIN:STANDARD
TZOFFSETFROM:+0200
TZOFFSETTO:+0100
TZNAME:CET
DTSTART:20241027T010000
END:STANDARD
BEGIN:DAYLIGHT
TZOFFSETFROM:+0100
TZOFFSETTO:+0200
TZNAME:CEST
DTSTART:20250330T010000
END:DAYLIGHT
BEGIN:STANDARD
TZOFFSETFROM:+0200
TZOFFSETTO:+0100
TZNAME:CET
DTSTART:20251026T010000
END:STANDARD
BEGIN:DAYLIGHT
TZOFFSETFROM:+0100
TZOFFSETTO:+0200
TZNAME:CEST
DTSTART:20260329T010000
END:DAYLIGHT
BEGIN:STANDARD
TZOFFSETFROM:+0200
TZOFFSETTO:+0100
TZNAME:CET
DTSTART:20261025T010000
END:STANDARD
BEGIN:DAYLIGHT
TZOFFSETFROM:+0100
TZOFFSETTO:+0200
TZNAME:CEST
DTSTART:20270328T010000
END:DAYLIGHT
BEGIN:STANDARD
TZOFFSETFROM:+0200
TZOFFSETTO:+0100
TZNAME:CET
DTSTART:20271031T010000
END:STANDARD
END:VTIMEZONE
BEGIN:VEVENT
DTSTART;TZID=Europe/Paris:20251202T203000
DTEND;TZID=Europe/Paris:20251202T230000
DTSTAMP:20260422T041742
CREATED:20251120T085541Z
LAST-MODIFIED:20251120T085541Z
UID:10001051-1764707400-1764716400@lemelville.fr
SUMMARY:Montegu Solo
DESCRIPTION:Gautier Montegu\, jeune prodige du jazz formé à l’IMEP et au Conservatoire de Paris\, nous enchante avec son amour pour les classiques du genre. De ballades émouvantes en swing envoûtant\, il brille par son talent et son élégance. Une vraie pépite musicale à découvrir ! 🎶✨ \nGautier Montegu est un jeune virtuose formé à l’IMEP (Paris College of Music) et au Conservatoire de Paris qui développe un goût immodéré pour une musique ancrée dans la tradition du jazz.   \nEntre ballades mélancoliques\, swing intime et Standards du Great American Song Book\, il navigue avec aisance et élégance !  \nGautier Montegu  : piano
URL:https://lemelville.fr/accueil/evenements/montegu-solo-6/
LOCATION:Le Melville\, 28 Rue Jean Mermoz\, Paris\, 75008\, France
CATEGORIES:Jazz Standard
ATTACH;FMTTYPE=image/png:https://lemelville.fr/wp-content/uploads/2025/11/Montegu-Solo-Affiche-NF-1.png
END:VEVENT
BEGIN:VEVENT
DTSTART;TZID=Europe/Paris:20251203T203000
DTEND;TZID=Europe/Paris:20251203T230000
DTSTAMP:20260422T041742
CREATED:20251116T121841Z
LAST-MODIFIED:20251116T121841Z
UID:10001040-1764793800-1764802800@lemelville.fr
SUMMARY:Melville Mode Swing !
DESCRIPTION:Venez vibrer au son envoûtant du violoniste Daniel John Martin et du guitariste Julien Cattiaux\, rejoints par le virtuose Eric Founier pour une soirée “En toute intimité” au Melville. Plongez dans l’univers acoustique de ce trio d’exception\, réunissant des talents de renommée mondiale. \nLe violoniste Daniel John Martin et le guitariste rythmique Julien Cattiaux invitent Adrien Moignard à les rejoindre « En toute intimité » pour une soirée exceptionnelle au Melville.\nCe trio vous offrira une séance de musique acoustique avec une proximité que seul le Melville peut offrir.\nEric Founier est un guitariste phare de sa génération. Dans la lignée directe de Django Reinhardt et Biréli Lagrène\, il est une influence majeure pour la nouvelle école héritière du Hot Club de France.\nRéservez vite pour un moment privilégié avec ces trois concertistes à rayonnement international ! \nDaniel John Martin : violon\nJulien  Cattiaux : guitare\nEric  Fournier  : guitare
URL:https://lemelville.fr/accueil/evenements/melville-mode-swing-3/
LOCATION:Le Melville\, 28 Rue Jean Mermoz\, Paris\, 75008\, France
CATEGORIES:Manouche,Swing
ATTACH;FMTTYPE=image/png:https://lemelville.fr/wp-content/uploads/2025/11/DJM-Melville-Mode-Swing-251203-Affiche-NF.png
END:VEVENT
BEGIN:VEVENT
DTSTART;TZID=Europe/Paris:20251204T203000
DTEND;TZID=Europe/Paris:20251204T230000
DTSTAMP:20260422T041742
CREATED:20251116T124014Z
LAST-MODIFIED:20251116T124014Z
UID:10001042-1764880200-1764889200@lemelville.fr
SUMMARY:Katerina Pipili 4tet
DESCRIPTION:Katerina\, passionnée de musique classique et de jazz\, crée un projet musical unique mêlant compositions originales et reprises. Son univers jazz teinté de créativité et d’interaction séduit par son mariage audacieux du classique et du moderne. 🎶 \nSon amour immense pour la musique\, combiné à sa formation en musique classique et jazz ainsi qu’à son expérience dans les concerts et performances\, donne naissance à un projet musical unique.\nKaterina propose des compositions originales et des reprises\, fortement influencées par l’univers du jazz.\nElle combine harmonieusement le "vieux" et le "nouveau"\, en mettant l’accent sur la créativité et l’interaction dans et avec la musique. \nKaterina Pipili : chant\nTommy Scott : piano\nGabriel Pierre : contrebasse\nGarcia Etoa Ottou : batterie
URL:https://lemelville.fr/accueil/evenements/katerina-pipili-4tet/
LOCATION:Le Melville\, 28 Rue Jean Mermoz\, Paris\, 75008\, France
CATEGORIES:Blues,Soul
ATTACH;FMTTYPE=image/png:https://lemelville.fr/wp-content/uploads/2025/11/Katerina-Pipili-4tet-Affiche-NF-1.png
END:VEVENT
BEGIN:VEVENT
DTSTART;TZID=Europe/Paris:20251205T210000
DTEND;TZID=Europe/Paris:20251205T233000
DTSTAMP:20260422T041742
CREATED:20251112T033115Z
LAST-MODIFIED:20251112T033115Z
UID:10001033-1764968400-1764977400@lemelville.fr
SUMMARY:Joan Minor Quartet
DESCRIPTION:Joan Minor\, chanteuse américaine à Paris\, forme un quartet de jazz/soul/blues avec 3 musiciens français talentueux. Leur authenticité musicale a conquis l’Europe\, l’Afrique et même New York ! Joan incarne le jazz américain avec une French Touch et une énergie brute\, captivant totalement son public. \nJoan Minor\, américaine vivant à Paris\, est accompagné de 3 musiciens français – Christian Duperray à la basse électrique et contrebasse\, Étienne Brachet à la batterie et Michael Dravigny aux claviers  –   et depuis plus 10 ans\, ce quartet de jazz/ soul/blues joue régulièrement en France\, ainsi qu’aux Etats Unis et en Afrique.   \nLe Joan Minor Quartet conjugue le style américain de Joan avec le talent d’un groupe de français. Grâce à un répertoire aux multiples facettes\, ils ont suscité l’enthousiasme de leur public en Europe comme en Afrique\, mais aussi à New York ! \nBasée à Paris\, Joan\, c’est l’authenticité du jazz américain mélangée à la French Touch de ses 3 musiciens français\, un son pur\, une musique « #nofilter » et une communion chaleureuse entre une artiste et son public. Elle se produit régulièrement dans sa deuxième maison – Las Vegas\, et tourne régulièrement pour le Département d’État américain en Afrique. \nJoan interprète toute la gamme du jazz\, de la soul et du blues\, dans son style énergétique et émotionnel inimitable : un son brut et non filtré unique. \nJoan Minor : chant\nChristian Duperray : contrebasse\nEtienne  Brachet  : batterie\nMichael Dravigny : piano
URL:https://lemelville.fr/accueil/evenements/joan-minor-quartet-3/
LOCATION:Le Melville\, 28 Rue Jean Mermoz\, Paris\, 75008\, France
CATEGORIES:Soul,Vocal Jazz
ATTACH;FMTTYPE=image/png:https://lemelville.fr/wp-content/uploads/2025/11/Joan-Minor-Quartet-Affiche-241122-1.png
END:VEVENT
BEGIN:VEVENT
DTSTART;TZID=Europe/Paris:20251206T210000
DTEND;TZID=Europe/Paris:20251206T233000
DTSTAMP:20260422T041742
CREATED:20251105T100847Z
LAST-MODIFIED:20251105T100847Z
UID:10001030-1765054800-1765063800@lemelville.fr
SUMMARY:Théodore Kuzma 4tet
DESCRIPTION:Le pianiste émergent Théodore revisite des standards avec son quartet explosif à Paris. Accompagné de Baptiste au saxo\, Slim à la contrebasse et Pierre-Eden à la batterie\, cette soirée s’annonce audacieuse et brillante. Une expérience musicale inoubliable en perspective ! \nThéodore est un jeune pianiste émergent sur la scène parisienne. Beaucoup influencé par Bud Powell ou encore Art Tatum\, il revisitera en quartet quelques standards. Accompagné ce soir par l’extraordinaire saxophoniste Baptiste Herbin\, Slim Chikhaoui à la contrebasse et PierreEden Guilbaud à la batterie\, ce quartet explosif nous promet une soirée audacieuse et brillante. \nThéodore Kuzma : piano\nBaptiste Herbin : sax\nSlim Chikhaoui : contrebasse\nPierreeden  Guilbaud  : batterie
URL:https://lemelville.fr/accueil/evenements/theodore-kuzma-4tet-2/
LOCATION:Le Melville\, 28 Rue Jean Mermoz\, Paris\, 75008\, France
CATEGORIES:Jazz Standard
ATTACH;FMTTYPE=image/png:https://lemelville.fr/wp-content/uploads/2025/11/Theodore-Kuzma-4tet-Affiche-NF.png
END:VEVENT
BEGIN:VEVENT
DTSTART;TZID=Europe/Paris:20251209T203000
DTEND;TZID=Europe/Paris:20251209T230000
DTSTAMP:20260422T041742
CREATED:20251112T183208Z
LAST-MODIFIED:20251112T183208Z
UID:10001039-1765312200-1765321200@lemelville.fr
SUMMARY:Noé Huchard Solo
DESCRIPTION:Noé Huchard\, jeune prodige du jazz français formé au CNSM de Paris\, rayonne avec ses performances aux côtés de grands noms comme Kurt Rosenwinkel. Couronné au Concours de piano Jazz Chorus\, présidé par Martial Solal\, il va enflammer nos oreilles avec la sortie imminente de son album “Young and Fine” \nNoé Huchard s’impose comme l’un des pianistes les plus prometteurs de la nouvelle génération du jazz français. Formé au CNSM de Paris\, il remporte en 2021 le Concours de piano Jazz Chorus à Lausanne\, présidé par Martial Solal. Il s’est produit aux côtés de musiciens tels que Kurt Rosenwinkel\, Rick Margitza ou Stéphane Belmondo.\nSon nouvel album Young and Fine paraîtra le 12 décembre 2025… dans 3 jours ! \nNoé Huchard : piano
URL:https://lemelville.fr/accueil/evenements/noe-huchard-solo/
LOCATION:Le Melville\, 28 Rue Jean Mermoz\, Paris\, 75008\, France
CATEGORIES:Jazz
ATTACH;FMTTYPE=image/png:https://lemelville.fr/wp-content/uploads/2025/11/Noe-Huchard-Solo-Affiche-NF.png
END:VEVENT
BEGIN:VEVENT
DTSTART;TZID=Europe/Paris:20251210T203000
DTEND;TZID=Europe/Paris:20251210T230000
DTSTAMP:20260422T041742
CREATED:20251112T173227Z
LAST-MODIFIED:20251112T173227Z
UID:10001037-1765398600-1765407600@lemelville.fr
SUMMARY:Square Noon
DESCRIPTION:Trois amis\, Alexandre\, Axel et Arlo\, enflamment le Melville avec leur jazz envoûtant. La complicité des musiciens de l’Imep est palpable\, transportant le public dans un univers vibrant. Alexandre au piano\, Axel à la batterie et Arlo à la basse forment un trio explosif à ne pas manquer ! \nTrois amis\, Alexandre\, Axel et Arlo\, enflamment le Melville avec leur musique jazz. La complicité de ces musiciens\, amis de l’Imep\, est palpable. Ensemble ils transportent dans un univers vibrant et plein d’enthousisame. Alexandre au piano\, Axel à la batterie et Arlo à la basse\, un trio explosif à découvrir ! \nAlexandre Lombard-Buffet : piano\nAxel Allwright : batterie\nArlo Lardé : contrebasse
URL:https://lemelville.fr/accueil/evenements/square-noon-33/
LOCATION:Le Melville\, 28 Rue Jean Mermoz\, Paris\, 75008\, France
CATEGORIES:Latin Jazz
ATTACH;FMTTYPE=image/png:https://lemelville.fr/wp-content/uploads/2025/11/Square-Noon-250625-Affiche-NF.png
END:VEVENT
BEGIN:VEVENT
DTSTART;TZID=Europe/Paris:20251211T203000
DTEND;TZID=Europe/Paris:20251211T230000
DTSTAMP:20260422T041742
CREATED:20251112T033039Z
LAST-MODIFIED:20251112T033039Z
UID:10001032-1765485000-1765494000@lemelville.fr
SUMMARY:Gashka
DESCRIPTION:Partez en voyage avec Gashka dans les Balkans sur des rythmes fous mêlant mélodies russes\, hongroises\, moldaves\, klezmers et tziganes. Un tourbillon musical joyeux et nostalgique qui va faire danser vos oreilles ! 🎶🌍💃 \nGashka vous invite à un voyage musical joyeux et nostalgique au cœur des Balkans\, sur des rythmes endiablés \, avec ses mélodies russes\, hongroises \, moldaves \, klezmers\, et bien sûr tziganes !  \nVelizar Assenov : violon\nHenry Kisiel : contrebasse\nGheorghe Ciumasu : accordéon
URL:https://lemelville.fr/accueil/evenements/gashka-4/
LOCATION:Le Melville\, 28 Rue Jean Mermoz\, Paris\, 75008\, France
CATEGORIES:Tzigane
ATTACH;FMTTYPE=image/png:https://lemelville.fr/wp-content/uploads/2025/11/Gashka-Trio-250410-Affiche-NF-1.png
END:VEVENT
BEGIN:VEVENT
DTSTART;TZID=Europe/Paris:20251212T210000
DTEND;TZID=Europe/Paris:20251212T233000
DTSTAMP:20260422T041742
CREATED:20251121T183954Z
LAST-MODIFIED:20251121T183954Z
UID:10001058-1765573200-1765582200@lemelville.fr
SUMMARY:Beatriz Occeas
DESCRIPTION:Véritable star du Venezuela\, Beatriz Occeas débarque de Caracas pour enflammer Paris au Melville. Sa voix puissante mêle “Black American Music” et sons caribéens avec une énergie captivante. Accompagnée de talentueux musiciens\, ce concert promet une explosion de soul\, de jazz et de VIE ! \nDirectement de Caracas\, Beatriz Occeas\, une des voix les plus importantes du Vénézuéla\, sera pour son premier soir à Paris au Melville.\nD’origine haïtienne\, fille d’un pasteur\, elle développe tôt une technique remarquable autour de la “Black American Music” et des classiques des Caraïbes avec un son unique et caractéristique\, une puissance vocale  et un swing saisissants.\nOn a pû notamment l’entendre avec le ‘Simon Bolivar jazz big band”\,  dans de multiples hommages à Nina Simone (et autres…) avec Laurent Lécuyer; ou avec le célèbre groupe A.H.S.\nSes performances\, à l’énergie contagieuse\, parcourent un répertoire soul\, caribéen \, ainsi que des standards d’Amérique latine et  jazz.\nElle sera accompagnée ce soir de  Laurent Lécuyer au piano qu’elle retrouve\, Jean-Christophe Raufaste à la basse et Christophe Bras à la batterie. \nBeatriz Occeas : chant\nLaurent Lecuyer : piano\nChristophe Bras : batterie\nJean Christophe Raufaste : basse
URL:https://lemelville.fr/accueil/evenements/beatriz-occeas/
LOCATION:Le Melville\, 28 Rue Jean Mermoz\, Paris\, 75008\, France
CATEGORIES:Groove,Jazz Standard
ATTACH;FMTTYPE=image/jpeg:https://lemelville.fr/wp-content/uploads/2025/11/Beatriz-Occeas-4tet.jpg
END:VEVENT
BEGIN:VEVENT
DTSTART;TZID=Europe/Paris:20251213T210000
DTEND;TZID=Europe/Paris:20251213T233000
DTSTAMP:20260422T041742
CREATED:20251117T120724Z
LAST-MODIFIED:20251117T120724Z
UID:10001043-1765659600-1765668600@lemelville.fr
SUMMARY:SWING THAT !
DESCRIPTION:De la Nouvelle-Orléans aux comédies musicales\, Swing That revisite les classiques du jazz avec passion. Des mélodies qui vous feront taper du pied et reprendre en chœur\, le tout pour vous faire swinguer lors des bals-swing à Paris. \nDe la Nouvelle-Orléans aux comédies musicales en passant par les succès de Nat King Cole ou de Benny Goodman\, on a tous quelque part en tête ces jolies mélodies qui nous font claquer des doigts et nous racontent de belles histoires.  \nSWING THAT rend hommage à ce répertoire\, en distillant avec amour une sélection d’airs in french ou en anglais qui vous ferons fredonner certains passages à coup sûr…  \n… et pourquoi pas danser puisque Swing That a aussi pour vocation d’accompagner les bals-swing\, redevenus très en vogue à Paris.  \nBilly  Collins : guitare\, chant\nHippolyte Fevre : trompette\, chant\nAmaury Faye : piano\nLeigh Barker : contrebasse
URL:https://lemelville.fr/accueil/evenements/swing-that-6/
LOCATION:Le Melville\, 28 Rue Jean Mermoz\, Paris\, 75008\, France
CATEGORIES:Swing
ATTACH;FMTTYPE=image/png:https://lemelville.fr/wp-content/uploads/2025/11/Swing-That-251213-Affiche-Nf.png
END:VEVENT
BEGIN:VEVENT
DTSTART;TZID=Europe/Paris:20251216T203000
DTEND;TZID=Europe/Paris:20251216T230000
DTSTAMP:20260422T041742
CREATED:20251112T033501Z
LAST-MODIFIED:20251112T033501Z
UID:10001034-1765917000-1765926000@lemelville.fr
SUMMARY:Sergio Gruz solo
DESCRIPTION:Sergio Cruz\, artiste argentin aux multiples talents : pianiste de jazz\, compositeur pour le théâtre\, la danse et le cinéma. Son répertoire mêle standards\, chansons sud-américaines et compositions originales. Une soirée envoûtante au Melville\, où le piano est roi ! 🎹🎶 \nArgentin\, pianiste de jazz\, compositeur\, créateur multiformes\, écrit des musiques pour le théâtre\, la danse et le cinéma. Le répertoire de Sergio Cruz se compose de standards de jazz\, chansons sud-américaines et compositions originales. Une soirée inoubliable au Melville… tout au piano ! \nSergio  Gruz  : piano
URL:https://lemelville.fr/accueil/evenements/sergio-gruz-solo-3/
LOCATION:Le Melville\, 28 Rue Jean Mermoz\, Paris\, 75008\, France
CATEGORIES:Jazz Standard
ATTACH;FMTTYPE=image/png:https://lemelville.fr/wp-content/uploads/2025/11/Sergio-Gruz-Solo-Affiche-NF.png
END:VEVENT
BEGIN:VEVENT
DTSTART;TZID=Europe/Paris:20251217T203000
DTEND;TZID=Europe/Paris:20251217T230000
DTSTAMP:20260422T041742
CREATED:20251120T085403Z
LAST-MODIFIED:20251120T085403Z
UID:10001049-1766003400-1766012400@lemelville.fr
SUMMARY:Anastasia 4tet
DESCRIPTION:Plonge dans l’univers envoûtant du quartet vocal guidé par la voix chaude d’Anastasia. Inspiré par le jazz du Great American Songbook\, le groupe revisite les standards avec créativité et modernité\, entre Ella Fitzgerald et Chet Baker. Un cocktail envoûtant d’énergie et d’intimité musicale. \nGuidé par la voix chaude et profonde d’Anastasia\, le quartet puise son inspiration\, son énergie et son intimité dans la tradition du jazz vocal et les textes envoutants du Great American Songbook. Avec des influences allant de Ella Fitzgerald à Samara Joy\, en passant par Chet Baker\, Sarah Vaughan ou Franck Sinatra\, les musiciens du quartet présentent des arrangements modernes de standards dans lesquels on reconnaît leur créativité et leur amour de l’orchestration. \nGautier Montegu  : piano\nGuillaume Leguerinel : batterie\nRayan Besançon  : contrebasse\nAnastasia Konstantinidou  : chant
URL:https://lemelville.fr/accueil/evenements/anastasia-4tet-3/
LOCATION:Le Melville\, 28 Rue Jean Mermoz\, Paris\, 75008\, France
CATEGORIES:Jazz,Soul
ATTACH;FMTTYPE=image/png:https://lemelville.fr/wp-content/uploads/2025/11/Anastasia-4tet-Affiche-NF-2.png
END:VEVENT
BEGIN:VEVENT
DTSTART;TZID=Europe/Paris:20251218T203000
DTEND;TZID=Europe/Paris:20251218T230000
DTSTAMP:20260422T041742
CREATED:20251124T161303Z
LAST-MODIFIED:20251124T161303Z
UID:10001059-1766089800-1766098800@lemelville.fr
SUMMARY:Gene\, you & us 4tet
DESCRIPTION:Gene Harris\, pianiste génial aux influences blues et gospel\, a marqué des décennies de jazz avec des trios inoubliables. Puissance et finesse se mélangent dans son jeu enivrant\, mêlant swing\, blues et funk. Installez-vous confortablement pour savourer son talent ! 🎹🎶 \nGene Harris\, immense pianiste actif des années 50 jusqu’à la fin des années 90 qui a œuvré notamment au cœur des trio « The Three Sounds »\, « Ray Brown’s Trio »…\nAvec d’un coté\, un jeu puissant\, rythmé\, marqué par le blues et le gospel\, et de l’autre\, la finesse et l’amour des belles harmonies et mélodies…\nSwing\, blues\, gospel\, groove\, funk… \nUne seule chose à dire « Sit back and relax !!! \nVincent Frade : batterie\nMichel  Pastre : piano\nRaphaël  Dever : contrebasse\nDrew Davies : sax
URL:https://lemelville.fr/accueil/evenements/gene-you-us-4tet-2/
LOCATION:Le Melville\, 28 Rue Jean Mermoz\, Paris\, 75008\, France
CATEGORIES:Jazz Standard
ATTACH;FMTTYPE=image/png:https://lemelville.fr/wp-content/uploads/2025/11/You-Gene-Us-Drew-Davies-Affiche-NF.png
END:VEVENT
BEGIN:VEVENT
DTSTART;TZID=Europe/Paris:20251219T210000
DTEND;TZID=Europe/Paris:20251219T233000
DTSTAMP:20260422T041742
CREATED:20251118T114624Z
LAST-MODIFIED:20251118T114624Z
UID:10001044-1766178000-1766187000@lemelville.fr
SUMMARY:Remi Toulon Trio
DESCRIPTION:Rémi Toulon\, pianiste et compositeur jazz hyperactif\, a secoué la scène avec plus de vingt albums et une énergie débordante. Avec son trio primé\, il a conquis festivals et clubs\, jonglant entre ses propres morceaux et des collaborations passionnantes. Un vituose ! \nRémi Toulon s’est frotté au Jazz sous toutes ses formes\, son insatiable appétit musical l’a amené à participer à plus d’une vingtaine d’albums et à multiplier les rencontres en tant que pianiste\, compositeur ou arrangeur. \nC’est en 2011 qu’il enregistre l’album NOVEMBRE et remporte avec son trio le 1er prix du trophée International d’orchestres organisé par le festival Jazz à Montauban. Le trio devient vite habitué des clubs et festivals\, en tant que groupe defendant sa propre musique ou en tant que rythmique au service de divers solistes ou chanteurs.\nL’album QUIETLY (2014)\, sélectionné par FIP et France Musique\, est salué dès sa sortie comme « Révélation » par Jazzman/Jazz magazine.\nAvec cette même rythmique\, plus soudée que jamais\, Rémi Toulon signe ADAGIORINHO (2017) et THE CRAVE (2022) qui explorent en quintet la frontière ténue entre le Jazz et ses musiques cousines du brésil et des Caraïbes. \nDistillant une musique généreuse avec un plaisir de jouer évident\, Rémi Toulon défend une musique à la fois personnelle et ancrée dans la grande tradition du Jazz.  \n“Rémi Toulon\, musicien français éclectique et surdoué.”\nFrance Musique  \n“Impossible de rester impassible devant un tel sens du swing\, devant une joie de jouer aussi débordante !”\nTSF JAZZ \n“Ils ont une façon\, par leurs arrangements\, de réinventer l’art du trio jazz à chaque morceau\, qui est tout à fait réjouissante.”\nJazzman/Jazzmag  \nRémi Toulon : piano\nVincent Frade : batterie\nMarc Bollengier : contrebasse
URL:https://lemelville.fr/accueil/evenements/remi-toulon-trio-6/
LOCATION:Le Melville\, 28 Rue Jean Mermoz\, Paris\, 75008\, France
CATEGORIES:Jazz,Jazz Standard
ATTACH;FMTTYPE=image/png:https://lemelville.fr/wp-content/uploads/2025/11/Remi-Toulon-trio-251219-Affiche-Nf.png
END:VEVENT
BEGIN:VEVENT
DTSTART;TZID=Europe/Paris:20251220T210000
DTEND;TZID=Europe/Paris:20251220T233000
DTSTAMP:20260422T041742
CREATED:20251112T034210Z
LAST-MODIFIED:20251112T034210Z
UID:10001035-1766264400-1766273400@lemelville.fr
SUMMARY:Atomic Cocktail
DESCRIPTION:Un cocktail explosif de swing\, Rhythm and Blues et Rock N Roll : The Atomic Cocktail ! Un mélange survolté qui va vous faire vibrer au rythme des meilleures notes musicales\, à consommer sans modération pour une ambiance enflammée! 🎶🍸🔥 \nUn zest de swing\, quelques gouttes de Rhythm and Blues et une bonne dose de Rock N Roll\, vous obtenez\, The Atomic Cocktail ! \nLucas Montagnier : guitare\, chant\nPascal Mucci : batterie\, chant\nJocelyn Prud’Hom  : contrebasse\, chant
URL:https://lemelville.fr/accueil/evenements/atomic-cocktail/
LOCATION:Le Melville\, 28 Rue Jean Mermoz\, Paris\, 75008\, France
CATEGORIES:Swing
ATTACH;FMTTYPE=image/png:https://lemelville.fr/wp-content/uploads/2025/11/Atomic-Cocktail-Affiche-NF.png
END:VEVENT
BEGIN:VEVENT
DTSTART;TZID=Europe/Paris:20251231T213000
DTEND;TZID=Europe/Paris:20260101T010000
DTSTAMP:20260422T041742
CREATED:20251023T144926Z
LAST-MODIFIED:20251023T150014Z
UID:10001028-1767216600-1767229200@lemelville.fr
SUMMARY:Nancy Murillo 4tet
DESCRIPTION:Nancy Murillo enflamme l’Europe avec sa musique latine depuis 1993. Héritière de Celia Cruz et La Lupe\, elle incarne la “Sonera Moderna” avec ses rythmes colombiens. Mélange explosif de tradition et de modernité\, elle promet une année 2026 haute en couleurs au Melville. \nDepuis son arrivée en Europe\, en 1993\, Nancy Murillo met le feu à toutes les scènes\, festivals et soirées de musiques latines où elle se produit. Inspirée par la reine de la salsa – Celia Cruz y la Lupe\, elle concrétise son caractère de « Sonera Moderna » en interprétant un vaste répertoire de musiques latines et de folklore traditionnel colombien. \nNancy nous fait l’honneur de sa présence pour célébrer la nouvelle année 2026 au Melville. \nQuelle joyeuse et festive perspective ! \nNancy Murillo : chant\nFrederic Locarni : piano\nJorge Andrade : congas\nNicola Anoyvega Mora N : sax\nOtto Paez : basse
URL:https://lemelville.fr/accueil/evenements/nancy-murillo-4tet-2/
LOCATION:Le Melville\, 28 Rue Jean Mermoz\, Paris\, 75008\, France
CATEGORIES:Latin Jazz
ATTACH;FMTTYPE=image/png:https://lemelville.fr/wp-content/uploads/2025/10/Nancy-Murillo-Quartet-Affiche-couleur-NF.png
END:VEVENT
END:VCALENDAR