BEGIN:VCALENDAR
VERSION:2.0
PRODID:-//Le Melville - ECPv6.15.17//NONSGML v1.0//EN
CALSCALE:GREGORIAN
METHOD:PUBLISH
X-WR-CALNAME:Le Melville
X-ORIGINAL-URL:https://lemelville.fr/accueil
X-WR-CALDESC:Évènements pour Le Melville
REFRESH-INTERVAL;VALUE=DURATION:PT1H
X-Robots-Tag:noindex
X-PUBLISHED-TTL:PT1H
BEGIN:VTIMEZONE
TZID:Europe/Paris
BEGIN:DAYLIGHT
TZOFFSETFROM:+0100
TZOFFSETTO:+0200
TZNAME:CEST
DTSTART:20250330T010000
END:DAYLIGHT
BEGIN:STANDARD
TZOFFSETFROM:+0200
TZOFFSETTO:+0100
TZNAME:CET
DTSTART:20251026T010000
END:STANDARD
BEGIN:DAYLIGHT
TZOFFSETFROM:+0100
TZOFFSETTO:+0200
TZNAME:CEST
DTSTART:20260329T010000
END:DAYLIGHT
BEGIN:STANDARD
TZOFFSETFROM:+0200
TZOFFSETTO:+0100
TZNAME:CET
DTSTART:20261025T010000
END:STANDARD
BEGIN:DAYLIGHT
TZOFFSETFROM:+0100
TZOFFSETTO:+0200
TZNAME:CEST
DTSTART:20270328T010000
END:DAYLIGHT
BEGIN:STANDARD
TZOFFSETFROM:+0200
TZOFFSETTO:+0100
TZNAME:CET
DTSTART:20271031T010000
END:STANDARD
END:VTIMEZONE
BEGIN:VEVENT
DTSTART;TZID=Europe/Paris:20260701T203000
DTEND;TZID=Europe/Paris:20260701T230000
DTSTAMP:20260422T023417
CREATED:20260421T152154Z
LAST-MODIFIED:20260421T152154Z
UID:10001222-1782937800-1782946800@lemelville.fr
SUMMARY:Alexis Valet invite Richard Sears
DESCRIPTION:Le vibraphoniste Alexis Valet s’associe au talentueux pianiste américain Richard Sears pour revisiter les standards du jazz. Un duo explosif à ne pas manquer ! \nLe Melville accueille le vibraphoniste Alexis Valet et son quartet d’exception ! Avec Malte Arndal à la batterie\, Luca Fattorini à la contrebasse\, et Richard Sears en invité spécial au piano\, attendez-vous à un show époustouflant mêlant standards du Great American Songbook et compositions originales. \nAlexis Valet : vibraphone\nRichard Sears : piano\nMalte Arndal : batterie\nLuca Fattorini  : basse
URL:https://lemelville.fr/accueil/evenements/alexis-valet-invite-richard-sears-3/
LOCATION:Le Melville\, 28 Rue Jean Mermoz\, Paris\, 75008\, France
CATEGORIES:Jazz Standard
ATTACH;FMTTYPE=image/png:https://lemelville.fr/wp-content/uploads/2026/04/Valet-Sears-260701-Affiche-NF-1.png
END:VEVENT
BEGIN:VEVENT
DTSTART;TZID=Europe/Paris:20260707T203000
DTEND;TZID=Europe/Paris:20260707T230000
DTSTAMP:20260422T023417
CREATED:20260421T151542Z
LAST-MODIFIED:20260421T151542Z
UID:10001220-1783456200-1783465200@lemelville.fr
SUMMARY:Anastasia 4tet
DESCRIPTION:Plongez dans l’univers envoûtant du quartet vocal guidé par la voix chaude d’Anastasia. Inspiré par le jazz du Great American Songbook\, le groupe revisite les standards avec créativité et modernité\, entre Ella Fitzgerald et Chet Baker. Un cocktail envoûtant d’énergie et d’intimité musicale. \nGuidé par la voix chaude et profonde d’Anastasia\, le quartet puise son inspiration\, son énergie et son intimité dans la tradition du jazz vocal et les textes envoutants du Great American Songbook. Avec des influences allant de Ella Fitzgerald à Samara Joy\, en passant par Chet Baker\, Sarah Vaughan ou Franck Sinatra\, les musiciens du quartet présentent des arrangements modernes de standards dans lesquels on reconnaît leur créativité et leur amour de l’orchestration. \nGautier Montegu  : piano\nRayan Besançon  : contrebasse\nAnastasia Konstantinidou  : chant\nPhilippe Maniez : batterie
URL:https://lemelville.fr/accueil/evenements/anastasia-4tet-5/
LOCATION:Le Melville\, 28 Rue Jean Mermoz\, Paris\, 75008\, France
CATEGORIES:Jazz,Soul
ATTACH;FMTTYPE=image/png:https://lemelville.fr/wp-content/uploads/2026/04/Anastasia-4tet-260707-Affiche-NF.png
END:VEVENT
BEGIN:VEVENT
DTSTART;TZID=Europe/Paris:20260708T203000
DTEND;TZID=Europe/Paris:20260708T230000
DTSTAMP:20260422T023417
CREATED:20260420T085723Z
LAST-MODIFIED:20260420T085723Z
UID:10001206-1783542600-1783551600@lemelville.fr
SUMMARY:Vik Sings The Blues
DESCRIPTION:Viktorija Gečytė\, finaliste du Concours International Sarah Vaughan\, se lance dans une aventure musicale passionnante avec son quartet. Du blues à vous donner des frissons en reprenant des légendes comme Billie Holiday et Nina Simone. Préparez-vous à vibrer au rythme de l’émotion authentique \nViktorija Gečytė\, finaliste du prestigieux Concours International Sarah Vaughan aux côtés de Samara Joy\, De la joie débridée à la mélancolie\, aucune autre forme de musique ne communique plus d’émotion authentique que le blues !  C’est cette émotion et que Viktorija Gečytė et son quartet international se proposent de partager avec vous au gré de leurs interprétations blues de Billie Holiday\, Nina Simone\, Thelonious Monk\, Sting\, Tom Waits\, James Taylor et d’autres.  \nViktorija Gecyte : chant\nYoan Fernandez : guitare\nPeter Giron : contrebasse\nMourad Benhammou : batterie
URL:https://lemelville.fr/accueil/evenements/vik-sings-the-blues-4/
LOCATION:Le Melville\, 28 Rue Jean Mermoz\, Paris\, 75008\, France
CATEGORIES:Blues,Vocal Jazz
ATTACH;FMTTYPE=image/png:https://lemelville.fr/wp-content/uploads/2026/04/Vik-sings-the-blues-Affiche-NF.png
END:VEVENT
BEGIN:VEVENT
DTSTART;TZID=Europe/Paris:20260714T203000
DTEND;TZID=Europe/Paris:20260714T230000
DTSTAMP:20260422T023417
CREATED:20260420T090007Z
LAST-MODIFIED:20260420T090007Z
UID:10001208-1784061000-1784070000@lemelville.fr
SUMMARY:Nancy Murillo 5tet
DESCRIPTION:Plongée dans l’univers musical en Colombie avant de conquérir l’Europe\, Nancy Murillo enflamme les festivals avec Rico Changuï et son titre de “Sonera Moderna”. Accompagnée de talents comme Frédéric\, Sébastien et Richard\, elle réinvente la salsa et le folklore colombien. 🎶 \nAprès des études de chant\, de danse et d’art dramatique et des collaborations avec les groupes Bahia et Azul Amazonas dans son pays natal la Colombie\, Nancy Murillo arrive en Europe en 1993 où elle met depuis le feu à de nombreux festivals et soirées de musiques latines. Avec sa formation Rico Changuï\, Nancu Murillo autant inspiré par la reine de la salsa Celia Cruz que par Lupe\, concrétise son caractère de « Sonera Moderna » en interprétant un vaste répertoire de musiques latines et de folklore traditionnel colombien. \nNancy  Murillo  : chant\nNicola Anoyvega : sax\nManuel ANOY : piano\nNicola Anoyvega : sax\nOttot Paez : basse
URL:https://lemelville.fr/accueil/evenements/nancy-murillo-5tet-3/
LOCATION:Le Melville\, 28 Rue Jean Mermoz\, Paris\, 75008\, France
CATEGORIES:Latin Jazz,Latin Salsa
ATTACH;FMTTYPE=image/png:https://lemelville.fr/wp-content/uploads/2026/04/Nancy-Murillo-Quartet-21-mars-NB-Affiche-NF-1.png
END:VEVENT
BEGIN:VEVENT
DTSTART;TZID=Europe/Paris:20260715T203000
DTEND;TZID=Europe/Paris:20260715T230000
DTSTAMP:20260422T023417
CREATED:20260420T085820Z
LAST-MODIFIED:20260420T085820Z
UID:10001207-1784147400-1784156400@lemelville.fr
SUMMARY:Ellen Birath et Matthieu Boré
DESCRIPTION:Un duo exceptionnel\, Matthieu Boré et Ellen Birath revisitent les classiques du jazz avec sensibilité et modernité. Boré\, le ‘French Crooner’\, rend le jazz populaire et abordable. Birath\, chanteuse suédoise envoûtante\, mêle swing\, blues et émotions avec une touche nordique unique.  \nMatthieu Boré et Ellen Birath nous entraînent dans une délicieuse soirée de standards\, voix contrebasse. Les crooner classique revisités par ce duo exceptionnel.  \nMatthieu Boré\, on l’appelle aussi le ‘French Crooner’ est chanteur\, pianiste et compositeur. Il démocratise le jazz\, le rendant à nouveau populaire\, abordable\, tout en demeurant de grande qualité et généreux. Mêlant les univers jazz\, rock\, blues\, il convoque les standards qu’il revisite avec une extrême sensibilité.  \nEllen Birath\, chanteuse de jazz suédoise\, enchante par sa voix envoûtante et sa présence captivante. Alliant swing\, blues et modernité\, elle explore des émotions universelles avec une touche nordique singulière. Sur scène\, son authenticité transporte le public dans un univers à la fois intime et vibrant.  \nMatthieu Bore : chant\nEllen Berge Birath : chant\nStephen Binet : piano\nAnne  Gouraud Shrestha : contrebasse\nVincent Touchard : batterie
URL:https://lemelville.fr/accueil/evenements/ellen-birath-et-matthieu-bore-4/
LOCATION:Le Melville\, 28 Rue Jean Mermoz\, Paris\, 75008\, France
CATEGORIES:Jazz Standard,Vocal Jazz
ATTACH;FMTTYPE=image/png:https://lemelville.fr/wp-content/uploads/2026/04/Helene-Birath-Matthieu-Bore-Affiche-NF.png
END:VEVENT
BEGIN:VEVENT
DTSTART;TZID=Europe/Paris:20260721T203000
DTEND;TZID=Europe/Paris:20260721T230000
DTSTAMP:20260422T023417
CREATED:20260421T161329Z
LAST-MODIFIED:20260421T161329Z
UID:10001223-1784665800-1784674800@lemelville.fr
SUMMARY:Estelle Perrault Trio
DESCRIPTION:Gianluca\, Gabriel et Estelle\, trio jazz parisien fusionnant groove\, RnB et folk avec passion. Ensemble depuis plus de 7 ans\, leur musique résonne d’authenticité et de sensibilité\, revisitant l’American Songbook. Une soirée en leur compagnie\, entre nostalgie douce et célébration de la musique intemporelle. \nGianluca Figliola (guitare)\, Gabriel Pierre (contrebasse) et Estelle Perrault (chant) forment un trio bien connu de la scène jazz parisienne. Musiciens passionnés\, ils collaborent depuis plus de sept ans autour de leur amour commun pour le jazz\, leur point de départ musical. Leur répertoire puise dans l’American Songbook\, en y ajoutant des influences groove\, RnB\, jazz et folk\, qu’ils interprètent avec sensibilité et authenticité. Une soirée pensée pour toucher les cœurs et évoquer une douce nostalgie\, tout en célébrant la richesse de cette musique intemporelle. \nEstelle Perrault : chant\nGianluca Figliola : guitare\nGabriel Pierre : contrebasse
URL:https://lemelville.fr/accueil/evenements/estelle-perrault-trio-2/
LOCATION:Le Melville\, 28 Rue Jean Mermoz\, Paris\, 75008\, France
CATEGORIES:Jazz Standard,Vocal Jazz
ATTACH;FMTTYPE=image/png:https://lemelville.fr/wp-content/uploads/2026/04/Estelle-Perrault-Trio-260721-NF-Affiche.png
END:VEVENT
BEGIN:VEVENT
DTSTART;TZID=Europe/Paris:20260722T203000
DTEND;TZID=Europe/Paris:20260722T230000
DTSTAMP:20260422T023417
CREATED:20260420T090926Z
LAST-MODIFIED:20260420T090926Z
UID:10001209-1784752200-1784761200@lemelville.fr
SUMMARY:Benhammou Aerts Marchioni Trio
DESCRIPTION:Un trio de choc dans la tradition du be bop ! Philippe Arts\, Mourad Benhammou et Oscar Marchioni pour un mélange de thèmes originaux et de grands classiques du Broadway song book. Classe et swing européen rencontrent la finesse et le style à l’italienne. Un voyage musical captivant à savourer ! \nL’ art du trio ! Dans la plus pure tradition des trios be bop des années 60 avec au répertoire des thèmes originaux mais aussi de grands standards des Broadway song book ! Classe\, finesse\, et swing pour ce New trio composé par la rythmique européenne (Philippe Arts et Mourad Benhammou) du grand ” Cyrus Chestnut” un autre passeur de la jazz tradition…\nEt aux côtés d’Oscar Marchioni\, musicien exceptionnel aux compositions très inspirées\, avec la classe et le swing à l’italienne…\nA découvrir de toute urgence \nMourad Benhammou : batterie\nOscar Marchioni : piano\nPhilippe Aerts : contrebasse
URL:https://lemelville.fr/accueil/evenements/benhammou-aerts-marchioni-trio/
LOCATION:Le Melville\, 28 Rue Jean Mermoz\, Paris\, 75008\, France
CATEGORIES:Jazz Standard
ATTACH;FMTTYPE=image/png:https://lemelville.fr/wp-content/uploads/2026/04/Benhammou-Aerts-Marchioni-Affiche-NF.png
END:VEVENT
BEGIN:VEVENT
DTSTART;TZID=Europe/Paris:20260728T203000
DTEND;TZID=Europe/Paris:20260728T230000
DTSTAMP:20260422T023417
CREATED:20260421T164135Z
LAST-MODIFIED:20260421T164135Z
UID:10001224-1785270600-1785279600@lemelville.fr
SUMMARY:Remi Toulon Trio
DESCRIPTION:Rémi Toulon\, pianiste et compositeur jazz hyperactif\, a secoué la scène avec plus de vingt albums et une énergie débordante. Avec son trio primé\, il a conquis festivals et clubs\, jonglant entre ses propres morceaux et des collaborations passionnantes. Un vituose ! \nRémi Toulon s’est frotté au Jazz sous toutes ses formes\, son insatiable appétit musical l’a amené à participer à plus d’une vingtaine d’albums et à multiplier les rencontres en tant que pianiste\, compositeur ou arrangeur. \nC’est en 2011 qu’il enregistre l’album NOVEMBRE et remporte avec son trio le 1er prix du trophée International d’orchestres organisé par le festival Jazz à Montauban. Le trio devient vite habitué des clubs et festivals\, en tant que groupe defendant sa propre musique ou en tant que rythmique au service de divers solistes ou chanteurs.\nL’album QUIETLY (2014)\, sélectionné par FIP et France Musique\, est salué dès sa sortie comme « Révélation » par Jazzman/Jazz magazine.\nAvec cette même rythmique\, plus soudée que jamais\, Rémi Toulon signe ADAGIORINHO (2017) et THE CRAVE (2022) qui explorent en quintet la frontière ténue entre le Jazz et ses musiques cousines du brésil et des Caraïbes. \nDistillant une musique généreuse avec un plaisir de jouer évident\, Rémi Toulon défend une musique à la fois personnelle et ancrée dans la grande tradition du Jazz.  \n“Rémi Toulon\, musicien français éclectique et surdoué.”\nFrance Musique  \n“Impossible de rester impassible devant un tel sens du swing\, devant une joie de jouer aussi débordante !”\nTSF JAZZ \n“Ils ont une façon\, par leurs arrangements\, de réinventer l’art du trio jazz à chaque morceau\, qui est tout à fait réjouissante.”\nJazzman/Jazzmag  \nRémi Toulon : piano\nJean-Baptiste Loutte : batterie\nBruno Rousselet : contrebasse
URL:https://lemelville.fr/accueil/evenements/remi-toulon-trio-7/
LOCATION:Le Melville\, 28 Rue Jean Mermoz\, Paris\, 75008\, France
CATEGORIES:Jazz
ATTACH;FMTTYPE=image/png:https://lemelville.fr/wp-content/uploads/2026/04/Remi-Toulon-trio-260728-Affiche-Nf.png
END:VEVENT
BEGIN:VEVENT
DTSTART;TZID=Europe/Paris:20260729T203000
DTEND;TZID=Europe/Paris:20260729T230000
DTSTAMP:20260422T023417
CREATED:20260421T165926Z
LAST-MODIFIED:20260421T165926Z
UID:10001225-1785357000-1785366000@lemelville.fr
SUMMARY:Victor Demange Trio
DESCRIPTION:Victor Demange\, virtuose du piano au style original\, brille sur la scène française. Avec des collaborations prestigieuses et son trio de choc\, il réveille le swing et le blues de la Nouvelle Orléans. De Chuck Berry à des réarrangements inattendus\, ce pianiste talentueux saura vous surprendre! \nVictor Demange est un pianiste virtuose au style original qui a su se faire une place sur la scène française. Régulièrement invité dans les festivals\, il compte plusieurs collaborations prestigieuses comme notamment Bob Baldori\, le pianiste qui a accompagné Chuck Berry pendant plus de 40 ans ou encore Fabrice Eulry\, pianiste français spécialiste du piano stride.\nAccompagné de ses deux musiciens de marque\, Mat Le Rouge au saxophone et Erik Maunoury à la batterie\, il propose un style swing\, boogie\, blues inspiré du vieux jazz de la Nouvelle Orléans. Il vous étonnera avec un répertoire varié allant de standards à des réarrangements de musique classique toujours dans un style de vieux jazz américain.  \nVictor Demange : piano\nMat Le Rouge : sax\nErik Maunoury : batterie
URL:https://lemelville.fr/accueil/evenements/victor-demange-trio-2/
LOCATION:Le Melville\, 28 Rue Jean Mermoz\, Paris\, 75008\, France
CATEGORIES:Boogie,Swing
ATTACH;FMTTYPE=image/png:https://lemelville.fr/wp-content/uploads/2026/04/Victor-Demange-Trio-260729-Affiche-NF.png
END:VEVENT
END:VCALENDAR